BEGIN:VCALENDAR
VERSION:2.0
PRODID:-//alterngestalten.de - ECPv6.8.3//NONSGML v1.0//EN
CALSCALE:GREGORIAN
METHOD:PUBLISH
X-WR-CALNAME:alterngestalten.de
X-ORIGINAL-URL:https://www.alterngestalten.de
X-WR-CALDESC:Veranstaltungen für alterngestalten.de
REFRESH-INTERVAL;VALUE=DURATION:PT1H
X-Robots-Tag:noindex
X-PUBLISHED-TTL:PT1H
BEGIN:VTIMEZONE
TZID:Europe/Berlin
BEGIN:DAYLIGHT
TZOFFSETFROM:+0100
TZOFFSETTO:+0200
TZNAME:CEST
DTSTART:20220327T010000
END:DAYLIGHT
BEGIN:STANDARD
TZOFFSETFROM:+0200
TZOFFSETTO:+0100
TZNAME:CET
DTSTART:20221030T010000
END:STANDARD
BEGIN:DAYLIGHT
TZOFFSETFROM:+0100
TZOFFSETTO:+0200
TZNAME:CEST
DTSTART:20230326T010000
END:DAYLIGHT
BEGIN:STANDARD
TZOFFSETFROM:+0200
TZOFFSETTO:+0100
TZNAME:CET
DTSTART:20231029T010000
END:STANDARD
END:VTIMEZONE
BEGIN:VEVENT
DTSTART;TZID=Europe/Berlin:20220330T173000
DTEND;TZID=Europe/Berlin:20220330T181500
DTSTAMP:20260423T040104
CREATED:20210908T082608Z
LAST-MODIFIED:20210908T082608Z
UID:1925-1648661400-1648664100@www.alterngestalten.de
SUMMARY:Kulturpate werden im Landkreis Hof
DESCRIPTION:Infoveranstaltung Online\nDie 45-minütige Informationsveranstaltung ist für Bürger*innen\, die sich für eine ehrenamtliche Tätigkeit als Kulturpate/Kulturpatin im Landkreis Hof  interessieren. Neben ersten Grundinformationen zum Ehrenamt stellen wir den Ablauf und die Inhalte der im April 2022 geplanten Online Schulung “zur Kulturpatin/ zum Kulturpaten” vor.\nSie haben die Möglichkeit\, individuelle Fragen einzubringen. Die Teilnahme an der Veranstaltung ist kostenfrei und unverbindlich. \nDie Veranstaltung findet online per ZOOM statt. Technische Voraussetzungen: Smartphone\, Tablet oder PC. Auch per Telefon ist eine Teilnahme möglich. Den Link zur Veranstaltung erhalten Sie nach der Buchung. \nBei Fragen steht Ihnen gerne im Vorfeld Frau Moritz (Koordinatorin für Seniorenangelegenheiten im Landkreis Hof ) telefonisch zur Verfügung: 09281 57-424 und informieren Sie sich auf der Homepage  \n\nLernen Sie dieses neue Engagement und das Projektteam kennen. Helfen Sie künftig mit\, dass der Besuch von Kulturveranstaltungen in Oberfranken auch im höheren Alter normal und möglich wird.\n\nWir freuen uns auf Sie! \nSandra Wolf (Demografie Kompetenzzentrum Oberfranken)\nLisa-Maria Moritz (Landratsamt Hof)\nSabine L. Distler (Curatorium Altern gestalten) \nDownload: Flyer für Kulturpaten im Landkreis Hof  \nDownload Flyer für Kulturgäste im Landkreis Hof \n\n\n\n     Für die Infoveranstaltung anmeldenMehr dazu: Demografie OberfrankenMehr dazu: Landratsamt Hof
URL:https://www.alterngestalten.de/event/infohof1-3-2-2/
LOCATION:Digital in ZOOM\, Deutschland
CATEGORIES:ALLE PROJEKTE,KUNST & KULTUR
ATTACH;FMTTYPE=image/jpeg:https://www.alterngestalten.de/wp-content/uploads/2021/09/Silberfilm_21-09-23_67A8628-scaled.jpg
ORGANIZER;CN="Demografie Kompetenzzentrum Oberfranken":MAILTO:info@demografie-oberfranken.de
END:VEVENT
BEGIN:VEVENT
DTSTART;TZID=Europe/Berlin:20220407T173000
DTEND;TZID=Europe/Berlin:20220407T181500
DTSTAMP:20260423T040104
CREATED:20210908T082608Z
LAST-MODIFIED:20220324T160030Z
UID:1479-1649352600-1649355300@www.alterngestalten.de
SUMMARY:Kulturpate werden im Landkreis Hof
DESCRIPTION:Infoveranstaltung Online\nDie 45-minütige Informationsveranstaltung ist für Bürger*innen\, die sich für eine ehrenamtliche Tätigkeit als Kulturpate/Kulturpatin im Landkreis Hof  interessieren. Neben ersten Grundinformationen zum Ehrenamt stellen wir den Ablauf und die Inhalte der im April 2022 geplanten Online Schulung “zur Kulturpatin/ zum Kulturpaten” vor.\nSie haben die Möglichkeit\, individuelle Fragen einzubringen. Die Teilnahme an der Veranstaltung ist kostenfrei und unverbindlich. \nDie Veranstaltung findet online per ZOOM statt. Technische Voraussetzungen: Smartphone\, Tablet oder PC. Auch per Telefon ist eine Teilnahme möglich. Den Link zur Veranstaltung erhalten Sie nach der Buchung. \nBei Fragen steht Ihnen gerne im Vorfeld Frau Moritz (Koordinatorin für Seniorenangelegenheiten im Landkreis Hof ) telefonisch zur Verfügung: 09281 57-424 und informieren Sie sich auf der Homepage  \n\nLernen Sie dieses neue Engagement und das Projektteam kennen. Helfen Sie künftig mit\, dass der Besuch von Kulturveranstaltungen in Oberfranken auch im höheren Alter normal und möglich wird.\n\nWir freuen uns auf Sie! \nSandra Wolf (Demografie Kompetenzzentrum Oberfranken)\nLisa-Maria Moritz (Landratsamt Hof)\nSabine L. Distler (Curatorium Altern gestalten) \nDownload: Flyer für Kulturpaten im Landkreis Hof  \nDownload Flyer für Kulturgäste im Landkreis Hof \n\n\n\n     Für die Infoveranstaltung anmeldenMehr dazu: Demografie OberfrankenMehr dazu: Landratsamt Hof
URL:https://www.alterngestalten.de/event/infohof2-3/
LOCATION:Digital in ZOOM\, Deutschland
CATEGORIES:ALLE PROJEKTE,KUNST & KULTUR
ATTACH;FMTTYPE=image/jpeg:https://www.alterngestalten.de/wp-content/uploads/2021/09/Silberfilm_21-09-23_67A8628-scaled.jpg
ORGANIZER;CN="Demografie Kompetenzzentrum Oberfranken":MAILTO:info@demografie-oberfranken.de
END:VEVENT
BEGIN:VEVENT
DTSTART;TZID=Europe/Berlin:20220421T173000
DTEND;TZID=Europe/Berlin:20220421T181500
DTSTAMP:20260423T040104
CREATED:20210908T082608Z
LAST-MODIFIED:20220324T160331Z
UID:1923-1650562200-1650564900@www.alterngestalten.de
SUMMARY:Kulturpate werden im Landkreis Hof
DESCRIPTION:Infoveranstaltung Online\nDie 45-minütige Informationsveranstaltung ist für Bürger*innen\, die sich für eine ehrenamtliche Tätigkeit als Kulturpate/Kulturpatin im Landkreis Hof  interessieren. Neben ersten Grundinformationen zum Ehrenamt stellen wir den Ablauf und die Inhalte der im April 2022 geplanten Online Schulung “zur Kulturpatin/ zum Kulturpaten” vor.\nSie haben die Möglichkeit\, individuelle Fragen einzubringen. Die Teilnahme an der Veranstaltung ist kostenfrei und unverbindlich. \nDie Veranstaltung findet online per ZOOM statt. Technische Voraussetzungen: Smartphone\, Tablet oder PC. Auch per Telefon ist eine Teilnahme möglich. Den Link zur Veranstaltung erhalten Sie nach der Buchung. \nBei Fragen steht Ihnen gerne im Vorfeld Frau Moritz (Koordinatorin für Seniorenangelegenheiten im Landkreis Hof ) telefonisch zur Verfügung: 09281 57-424 und informieren Sie sich auf der Homepage  \n\nLernen Sie dieses neue Engagement und das Projektteam kennen. Helfen Sie künftig mit\, dass der Besuch von Kulturveranstaltungen in Oberfranken auch im höheren Alter normal und möglich wird.\n\nWir freuen uns auf Sie! \nSandra Wolf (Demografie Kompetenzzentrum Oberfranken)\nLisa-Maria Moritz (Landratsamt Hof)\nSabine L. Distler (Curatorium Altern gestalten) \nDownload: Flyer für Kulturpaten im Landkreis Hof  \nDownload Flyer für Kulturgäste im Landkreis Hof \n\n\n\n     Für die Infoveranstaltung anmeldenMehr dazu: Demografie OberfrankenMehr dazu: Landratsamt Hof
URL:https://www.alterngestalten.de/event/infohof3-3/
LOCATION:Digital in ZOOM\, Deutschland
CATEGORIES:ALLE PROJEKTE,KUNST & KULTUR
ATTACH;FMTTYPE=image/jpeg:https://www.alterngestalten.de/wp-content/uploads/2021/09/Silberfilm_21-09-23_67A8628-scaled.jpg
ORGANIZER;CN="Demografie Kompetenzzentrum Oberfranken":MAILTO:info@demografie-oberfranken.de
END:VEVENT
BEGIN:VEVENT
DTSTART;TZID=Europe/Berlin:20221215T180000
DTEND;TZID=Europe/Berlin:20221215T184500
DTSTAMP:20260423T040104
CREATED:20210908T082608Z
LAST-MODIFIED:20221108T120052Z
UID:3027-1671127200-1671129900@www.alterngestalten.de
SUMMARY:Kulturpatin/Kulturpate werden im Landkreis Wunsiedel im Fichtelgebirge
DESCRIPTION:Infoveranstaltung im Landratsamt Wunsiedel im Fichtelgebirge\nDie 45-minütige Informationsveranstaltung ist für Bürger*innen\, die sich für eine ehrenamtliche Tätigkeit als Kulturpate/Kulturpatin im Landkreis Wunsiedel im Fichtelgebirge interessieren. Neben ersten Grundinformationen zum Ehrenamt stellen wir den Ablauf und die Inhalte der im Jan./Febr. 2023  geplanten Online Schulung “zur Kulturpatin/ zum Kulturpaten” vor.\nSie haben die Möglichkeit\, individuelle Fragen einzubringen. Die Teilnahme an der Veranstaltung ist unverbindlich und findet im Landratsamt Wunsiedel statt. \n\n\n\n  Bei Fragen steht Ihnen gerne im Vorfeld Frau Golly (Freiwilligenmanagerin im Landratsamt Wunsiedel) telefonisch zur Verfügung: 09232 80-449 oder per Mail: elisabeth.golly@landkreis-wunsiedel.de \nIn Kooperation mit:     Mehr dazu: Landratsamt Wunsiedel i. FichtelgebirgeMehr dazu: Demografie Kompetenzzentrum Oberfranken
URL:https://www.alterngestalten.de/event/infowunsiedel-1/
LOCATION:Landramtsamt Wunsiedel\, Jean-Paul-Straße\, Wunsiedel\, 95632
CATEGORIES:ALLE PROJEKTE,KUNST & KULTUR
ATTACH;FMTTYPE=image/png:https://www.alterngestalten.de/wp-content/uploads/2021/09/Kachel_Web_Info.png
ORGANIZER;CN="Demografie Kompetenzzentrum Oberfranken":MAILTO:info@demografie-oberfranken.de
END:VEVENT
BEGIN:VEVENT
DTSTART;TZID=Europe/Berlin:20221221T180000
DTEND;TZID=Europe/Berlin:20221221T184500
DTSTAMP:20260423T040104
CREATED:20210908T082608Z
LAST-MODIFIED:20221108T120009Z
UID:3019-1671645600-1671648300@www.alterngestalten.de
SUMMARY:Kulturpatin/Kulturpate werden im Landkreis Wunsiedel im Fichtelgebirge
DESCRIPTION:Infoveranstaltung Online\nDie 45-minütige Informationsveranstaltung ist für Bürger*innen\, die sich für eine ehrenamtliche Tätigkeit als Kulturpate/Kulturpatin im Landkreis Wunsiedel im Fichtelgebirge interessieren. Neben ersten Grundinformationen zum Ehrenamt stellen wir den Ablauf und die Inhalte der im Jan./Febr. 2023  geplanten Online Schulung “zur Kulturpatin/ zum Kulturpaten” vor.\nSie haben die Möglichkeit\, individuelle Fragen einzubringen. Die Teilnahme an der Veranstaltung ist kostenfrei und unverbindlich. \nDie Veranstaltung findet online per ZOOM statt. Technische Voraussetzungen: Smartphone\, Tablet oder PC. Auch per Telefon ist eine Teilnahme möglich. Den Link zur Veranstaltung erhalten Sie nach der Buchung. \n\n\n\n  Bei Fragen steht Ihnen gerne im Vorfeld Frau Golly (Freiwilligenmanagerin im Landratsamt Wunsiedel) telefonisch zur Verfügung: 09232 80-449 oder per Mail: elisabeth.golly@landkreis-wunsiedel.de \nIn Kooperation mit:     Mehr dazu: Landratsamt Wunsiedel i. FichtelgebirgeMehr dazu: Demografie Kompetenzzentrum Oberfranken
URL:https://www.alterngestalten.de/event/infowunsiedel-2/
LOCATION:Digital in ZOOM\, Deutschland
CATEGORIES:ALLE PROJEKTE,KUNST & KULTUR
ATTACH;FMTTYPE=image/png:https://www.alterngestalten.de/wp-content/uploads/2021/09/Kachel_Web_Info.png
ORGANIZER;CN="Demografie Kompetenzzentrum Oberfranken":MAILTO:info@demografie-oberfranken.de
END:VEVENT
BEGIN:VEVENT
DTSTART;TZID=Europe/Berlin:20230111T180000
DTEND;TZID=Europe/Berlin:20230111T184500
DTSTAMP:20260423T040104
CREATED:20210908T082608Z
LAST-MODIFIED:20221108T115929Z
UID:3025-1673460000-1673462700@www.alterngestalten.de
SUMMARY:Kulturpatin/Kulturpate werden im Landkreis Wunsiedel im Fichtelgebirge
DESCRIPTION:Infoveranstaltung Online\nDie 45-minütige Informationsveranstaltung ist für Bürger*innen\, die sich für eine ehrenamtliche Tätigkeit als Kulturpate/Kulturpatin im Landkreis Wunsiedel im Fichtelgebirge interessieren. Neben ersten Grundinformationen zum Ehrenamt stellen wir den Ablauf und die Inhalte der im Jan./Febr. 2023  geplanten Online Schulung “zur Kulturpatin/ zum Kulturpaten” vor.\nSie haben die Möglichkeit\, individuelle Fragen einzubringen. Die Teilnahme an der Veranstaltung ist kostenfrei und unverbindlich. \nDie Veranstaltung findet online per ZOOM statt. Technische Voraussetzungen: Smartphone\, Tablet oder PC. Auch per Telefon ist eine Teilnahme möglich. Den Link zur Veranstaltung erhalten Sie nach der Buchung. \n\n\n\n  Bei Fragen steht Ihnen gerne im Vorfeld Frau Golly (Freiwilligenmanagerin im Landratsamt Wunsiedel) telefonisch zur Verfügung: 09232 80-449 oder per Mail: elisabeth.golly@landkreis-wunsiedel.de \nIn Kooperation mit:     Mehr dazu: Landratsamt Wunsiedel i. FichtelgebirgeMehr dazu: Demografie Kompetenzzentrum Oberfranken
URL:https://www.alterngestalten.de/event/infowunsiedel-3/
LOCATION:Digital in ZOOM\, Deutschland
CATEGORIES:ALLE PROJEKTE,KUNST & KULTUR
ATTACH;FMTTYPE=image/png:https://www.alterngestalten.de/wp-content/uploads/2021/09/Kachel_Web_Info.png
ORGANIZER;CN="Demografie Kompetenzzentrum Oberfranken":MAILTO:info@demografie-oberfranken.de
END:VEVENT
BEGIN:VEVENT
DTSTART;TZID=Europe/Berlin:20230309T163000
DTEND;TZID=Europe/Berlin:20230309T173000
DTSTAMP:20260423T040104
CREATED:20210908T082608Z
LAST-MODIFIED:20230220T184957Z
UID:3188-1678379400-1678383000@www.alterngestalten.de
SUMMARY:Infoveranstaltung - Kulturpatenschaften in Fürth
DESCRIPTION:„Kultur verbindet Menschen mit und ohne Demenz“ heißt das neue Fürther Programm des Projektbüros IGS  und wird als eine lokale Allianz für Menschen mit Demenz vom Bundesministerium für Familie\, Senioren\, Frauen und Jugend gefördert. Die Idee dahinter: Kulturpaten und -patinnen aus Fürth  begleiten auf Wunsch ältere Menschen zu Kulturveranstaltungen und fördern damit das gesellschaftliche Miteinander in der Region. \nWer gerne auf diese Weise die gesellschaftliche Teilhabe von älteren Menschen verbessern möchte und Freude am persönlichen Austausch und Kennenlernen hat\, ist mit diesem Engagement genau richtig! Die Zeiteinteilung ist zudem ganz flexibel. \nDie Informationsveranstaltung ist für Bürger*innen\, die sich für eine ehrenamtliche Tätigkeit als Kulturpate/Kulturpatin in Fürth interessieren. Neben ersten Grundinformationen zum Ehrenamt stellen wir den Ablauf und die Inhalte der im April 2023  geplanten Online Schulung “zur Kulturpatin/ zum Kulturpaten” vor. Sie haben die Möglichkeit\, individuelle Fragen einzubringen. Die Teilnahme an der Veranstaltung ist kostenfrei und unverbindlich. \nDie Weiterbildungsmodule für die künftigen Kulturpatinnen und Kulturpaten werden als Online-Seminar vom Schulungsträger Curatorium Altern gestalten vermittelt und zwar mit insgesamt 4 x 2\,5-stündigen Seminarblöcken ab April 2023. \nBei Fragen steht Ihnen gerne im Vorfeld Frau Eva Göttlein & Frau Gisela Schiller telefonisch zur Verfügung: 0178-2016956 oder 0173-6001073 oder per Mail: kontakt@projektbuero-igs.de \nDie Informationsveranstaltung findet am 9.3.2023\, 16.30 – 17.30 Uhr im Technischen Rathaus\, Hirschenstraße 2\, 90762 Fürth statt. Melden Sie gerne gleich hier unverbindlich an. Sie haben die Möglichkeit\, individuelle Fragen einzubringen. Die Teilnahme an der Veranstaltung ist kostenfrei und unverbindlich. \n\n\n\n   Flyer InfoveranstaltungenFlyer KulturpatenschaftenFlyer für KulturgästeIn Kooperation mit dem Projektträger: gefördert von:
URL:https://www.alterngestalten.de/event/fuerth-1/
LOCATION:Technisches Rathaus Fürth\, Hirschenstraße 2\, Fürth\, 90762\, Deutschland
CATEGORIES:ALLE PROJEKTE,KUNST & KULTUR
ATTACH;FMTTYPE=image/png:https://www.alterngestalten.de/wp-content/uploads/2023/02/Fuerth_Kachel.png
ORGANIZER;CN="Curatorium Altern gestalten":MAILTO:info@alterngestalten.de
END:VEVENT
BEGIN:VEVENT
DTSTART;TZID=Europe/Berlin:20230329T173000
DTEND;TZID=Europe/Berlin:20230329T181500
DTSTAMP:20260423T040104
CREATED:20210908T082608Z
LAST-MODIFIED:20230220T185233Z
UID:3212-1680111000-1680113700@www.alterngestalten.de
SUMMARY:Infoveranstaltung - Kulturpatenschaften in Fürth
DESCRIPTION:„Kultur verbindet Menschen mit und ohne Demenz“ heißt das neue Fürther Programm des Projektbüros IGS  und wird als eine lokale Allianz für Menschen mit Demenz vom Bundesministerium für Familie\, Senioren\, Frauen und Jugend gefördert. Die Idee dahinter: Kulturpaten und -patinnen aus Fürth  begleiten auf Wunsch ältere Menschen zu Kulturveranstaltungen und fördern damit das gesellschaftliche Miteinander in der Region.  \nWer gerne auf diese Weise die gesellschaftliche Teilhabe von älteren Menschen verbessern möchte und Freude am persönlichen Austausch und Kennenlernen hat\, ist mit diesem Engagement genau richtig! Die Zeiteinteilung ist zudem ganz flexibel.  \nDie Weiterbildungsmodule für die künftigen Kulturpatinnen und Kulturpaten werden als Online-Seminar vom Schulungsträger Curatorium Altern gestalten vermittelt und zwar mit insgesamt 4 x 2\,5-stündigen Seminarblöcken ab April 2023. \nDie Informationsveranstaltung ist für Bürger*innen\, die sich für eine ehrenamtliche Tätigkeit als Kulturpate/Kulturpatin in Fürth interessieren. Neben ersten Grundinformationen zum Ehrenamt stellen wir den Ablauf und die Inhalte der im April 2023  geplanten Online Schulung “zur Kulturpatin/ zum Kulturpaten” vor. Sie haben die Möglichkeit\, individuelle Fragen einzubringen. Die Teilnahme an der Veranstaltung ist kostenfrei und unverbindlich. \nDie Infoveranstaltung findet am 29.3.2023\, von 17.30 – 18.15 Uhr online per ZOOM statt. Technische Voraussetzungen: Smartphone\, Tablet oder PC. Auch per Telefon ist eine Teilnahme möglich. Den Link zur Veranstaltung erhalten Sie nach der Buchung.  \nBei Fragen steht Ihnen gerne im Vorfeld Frau Eva Göttlein & Frau Gisela Schiller telefonisch zur Verfügung: 0178-2016956 oder 0173-6001073 oder per Mail: kontakt@projektbuero-igs.de \n\n\n\n  Flyer InfoveranstaltungenFlyer KulturpatenschaftenFlyer für KulturgästeIn Kooperation mit dem Projektträger: gefördert von:
URL:https://www.alterngestalten.de/event/fuerth-2/
LOCATION:Digital in ZOOM\, Deutschland
CATEGORIES:ALLE PROJEKTE,KUNST & KULTUR
ATTACH;FMTTYPE=image/png:https://www.alterngestalten.de/wp-content/uploads/2023/02/Fuerth_Kachel.png
ORGANIZER;CN="Curatorium Altern gestalten":MAILTO:info@alterngestalten.de
END:VEVENT
BEGIN:VEVENT
DTSTART;TZID=Europe/Berlin:20230418T180000
DTEND;TZID=Europe/Berlin:20230418T184500
DTSTAMP:20260423T040104
CREATED:20210908T082608Z
LAST-MODIFIED:20230220T184358Z
UID:3285-1681840800-1681843500@www.alterngestalten.de
SUMMARY:Infoveranstaltung - Kulturpatenschaften im Landkreis Forchheim
DESCRIPTION:„Gemeinsam der Kultur auf der Spur“ heißt ein neues Projekt\, das der Landkreis Forchheim und die VHS vor Ort begleitet. Initiiert und gefördert wird das Projekt vom Demografie-Kompetenzzentrum Oberfranken. Die Idee dahinter: Kulturpaten und -patinnen aus dem Landkreis Forchheim begleiten auf Wunsch ältere Menschen zu Kulturveranstaltungen und fördern damit das gesellschaftliche Miteinander in der Region.  \nWer gerne auf diese Weise die gesellschaftliche Teilhabe von Senioren verbessern möchte und Freude am persönlichen Austausch und Kennenlernen hat\, ist mit diesem Engagement genau richtig! Die Zeiteinteilung ist zudem ganz flexibel.  \nDie Weiterbildungsmodule für die künftigen Kulturpatinnen und Kulturpaten werden als Online-Seminar vom Schulungsträger Curatorium Altern gestalten vermittelt und zwar mit insgesamt fünf 2\,5-stündigen Seminarblöcken ab Mai 2023. \nInformationsveranstaltungen \nNähere Infos zum Ehrenamt und zu den Inhalten der Online-Weiterbildung gibt es am 25.4.2023\, 17.30- 18.15 Uhr im Sitzungssaal des Rathaus Obertrubach\, Teichstraße 5\, 91286 Obertrubach. \nNeben diesem Termin vor Ort sind folgende Infoveranstaltungen online geplant: 18.4.2023 (18.00 – 18.45 Uhr)\, 21.4.2023 (16.00 – 16.45 Uhr) oder 27.4.2023 (18.00–18.45 Uhr). \nSie haben die Möglichkeit\, individuelle Fragen bei den Veranstaltungen einzubringen. Die Teilnahme bei einer Veranstaltung ist unverbindlich. \nHaben Sie Interesse\, Kulturpatin oder Kulturpate zu werden? Dann melden Sie sich beim VHS-Zentrum Forchheim\, Tel. 09191/86-1060\, per E-Mail kontakt@vhs-forchheim.de\, Sie können sich auch gerne Online anmelden: www.vhs-forchheim.de (Suche nach „Kulturpaten“).  \n\n\n\nFlyer für Kulturpaten/-patinnenFlyer für Gäste In Kooperation mit dem Projektträger:  Landkreis Forchheim
URL:https://www.alterngestalten.de/event/forchheim-1/
LOCATION:Digital in ZOOM\, Deutschland
CATEGORIES:ALLE PROJEKTE,KUNST & KULTUR
ATTACH;FMTTYPE=image/png:https://www.alterngestalten.de/wp-content/uploads/2023/02/Forchheim-Kachel.png
ORGANIZER;CN="Demografie Kompetenzzentrum Oberfranken":MAILTO:info@demografie-oberfranken.de
END:VEVENT
BEGIN:VEVENT
DTSTART;TZID=Europe/Berlin:20230421T160000
DTEND;TZID=Europe/Berlin:20230421T164500
DTSTAMP:20260423T040105
CREATED:20210908T082608Z
LAST-MODIFIED:20230220T182104Z
UID:3289-1682092800-1682095500@www.alterngestalten.de
SUMMARY:Infoveranstaltung - Kulturpatenschaften im Landkreis Forchheim
DESCRIPTION:„Gemeinsam der Kultur auf der Spur“ heißt ein neues Projekt\, das der Landkreis Forchheim und die VHS vor Ort begleitet. Initiiert und gefördert wird das Projekt vom Demografie-Kompetenzzentrum Oberfranken. Die Idee dahinter: Kulturpaten und -patinnen aus dem Landkreis Forchheim begleiten auf Wunsch ältere Menschen zu Kulturveranstaltungen und fördern damit das gesellschaftliche Miteinander in der Region.  \nWer gerne auf diese Weise die gesellschaftliche Teilhabe von Senioren verbessern möchte und Freude am persönlichen Austausch und Kennenlernen hat\, ist mit diesem Engagement genau richtig! Die Zeiteinteilung ist zudem ganz flexibel.  \nDie Weiterbildungsmodule für die künftigen Kulturpatinnen und Kulturpaten werden als Online-Seminar vom Schulungsträger Curatorium Altern gestalten vermittelt und zwar mit insgesamt fünf 2\,5-stündigen Seminarblöcken ab Mai 2023. \nInformationsveranstaltungen \nNähere Infos zum Ehrenamt und zu den Inhalten der Online-Weiterbildung gibt es am 25.4.2023\, 17.30- 18.15 Uhr im Sitzungssaal des Rathaus Obertrubach\, Teichstraße 5\, 91286 Obertrubach. \nNeben diesem Termin vor Ort sind folgende Infoveranstaltungen online geplant: 18.4.2023 (18.00 – 18.45 Uhr)\, 21.4.2023 (16.00 – 16.45 Uhr) oder 27.4.2023 (18.00–18.45 Uhr).  \nSie haben die Möglichkeit\, individuelle Fragen bei den Veranstaltungen einzubringen. Die Teilnahme bei einer Veranstaltung ist unverbindlich. \nHaben Sie Interesse\, Kulturpatin oder Kulturpate zu werden? Dann melden Sie sich beim VHS-Zentrum Forchheim\, Tel. 09191/86-1060\, per E-Mail kontakt@vhs-forchheim.de\, Sie können sich auch gerne Online anmelden: www.vhs-forchheim.de (Suche nach „Kulturpaten“).  \n\n\n\nFlyer für Kulturpaten/-patinnenFlyer für Gäste In Kooperation mit dem Projektträger:  Landkreis Forchheim
URL:https://www.alterngestalten.de/event/forchheim-2/
LOCATION:Digital in ZOOM\, Deutschland
CATEGORIES:ALLE PROJEKTE,KUNST & KULTUR
ATTACH;FMTTYPE=image/png:https://www.alterngestalten.de/wp-content/uploads/2023/02/Forchheim-Kachel.png
ORGANIZER;CN="Demografie Kompetenzzentrum Oberfranken":MAILTO:info@demografie-oberfranken.de
END:VEVENT
BEGIN:VEVENT
DTSTART;TZID=Europe/Berlin:20230425T173000
DTEND;TZID=Europe/Berlin:20230425T183000
DTSTAMP:20260423T040105
CREATED:20210908T082608Z
LAST-MODIFIED:20230220T184232Z
UID:3218-1682443800-1682447400@www.alterngestalten.de
SUMMARY:Infoveranstaltung - Kulturpatenschaften im Landkreis Forchheim
DESCRIPTION:„Gemeinsam der Kultur auf der Spur“ heißt ein neues Projekt\, das der Landkreis Forchheim und die VHS vor Ort begleitet. Initiiert und gefördert wird das Projekt vom Demografie-Kompetenzzentrum Oberfranken. Die Idee dahinter: Kulturpaten und -patinnen aus dem Landkreis Forchheim begleiten auf Wunsch ältere Menschen zu Kulturveranstaltungen und fördern damit das gesellschaftliche Miteinander in der Region.  \nWer gerne auf diese Weise die gesellschaftliche Teilhabe von Senioren verbessern möchte und Freude am persönlichen Austausch und Kennenlernen hat\, ist mit diesem Engagement genau richtig! Die Zeiteinteilung ist zudem ganz flexibel.  \nDie Weiterbildungsmodule für die künftigen Kulturpatinnen und Kulturpaten werden als Online-Seminar vom Schulungsträger Curatorium Altern gestalten vermittelt und zwar mit insgesamt fünf 2\,5-stündigen Seminarblöcken ab Mai 2023. \nInformationsveranstaltungen \nNähere Infos zum Ehrenamt und zu den Inhalten der Online-Weiterbildung gibt es am 25.4.2023\, 17.30- 18.15 Uhr im Sitzungssaal des Rathaus Obertrubach\, Teichstraße 5\, 91286 Obertrubach. \nNeben diesem Termin vor Ort sind folgende Infoveranstaltungen online geplant: 18.4.2023 (18.00 – 18.45 Uhr)\, 21.4.2023 (16.00 – 16.45 Uhr) oder 27.4.2023 (18.00–18.45 Uhr). \nSie haben die Möglichkeit\, individuelle Fragen bei den Veranstaltungen einzubringen. Die Teilnahme bei einer Veranstaltung ist unverbindlich. \nHaben Sie Interesse\, Kulturpatin oder Kulturpate zu werden? Dann melden Sie sich beim VHS-Zentrum Forchheim\, Tel. 09191/86-1060\, per E-Mail kontakt@vhs-forchheim.de\, Sie können sich auch gerne Online anmelden: www.vhs-forchheim.de (Suche nach „Kulturpaten“).  \n\n\n\nFlyer für Kulturpaten/-patinnenFlyer für Gäste In Kooperation mit dem Projektträger:  Landkreis Forchheim
URL:https://www.alterngestalten.de/event/forchheim-3/
LOCATION:Rathaus Obertrubach\, Teichstraße 5\, Obertrubach\, 91286
CATEGORIES:ALLE PROJEKTE,KUNST & KULTUR
ATTACH;FMTTYPE=image/png:https://www.alterngestalten.de/wp-content/uploads/2023/02/Forchheim-Kachel.png
ORGANIZER;CN="Demografie Kompetenzzentrum Oberfranken":MAILTO:info@demografie-oberfranken.de
END:VEVENT
BEGIN:VEVENT
DTSTART;TZID=Europe/Berlin:20230427T180000
DTEND;TZID=Europe/Berlin:20230427T184500
DTSTAMP:20260423T040105
CREATED:20210908T082608Z
LAST-MODIFIED:20230220T184147Z
UID:3293-1682618400-1682621100@www.alterngestalten.de
SUMMARY:Infoveranstaltung - Kulturpatenschaften im Landkreis Forchheim
DESCRIPTION:„Gemeinsam der Kultur auf der Spur“ heißt ein neues Projekt\, das der Landkreis Forchheim und die VHS vor Ort begleitet. Initiiert und gefördert wird das Projekt vom Demografie-Kompetenzzentrum Oberfranken. Die Idee dahinter: Kulturpaten und -patinnen aus dem Landkreis Forchheim begleiten auf Wunsch ältere Menschen zu Kulturveranstaltungen und fördern damit das gesellschaftliche Miteinander in der Region.  \nWer gerne auf diese Weise die gesellschaftliche Teilhabe von Senioren verbessern möchte und Freude am persönlichen Austausch und Kennenlernen hat\, ist mit diesem Engagement genau richtig! Die Zeiteinteilung ist zudem ganz flexibel.  \nDie Weiterbildungsmodule für die künftigen Kulturpatinnen und Kulturpaten werden als Online-Seminar vom Schulungsträger Curatorium Altern gestalten vermittelt und zwar mit insgesamt fünf 2\,5-stündigen Seminarblöcken ab Mai 2023. \nInformationsveranstaltungen \nNähere Infos zum Ehrenamt und zu den Inhalten der Online-Weiterbildung gibt es am 25.4.2023\, 17.30- 18.15 Uhr im Sitzungssaal des Rathaus Obertrubach\, Teichstraße 5\, 91286 Obertrubach. \nNeben diesem Termin vor Ort sind folgende Infoveranstaltungen online geplant: 18.4.2023 (18.00 – 18.45 Uhr)\, 21.4.2023 (16.00 – 16.45 Uhr) oder 27.4.2023 (18.00–18.45 Uhr). \nSie haben die Möglichkeit\, individuelle Fragen bei den Veranstaltungen einzubringen. Die Teilnahme bei einer Veranstaltung ist unverbindlich. \nHaben Sie Interesse\, Kulturpatin oder Kulturpate zu werden? Dann melden Sie sich beim VHS-Zentrum Forchheim\, Tel. 09191/86-1060\, per E-Mail kontakt@vhs-forchheim.de\, Sie können sich auch gerne Online anmelden: www.vhs-forchheim.de (Suche nach „Kulturpaten“).  \n\n\n\nFlyer für Kulturpaten/-patinnenFlyer für Gäste In Kooperation mit dem Projektträger:  Landkreis Forchheim
URL:https://www.alterngestalten.de/event/forchheim-4/
LOCATION:Rathaus Obertrubach\, Teichstraße 5\, Obertrubach\, 91286
CATEGORIES:ALLE PROJEKTE,KUNST & KULTUR
ATTACH;FMTTYPE=image/png:https://www.alterngestalten.de/wp-content/uploads/2023/02/Forchheim-Kachel.png
ORGANIZER;CN="Demografie Kompetenzzentrum Oberfranken":MAILTO:info@demografie-oberfranken.de
END:VEVENT
END:VCALENDAR