BEGIN:VCALENDAR
VERSION:2.0
PRODID:-//alterngestalten.de - ECPv6.8.3//NONSGML v1.0//EN
CALSCALE:GREGORIAN
METHOD:PUBLISH
X-ORIGINAL-URL:https://www.alterngestalten.de
X-WR-CALDESC:Veranstaltungen für alterngestalten.de
REFRESH-INTERVAL;VALUE=DURATION:PT1H
X-Robots-Tag:noindex
X-PUBLISHED-TTL:PT1H
BEGIN:VTIMEZONE
TZID:Europe/Berlin
BEGIN:DAYLIGHT
TZOFFSETFROM:+0100
TZOFFSETTO:+0200
TZNAME:CEST
DTSTART:20260329T010000
END:DAYLIGHT
BEGIN:STANDARD
TZOFFSETFROM:+0200
TZOFFSETTO:+0100
TZNAME:CET
DTSTART:20261025T010000
END:STANDARD
END:VTIMEZONE
BEGIN:VEVENT
DTSTART;TZID=Europe/Berlin:20260116T100000
DTEND;TZID=Europe/Berlin:20260116T120000
DTSTAMP:20260420T163309
CREATED:20250301T010008Z
LAST-MODIFIED:20250926T142911Z
UID:8773-1768557600-1768564800@www.alterngestalten.de
SUMMARY:Onlineworkshop: Sissi\, Lassie\, Winnetou – Filmpraxiskultur für Menschen mit Demenz
DESCRIPTION:Im Rahmen der SilberFILM-Initiative bieten wir den Online-Workshop „Sissi\, Lassie\, Winnetou – Filmpraxiskultur für Menschen mit Demenz“ kostenfrei an. Dieser Vortrag mit Austausch richtet sich an Pflegekräfte\, Angehörige und Interessierte und bietet eine praxisnahe Einführung in den Einsatz von Filmen und Fernsehsendungen zur Förderung des Wohlbefindens und der Kommunikation von Menschen mit Demenz. \nDipl.-Psychogerontologin Sabine L. Distler zeigt auf\, wie vertraute Filmklassiker positive Emotionen wecken und Erinnerungen lebendig werden lassen können. Der bewusste Einsatz von Filmen und Medien im Alltag kann nicht nur das emotionale Wohlbefinden und die Lebensqualität von Menschen mit Demenz verbessern\, sondern auch zu einer Entlastung von Angehörigen sowie Pflege- und Betreuungskräften führen – sei es durch die Minimierung von Unruhe oder die Aktivierung bei Trägheit. Darüber hinaus erhalten Sie konkrete Beispiele und praxisnahe Tipps\, wie vertraute Geschichten und Bilder gezielt genutzt werden können\, um emotionale Bindungen zu stärken und schöne gemeinsame Momente zu schaffen. Wir freuen uns auf einen interessanten gemeinsamen Nachmittag mit Ihnen\, voller wertvoller Impulse und regem Austausch. \n\n\n\nHier kostenfrei anmelden
URL:https://www.alterngestalten.de/event/sissi-2/
LOCATION:Digital in ZOOM\, Deutschland
CATEGORIES:ALLE PROJEKTE,MEDIEN & FILM
ATTACH;FMTTYPE=image/jpeg:https://www.alterngestalten.de/wp-content/uploads/2024/11/Sissi_Workshop.jpeg
ORGANIZER;CN="DemenzNetz Oldenburg im Versorgungsnetz Gesundheit e. V.":MAILTO:gerdes@diko-ol.de
END:VEVENT
END:VCALENDAR