BEGIN:VCALENDAR
VERSION:2.0
PRODID:-//alterngestalten.de - ECPv6.8.3//NONSGML v1.0//EN
CALSCALE:GREGORIAN
METHOD:PUBLISH
X-WR-CALNAME:alterngestalten.de
X-ORIGINAL-URL:https://www.alterngestalten.de
X-WR-CALDESC:Veranstaltungen für alterngestalten.de
REFRESH-INTERVAL;VALUE=DURATION:PT1H
X-Robots-Tag:noindex
X-PUBLISHED-TTL:PT1H
BEGIN:VTIMEZONE
TZID:Europe/Berlin
BEGIN:DAYLIGHT
TZOFFSETFROM:+0100
TZOFFSETTO:+0200
TZNAME:CEST
DTSTART:20240331T010000
END:DAYLIGHT
BEGIN:STANDARD
TZOFFSETFROM:+0200
TZOFFSETTO:+0100
TZNAME:CET
DTSTART:20241027T010000
END:STANDARD
END:VTIMEZONE
BEGIN:VEVENT
DTSTART;TZID=Europe/Berlin:20240130T150000
DTEND;TZID=Europe/Berlin:20240130T160000
DTSTAMP:20260423T195755
CREATED:20230610T000008Z
LAST-MODIFIED:20230813T100552Z
UID:4661-1706626800-1706630400@www.alterngestalten.de
SUMMARY:Angebote der Angehörigenberatung e.V. Nürnberg
DESCRIPTION:Die Mehrzahl der Menschen mit Demenz leben Zuhause und werden von nahestehenden Personen betreut. Es ist deshalb für die Betroffenen wichtig\, unterstützende Angebote in unmittelbarer Nähe des Wohnorts zu finden. Die Angehörigenberatung ist ein wichtiger Anlaufpunkt in Nürnberg für Menschen\, die Familienangehörige pflegen oder unterstützen. Der Vortrag gibt Ihnen wertvolle Informationen\, bietet Gelegenheit zum gemeinsamen Austausch und setzt Impulse für eine erfolgreiche Begleitung von Angehörigen.\nBarbara Süß  M.A. Dipl.-Psychogerontologin von der  Fachstelle für pflegende Angehörige gibt wertvolle Hinweise\, informiert über Angebote und Unterstützungsmöglichkeiten für pflegende Angehörige. \nWährend des Vortrages kümmern sich in der Cafeteria im Heilig-Geist-Haus ehrenamtliche\, geschulte Gästeassistentinnen und Gästeassistenten aus dem Projekt “Pause von Zuhause” gerne um ihre Lieben\, damit Sie als pflegende An- und Zugehörige beruhigt den Vortrag besuchen können. Ihre Angehörigen sind dort herzlich zu Kaffee und Kuchen eingeladen\, können sich mit den Ehrenamtlichen und anderen Gästen unterhalten und Freude beim gemeinsamen Spielen finden. \nDownload Flyer PflegePlusDigitale AnmeldungDer Vortrag ist kostenfrei. \nAnmeldungen bei Curatorium Altern gestalten: \n\ndigitale Anmeldung (siehe oben)\n0 91 52 – 92 88 400\ndialog@alterngestalten.de\nin der Cafeteria im Heilig Geist Haus\, Spitalgasse 22\, 90403 Nürnberg
URL:https://www.alterngestalten.de/event/angehoerigenberatung/
LOCATION:Cafeteria Heilig Geist\, Spitalgasse 22\, Nürnberg\, 90403
CATEGORIES:ALLE PROJEKTE,ALLTAG & PFLEGE,KÖRPER & GESUNDHEIT
ATTACH;FMTTYPE=image/jpeg:https://www.alterngestalten.de/wp-content/uploads/2023/06/logo-pflegeplus-01.jpg
ORGANIZER;CN="Curatorium Altern gestalten":MAILTO:info@alterngestalten.de
END:VEVENT
END:VCALENDAR