BEGIN:VCALENDAR
VERSION:2.0
PRODID:-//alterngestalten.de - ECPv6.8.3//NONSGML v1.0//EN
CALSCALE:GREGORIAN
METHOD:PUBLISH
X-ORIGINAL-URL:https://www.alterngestalten.de
X-WR-CALDESC:Veranstaltungen für alterngestalten.de
REFRESH-INTERVAL;VALUE=DURATION:PT1H
X-Robots-Tag:noindex
X-PUBLISHED-TTL:PT1H
BEGIN:VTIMEZONE
TZID:Europe/Berlin
BEGIN:DAYLIGHT
TZOFFSETFROM:+0100
TZOFFSETTO:+0200
TZNAME:CEST
DTSTART:20230326T010000
END:DAYLIGHT
BEGIN:STANDARD
TZOFFSETFROM:+0200
TZOFFSETTO:+0100
TZNAME:CET
DTSTART:20231029T010000
END:STANDARD
END:VTIMEZONE
BEGIN:VEVENT
DTSTART;TZID=Europe/Berlin:20231012T150000
DTEND;TZID=Europe/Berlin:20231012T160000
DTSTAMP:20260423T221510
CREATED:20230610T000008Z
LAST-MODIFIED:20230813T101302Z
UID:4645-1697122800-1697126400@www.alterngestalten.de
SUMMARY:Der Pflegestützpunkt – Hilfe für pflegende Angehörige
DESCRIPTION:Die Strukturen im Pflege-\, Gesundheits- und Sozialbereich sind oft schwer durchschaubar und unterliegen ständigen Änderungen. Für pflegende und betreuende An- und Zugehörige ist es oft nicht einfach\, passende Unterstützungs- und Entlastungsangebote für sich und für ihre Lieben zu finden.\nDer Pflegestützpunkt Nürnberg bietet deshalb pflegebedürftigen Personen oder Personen mit bevorstehenden Pflegebedarf aus Nürnberg Beratungs- und Unterstützungsangebote. An den Pflegestützpunkt können sich neben den Menschen mit Pflegebedarf vor allem ihr soziales Umfeld wie Angehörige\, Bezugspersonen oder Betreuer:innen wenden. Alle Ratsuchenden erhalten eine kostenfreie und neutrale Beratung.\nIm Vortrag stellt sich der Pflegestützpunkt Nürnberg den Teilnehmerinnen und Teilnehmern vor\, und schafft einen Überblick über Entlastungs- und Unterstützungsangebote. Im Anschluss steht der Pflegestützpunkt Ihnen gern für Fragen zur Verfügung.\nDie Referentin des Pflegestützpunkts steht Ihnen im Anschluss gern für Fragen zur Verfügung. \nWährend des Vortrages kümmern sich in der Cafeteria im Heilig-Geist-Haus ehrenamtliche\, geschulte Gästeassistentinnen und Gästeassistenten aus dem Projekt “Pause von Zuhause” gerne um ihre Lieben\, damit Sie als pflegende An- und Zugehörige beruhigt den Vortrag besuchen können. Ihre Angehörigen sind dort herzlich zu Kaffee und Kuchen eingeladen\, können sich mit den Ehrenamtlichen und anderen Gästen unterhalten und Freude beim gemeinsamen Spielen finden. \nDownload Flyer PflegePlusDigitale AnmeldungDer Vortrag ist kostenfrei. \nAnmeldungen bei Curatorium Altern gestalten: \n\ndigitale Anmeldung siehe oben\n0 91 52 – 92 88 400\ndialog@alterngestalten.de\nin der Cafeteria im Heilig Geist Haus\, Spitalgasse 22\, 90403 Nürnberg
URL:https://www.alterngestalten.de/event/pflegestuetzpunkt/
LOCATION:Cafeteria Heilig Geist\, Spitalgasse 22\, Nürnberg\, 90403
CATEGORIES:ALLE PROJEKTE,ALLTAG & PFLEGE,KÖRPER & GESUNDHEIT
ATTACH;FMTTYPE=image/jpeg:https://www.alterngestalten.de/wp-content/uploads/2023/06/logo-pflegeplus-01.jpg
ORGANIZER;CN="Curatorium Altern gestalten":MAILTO:info@alterngestalten.de
END:VEVENT
END:VCALENDAR