BEGIN:VCALENDAR
VERSION:2.0
PRODID:-//alterngestalten.de - ECPv6.8.3//NONSGML v1.0//EN
CALSCALE:GREGORIAN
METHOD:PUBLISH
X-WR-CALNAME:alterngestalten.de
X-ORIGINAL-URL:https://www.alterngestalten.de
X-WR-CALDESC:Veranstaltungen für alterngestalten.de
REFRESH-INTERVAL;VALUE=DURATION:PT1H
X-Robots-Tag:noindex
X-PUBLISHED-TTL:PT1H
BEGIN:VTIMEZONE
TZID:Europe/Berlin
BEGIN:DAYLIGHT
TZOFFSETFROM:+0100
TZOFFSETTO:+0200
TZNAME:CEST
DTSTART:20230326T010000
END:DAYLIGHT
BEGIN:STANDARD
TZOFFSETFROM:+0200
TZOFFSETTO:+0100
TZNAME:CET
DTSTART:20231029T010000
END:STANDARD
END:VTIMEZONE
BEGIN:VEVENT
DTSTART;TZID=Europe/Berlin:20230917T100000
DTEND;TZID=Europe/Berlin:20230917T170000
DTSTAMP:20260423T232330
CREATED:20230730T000008Z
LAST-MODIFIED:20230730T131903Z
UID:4314-1694944800-1694970000@www.alterngestalten.de
SUMMARY:Freiwilligenmesse Nürnberg
DESCRIPTION:Herzliche Einladung am 17. September ins Caritas-Pirckheimer-Haus (CPH) von 10 bis 17 Uhr.\nÜber 45 Nürnberger Organisationen\, Vereine und Initiativen vor Ort informieren unverbindlich über vielfältige Engagementmöglichkeiten Ganz gleich\, ob es um die Bereiche Soziales\, Gesundheit\, Inklusion\, Vielfalt\, Senior*innen oder Kinder- und Jugendliche geht – hier ist einiges vertreten. \nCuratorium Altern gestalten ist Teil der Freiwilligenmesse  und wir bieten eine Fülle an Möglichkeiten\, wie die Freizeit im Alter sinnvoll gestalten werden kann. Wir informieren direkt in der KLARA (Laden Eingang Klaragasse) über ehrenamtliche Tätigkeiten\, die zu Ihren Interessen und Fähigkeiten passen. Dabei stehen Ihnen auch unsere erfahrenen Beraterinnen und Berater zur Seite\, die gerne Fragen beantworten und bei der Auswahl unterstützen. \nFreuen Sie sich auf: \n\nVorstellung von Seniorenveranstaltungen in der Umgebung\nInformationen über diverse Freiwilligenmöglichkeiten und Netzwerke\nErfahrungsaustausch mit anderen Senioren und Ehrenamtlichen\nRegionale Köstlichkeiten und angenehme Gesellschaft\n\nGemeinsam möchten wir dafür sorgen\, dass Ihr “aktiver Ruhestand” zu einer erfüllenden und bereichernden Lebensphase wird. Ihre wertvollen Erfahrungen und Fähigkeiten sind gefragt und können einen positiven Beitrag für unsere Gesellschaft leisten. \nDie KLARA-Tür steht allen offen\, die sich für das Thema engagieren möchten – sei es als freiwillige Helferinnen und Helfer oder als Senioren\, die nach neuen Möglichkeiten suchen\, ihre Zeit abwechslungsreich zu gestalten. \nWir freuen uns auf zahlreiches Erscheinen und eine inspirierende Freiwilligenmesse! \nDas KLARA – Zentrum für Beratung & Engagement\, Klaragasse 3\, 90402 Nürnberg\nKennen Sie den neuen Engagementstandort „Klara – Zentrum für Beratung und Engagement“?  In erster Linie als Anlaufstelle für Engagierte und Beratungssuchende gedacht\, hat das ehemalige Ladengeschäft in der Klaragasse 3 mitten in der Nürnberger Innenstadt noch einiges mehr zu bieten.
URL:https://www.alterngestalten.de/event/freiwilligenmesse/
LOCATION:KLARA – Zentrum für Beratung & Engagement\, Klaragasse 3\, Nürnberg\, 90402\, Deutschland
CATEGORIES:ALLE PROJEKTE,ARBEIT & EHRENAMT
ATTACH;FMTTYPE=image/png:https://www.alterngestalten.de/wp-content/uploads/2023/03/Freiwilligenmesse_quadratisch.png
ORGANIZER;CN="Stadt N%C3%BCrnberg%2C Stabsstelle f%C3%BCr B%C3%BCrgerschaftliches Engagement":MAILTO:poststelle[at]stadt.nuernberg.de-mail.de
END:VEVENT
BEGIN:VEVENT
DTSTART;TZID=Europe/Berlin:20230921T150000
DTEND;TZID=Europe/Berlin:20230921T163000
DTSTAMP:20260423T232330
CREATED:20230610T000008Z
LAST-MODIFIED:20230813T101851Z
UID:3769-1695308400-1695313800@www.alterngestalten.de
SUMMARY:Lesung: Angst vor Alzheimer?
DESCRIPTION:Lesung: Angst vor Alzheimer?\nVortrag mit Lesung der Autorin Sabine Tschainer-Zangl aus dem Buch „Demenz ohne Stress: Demenzerisch® lernen für einen leichteren Umgang mit Demenzerkrankten\nWas ist „Demenz“? Können wir uns schützen? Wie gelingt der Kontakt und Umgang mit Erkrankten? \nObwohl „Demenz“ uns in unserem Alltag inzwischen häufig begegnet\, erleben wir das Thema in unserer Gesellschaft immer wieder als ein Tabu. Demenz macht Angst. Viele Fragen stehen im Raum: Wird jeden von uns diese Erkrankung treffen? Ist es gar eine „normale“ Alterserscheinung? \nKann ich mich irgendwie davor schützen? Können Demenzerkrankte glücklich sein? Was können wir tun\, wenn die vielfältigen Ratschläge und Tipps zum Umgang mit den Erkrankten doch nicht verlässlich funktionieren? \nDer Vortrag bietet Ihnen grundlegende Antworten auf diese Fragen. Verbunden mit einer Lesung aus dem Buch „Demenz ohne Stress“. Die Autorin\, Sabine Tschainer-Zangl steht Ihnen im Anschluss gern für Fragen zur Verfügung. \nWährend des Vortrages kümmern sich in der Cafeteria im Heilig-Geist-Haus ehrenamtliche\, geschulte Gästeassistentinnen und Gästeassistenten aus dem Projekt “Pause von Zuhause” gerne um ihre Lieben\, damit Sie als pflegende An- und Zugehörige beruhigt den Vortrag besuchen können. Ihre Angehörigen sind dort herzlich zu Kaffee und Kuchen eingeladen\, können sich mit den Ehrenamtlichen und anderen Gästen unterhalten und Spaß und Freude beim gemeinsamen Spielen finden. \nReferentin (Bildquelle www.aufschwungalt.de):\nFrau Sabine Tschainer-Zangl\, Dipl.-Theologin\, Dipl.-Psycho-Gerontologin\, Geschäftsführerin Institut aufschwungalt\, München\nehemalige Erste Vorsitzende der Deutschen Alzheimer Gesellschaft e.V.\nMitglied des fachlichen Beirats der Dt. Alzheimer Gesellschaft – Selbsthilfe Demenz.\nKuratorin des „Kuratoriums Deutsche Altershilfe“ \nDownload FlyerDigitale AnmeldungDer Vortrag ist kostenfrei. \nAnmeldungen bei Curatorium Altern gestalten: \n\ndigitale Anmeldung siehe oben\n0 91 52 – 92 88 400\ndialog@alterngestalten.de\nin der Cafeteria im Heilig Geist Haus\, Spitalgasse 22\, 90403 Nürnberg\n\nEine Veranstaltung innerhalb der gefördert durch
URL:https://www.alterngestalten.de/event/angstvoralzheimer/
LOCATION:Cafeteria Heilig Geist\, Spitalgasse 22\, Nürnberg\, 90403
CATEGORIES:ALLE PROJEKTE,ALLTAG & PFLEGE,WISSENSCHAFT & GENERATIONEN
ATTACH;FMTTYPE=image/jpeg:https://www.alterngestalten.de/wp-content/uploads/2023/06/logo-pflegeplus-01.jpg
ORGANIZER;CN="Curatorium Altern gestalten":MAILTO:info@alterngestalten.de
END:VEVENT
END:VCALENDAR