BEGIN:VCALENDAR
VERSION:2.0
PRODID:-//alterngestalten.de - ECPv6.8.3//NONSGML v1.0//EN
CALSCALE:GREGORIAN
METHOD:PUBLISH
X-ORIGINAL-URL:https://www.alterngestalten.de
X-WR-CALDESC:Veranstaltungen für alterngestalten.de
REFRESH-INTERVAL;VALUE=DURATION:PT1H
X-Robots-Tag:noindex
X-PUBLISHED-TTL:PT1H
BEGIN:VTIMEZONE
TZID:Europe/Berlin
BEGIN:DAYLIGHT
TZOFFSETFROM:+0100
TZOFFSETTO:+0200
TZNAME:CEST
DTSTART:20240331T010000
END:DAYLIGHT
BEGIN:STANDARD
TZOFFSETFROM:+0200
TZOFFSETTO:+0100
TZNAME:CET
DTSTART:20241027T010000
END:STANDARD
END:VTIMEZONE
BEGIN:VEVENT
DTSTART;TZID=Europe/Berlin:20240912T150000
DTEND;TZID=Europe/Berlin:20240912T160000
DTSTAMP:20260424T142247
CREATED:20240703T000008Z
LAST-MODIFIED:20240720T150751Z
UID:6354-1726153200-1726156800@www.alterngestalten.de
SUMMARY:Offener LACHYOGA-TREFF im Heilig Geist Haus
DESCRIPTION:Lachen ist bekanntlich die beste Medizin – und was gibt es Schöneres\, als gemeinsam zu lachen? Die zertifizierte Lachyoga-Trainerin Caroline Peters aus Fürth lädt alle Interessierten zu einer befreienden Lachyoga-Stunde in das Heilig Geist Haus (Treffpunkt Cafeteria im Heilig Geist Haus) ein.\nCaroline Peters ist bekannt für ihre mitreißende Begeisterungsfähigkeit\, nichts wirkt so ansteckend wie ein herzliches Lachen. \nDer offene Lachyoga-Treff findet an 4 Terminen\, jeweils donnerstags von 15 - 16 Uhr statt:\n\n12. September 2024\n10. Oktober 2024\n21. November 2024\n12. Dezember 2024\n11.Juni 2024 (Dienstag)\n\nTreffpunkt ist um 15:00 Uhr in der Cafeteria im Heilig Geist Haus Nürnberg\, Spitalgasse 22\, 90403 Nürnberg\nAnsprechpartner: Georg Weigl\, Tel. 0171- 966 85 30\nKeine Yoga- oder Lacherfahrung erforderlich – alle können teilnehmen!  \n\n\n\nDownload Flyer: Lachyoga im Heilig Geist HausGefördert durch: Besondere Unterstützung: Pflegende Angehörige haben die Möglichkeit gemeinsam mit ihren Lieben teilzunehmen oder die Betreuung dem “Pause von Zuhause Gästeteam” in der Cafeteria des Heilig-Geist-Haus zu übergeben
URL:https://www.alterngestalten.de/event/lachyoga_winter_2024/2024-09-12/
LOCATION:Cafeteria Heilig Geist\, Spitalgasse 22\, Nürnberg\, 90403
CATEGORIES:ALLE PROJEKTE,KÖRPER & GESUNDHEIT
ATTACH;FMTTYPE=image/jpeg:https://www.alterngestalten.de/wp-content/uploads/2022/04/Bild_05-scaled.jpg
ORGANIZER;CN="Curatorium Altern gestalten":MAILTO:info@alterngestalten.de
END:VEVENT
BEGIN:VEVENT
DTSTART;TZID=Europe/Berlin:20240920T150000
DTEND;TZID=Europe/Berlin:20240920T170000
DTSTAMP:20260424T142247
CREATED:20230810T000008Z
LAST-MODIFIED:20240822T144827Z
UID:8640-1726844400-1726851600@www.alterngestalten.de
SUMMARY:Kultur\, Kunst und Demenz - Geht das überhaupt?
DESCRIPTION:Kultur\, Kunst und Demenz – Geht das überhaupt?\nOb Musikveranstaltungen\, Museumsbesuche oder Malen: Menschen mit Demenz können trotz ihrer Erkrankung am kulturellen Leben teilhaben. Die Beschäftigung mit Kunst und Kultur bringt Lebensfreude und regt zum Austausch an. Die Veranstaltung gibt einen interessanten Einblick in den Bereich und stellt zugleich verschiedene Kulturpartner aus Nürnberg mit ihren Angeboten für Menschen mit Demenz vor. Eine Vernissage mit Ausstellungsstücken\, die Menschen mit Demenz erschaffen haben\, beendet die Veranstaltung.\nTreffen Sie Curatorium Altern gestalten beim Markt der Möglichkeiten.  \nProgramm\n15:00 Uhr Begrüßung Eva Adorf\, Geschäftsführerin\, Angehörigenberatung e.V. Nürnberg & Beatrix Jauch\, Koordinatorin Zentrum für Altersmedizin \n15:10 Uhr  Kunst und Demenz – Kunsttherapie in der Gerontopsychiatrie\, Dr. med. Thomas Stöckl\, Leitender Oberarzt & Sven Keitel\, Pflegedirektor\, Klinik für Psychiatrie und Psychotherapie im Klinikum Nürnberg\, Universitätsklinik der Paracelsus Medizinischen Privatuniversität \n15:40 Uhr Markt der Möglichkeiten – Welche Angebote gibt es für Menschen mit Demenz?\nKurzvorstellung der teilnehmenden Projektpartner \n16:30 Uhr Einblick in das Projekt „Farben Verbinden“ Kimberly Banschbach\, Kunstpädagogin und Kunsttherapeutin (M.A.) \n16:50 Uhr Vernissage und Ausklang \nMarkt der Möglichkeiten:\nKunst- und Kulturpädagogisches Zentrum der Museen in Nürnberg (KPZ)\nInklusiver Chor „Sing ein Lied“ der Angehörigen- und Demenzberatung e.V.\nCuratorium Altern gestalten gGmbH\nProjekt Farben verbinden“- ein Kunsttherapeutisches Angebot\nEine Veranstaltung des Zentrums für Altersmedizin und Klinik für Psychiatrie und Psychotherapie und der Angehörigenberatung e.V. Nürnberg.  \nDownload Flyer_Welt-Alzheimertag 20.9.2024 \nZum Veranstaltungskalender der Bayerischen Demenzwoche
URL:https://www.alterngestalten.de/event/angehoerigenberatung-3/
LOCATION:Angehörigen- und Demenzberatung\, Adam-Klein-Straße 6\, 90429 Nürnberg
CATEGORIES:ALLE PROJEKTE,ALLTAG & PFLEGE
ATTACH;FMTTYPE=application/pdf:https://www.alterngestalten.de/wp-content/uploads/2023/07/Plakat_Welt_Alzheimertag-20.9.2024.pdf
END:VEVENT
END:VCALENDAR