BEGIN:VCALENDAR
VERSION:2.0
PRODID:-//alterngestalten.de - ECPv6.8.3//NONSGML v1.0//EN
CALSCALE:GREGORIAN
METHOD:PUBLISH
X-ORIGINAL-URL:https://www.alterngestalten.de
X-WR-CALDESC:Veranstaltungen für alterngestalten.de
REFRESH-INTERVAL;VALUE=DURATION:PT1H
X-Robots-Tag:noindex
X-PUBLISHED-TTL:PT1H
BEGIN:VTIMEZONE
TZID:Europe/Berlin
BEGIN:DAYLIGHT
TZOFFSETFROM:+0100
TZOFFSETTO:+0200
TZNAME:CEST
DTSTART:20240331T010000
END:DAYLIGHT
BEGIN:STANDARD
TZOFFSETFROM:+0200
TZOFFSETTO:+0100
TZNAME:CET
DTSTART:20241027T010000
END:STANDARD
BEGIN:DAYLIGHT
TZOFFSETFROM:+0100
TZOFFSETTO:+0200
TZNAME:CEST
DTSTART:20250330T010000
END:DAYLIGHT
BEGIN:STANDARD
TZOFFSETFROM:+0200
TZOFFSETTO:+0100
TZNAME:CET
DTSTART:20251026T010000
END:STANDARD
END:VTIMEZONE
BEGIN:VEVENT
DTSTART;TZID=Europe/Berlin:20240924T140000
DTEND;TZID=Europe/Berlin:20240924T143000
DTSTAMP:20260424T091103
CREATED:20230706T080016Z
LAST-MODIFIED:20240723T182834Z
UID:8275-1727186400-1727188200@www.alterngestalten.de
SUMMARY:Freizeit\, Vielfalt & Älterwerden in Oberbayern
DESCRIPTION:Entdecken Sie die Möglichkeiten von “Freizeit\, Vielfalt & Älterwerden” mit dem  3-teiligen Starterkurs\, präsentiert vom Bayerischen Netzwerk Dialog: Kultur und Demenz.  \nVertiefen Sie Ihr Verständnis durch kulturgeragogisches Wissen\, profitieren Sie von wertvollen Vernetzungschancen und erhalten Sie eine individuelle Begleitung\, um alters- und demenzsensible Kultur- und Freizeitangebote zu entwickeln. Möchten Sie mehr erfahren? Merken Sie sich den Info-Termin am 24.09.2024 von 14.00 – 14.30 Uhr vor! Lernen Sie hier das Team und die Ziele dieses Starterkurses kennen und stellen Sie Ihre Fragen zum Ablauf und den Inhalten. Erfahren Sie\, wie wir Sie wirksam unterstützen können. \nDer Starterkurs ist speziell für Akteure von Kultur-\, Freizeit-\, Musik-\, Natur- und Sportveranstaltungen aus Oberbayern\, die ein grundsätzliches Interesse an senioren- und/oder demenzsensiblen Angeboten haben.  \nModul 1: FREIZEIT & DEMENZ\nMittwoch\, 23.10.2024\, 13.30 - 15.30 UHR (ONLINE 120 MIN)\n\nMenschen mit Demenz begegnet man häufiger in der Familie\, leider viel zu wenig in der Öffentlichkeit und bei kulturellen Veranstaltungen. Der Weg zu einem demenzsensiblen Verein oder einer Organisation beginnt mit diesem 120-minütigen Kompaktkurs\, mit dem Sie zugleich als Demenz Partner der gleichnamigen Bundesinitiative anerkannt werden.\n\nModul 2: FREIZEIT & BEST PRACTISE\nMittwoch\, 27.11.2024\, 13.30 - 15.30 UHR (ONLINE 120 MIN)\n\nOb bei Musikveranstaltungen\, bei Führungen und Mitmachaktionen\, bei Freizeit- und Sportveranstaltungen\, immer mehr Freizeitbereiche entwickeln neue Programme für älterwerdende Gäste. In diesem Workshop lernen Sie einige Methoden und gute Beispiele aus der Region und neue überregionale Angebote kennen.\n\nModul 3: FREIZEIT & KONZEPTIDEE\nMittwoch\, 29.01.2025\, 13.30 - 15.30 UHR (ONLINE 120 MIN)\n\nVon der Idee zum Pilotprojekt! In diesem Workshop erhalten Sie zunächst geragogische Empfehlungen für alterssensible Freizeitangebote\, bevor Sie und wir gemeinsam auf eine Ideenreise für Pilotprojekte gehen.\nSie haben die Möglichkeit\, individuelle Fragen einzubringen. Die Durchführung der Veranstaltung erfolgt mit Zoom. Bei Fragen stehen wir gerne im Vorfeld telefonisch zur Verfügung: 09152-92 88 400. Der Kurs ist kostenfrei. \nDie  Online-Weiterbildung wird in enger Kooperation mit der Caritas München und Freising e.V. und Curatorium Altern gestalten umgesetzt und von RETLA e.V. gefördert. Die Urkundenübergabe erfolgt im Anschluss des Kurses vor Ort bei den jeweiligen Vereinen\, Betrieben und Organisationen nach Terminvereinbarung. \nDownload Flyer Gefördert durch Eine Kooperation zwischen
URL:https://www.alterngestalten.de/event/starterkurs_oberbayern/
LOCATION:Digital in ZOOM\, Deutschland
CATEGORIES:KUNST & KULTUR,WISSENSCHAFT & GENERATIONEN
ATTACH;FMTTYPE=image/jpeg:https://www.alterngestalten.de/wp-content/uploads/2023/05/Veranstaltungen-Altern-gestalten-15.jpg
ORGANIZER;CN="Dialog%3A Kultur & Demenz by Curatorium Altern gestalten":MAILTO:dialog@alterngestalten.de
END:VEVENT
BEGIN:VEVENT
DTSTART;TZID=Europe/Berlin:20251010T100000
DTEND;TZID=Europe/Berlin:20251010T104500
DTSTAMP:20260424T091103
CREATED:20250813T080016Z
LAST-MODIFIED:20250826T225109Z
UID:8433-1760090400-1760093100@www.alterngestalten.de
SUMMARY:Infoveranstaltung Online: Kultur\, Teilhabe & Älterwerden in Bayern
DESCRIPTION:Lernen Sie die Kooperationspartner und die Ziele dieses Onlinekurses kennen und stellen Sie Ihre Fragen  zum Ablauf und den Inhalten. Erfahren Sie\, wie wir Sie wirksam unterstützen können. Sie erhalten den ZOOM Link ca. 2 Tage vor der Veranstaltung. \nEine spezielle Fortbildungsreihe für Museen sowie Einrichtungen und Initiativen aus den Bereichen Musik\, Kunst\, Bewegung\, Natur und Freizeit\, die sich mit speziell entwickelten Angeboten für mehr Teilhabe und Normalität mit Demenz und hohem Alter im öffentlichen und kulturellen Raum engagieren.  \nModul 1: Dialog: Kultur & Demenz\nMittwoch\, 12.11.2025\, 10.30 - 12.00 UHR (ONLINE 90 MIN)\n\nWie kann kulturelle Teilhabe für Menschen mit Demenz und für hochaltrige Menschen gelingen? Das Modul vermittelt Grundlagen alters- und demenzsensibler Kulturarbeit und bietet kulturgeragogische und gerontologische Impulse für eine vielfältige Praxis.\nModul 2: Fachvortrag DEMENZ\nMittwoch\, 10.12.2025\, 10.30 - 12.00 UHR (ONLINE 90 MIN)\n\nMenschen mit Demenz begegnet man häufiger in der Familie\, leider zu wenig in der Öffentlichkeit und noch weniger bei kulturellen Veranstaltungen. Der Weg zu einem demenzsensiblen Kultur- und Freizeitangebot beginnt mit diesem Kompaktkurs\, mit dem Sie zugleich als Demenz Partner der gleichnamigen Bundesinitiative anerkannt werden.\nModul 3: Kultur & Best Practice\nMittwoch\, 14.01.2026\, 10.30 - 12.00 UHR (ONLINE 90 MIN)\n\nModul 4: Freizeit & Best Practice\nMittwoch\, 11.02.2026\, 10.30 - 12.00 Uhr (ONLINE 90 MIN)\n\nIn diesen Workshops lernen Sie interessante Methoden und gute Beispiele aus Bayern und überregionale Angebote kennen.\n\nModul 4: Kultur & Konzeptidee\nMittwoch\, 11.03.2026\, 10.30 - 12.00 UHR (ONLINE 90 MIN)\n\nVon der Idee zum Pilotprojekt! Dieser Workshop lädt ein zur gemeinsamen Ideenreise: Mit einem erprobten Leitfaden entwickeln wir Ansätze für alters- und demenzsensible Pilotprojekte in Kleingruppen – nah am Leben\, offen für Neues.\n\nMEETUP\nab 16.03.2026\, 20 Minuten\, ONLINE\n\nDie Urkundenübergabe findet im Nachgang der Onlinemodule bis Sommer 2026 bei Ihnen vor Ort statt. Zur Vorbereitung verabreden wir uns rechtzeitig zu einem etwa 20-minütigen individuellen Online-Termin\, um den Besuch sowie die Übergabe gemeinsam abzustimmen.\nSie haben die Möglichkeit\, individuelle Fragen einzubringen. Die Durchführung der Veranstaltung erfolgt mit Zoom. Bei Fragen stehen wir gerne im Vorfeld telefonisch zur Verfügung: 09152-92 88 400. Der Kurs ist kostenfrei. \nDie  Online-Weiterbildung wird in enger Kooperation mit den Fachstellen Mittel-\, Ober- und Unterfranken\, Oberbayern\, Schwaben und Curatorium Altern gestalten umgesetzt. Die Urkundenübergabe erfolgt im Anschluss des Kurses vor Ort bei den jeweiligen Vereinen\, Betrieben und Organisationen nach Terminvereinbarung. \nDownload FlyerAnmeldung InfoveranstaltungEine Kooperation zwischen
URL:https://www.alterngestalten.de/event/dkd-bayern/
LOCATION:Digital in ZOOM\, Deutschland
CATEGORIES:KUNST & KULTUR,WISSENSCHAFT & GENERATIONEN
ATTACH;FMTTYPE=image/jpeg:https://www.alterngestalten.de/wp-content/uploads/2025/08/Veranstaltungsteaser.jpg
ORGANIZER;CN="Dialog%3A Kultur & Demenz by Curatorium Altern gestalten":MAILTO:dialog@alterngestalten.de
END:VEVENT
BEGIN:VEVENT
DTSTART;TZID=Europe/Berlin:20251029T130000
DTEND;TZID=Europe/Berlin:20251029T134500
DTSTAMP:20260424T091103
CREATED:20250813T080016Z
LAST-MODIFIED:20250826T224957Z
UID:11403-1761742800-1761745500@www.alterngestalten.de
SUMMARY:Infoveranstaltung Online: Kultur\, Teilhabe & Älterwerden in Bayern
DESCRIPTION:Lernen Sie die Kooperationspartner und die Ziele dieses Onlinekurses kennen und stellen Sie Ihre Fragen  zum Ablauf und den Inhalten. Erfahren Sie\, wie wir Sie wirksam unterstützen können. Sie erhalten den ZOOM Link ca. 2 Tage vor der Veranstaltung. \nEine spezielle Fortbildungsreihe für Museen sowie Einrichtungen und Initiativen aus den Bereichen Musik\, Kunst\, Bewegung\, Natur und Freizeit\, die sich mit speziell entwickelten Angeboten für mehr Teilhabe und Normalität mit Demenz und hohem Alter im öffentlichen und kulturellen Raum engagieren.  \nModul 1: Dialog: Kultur & Demenz\nMittwoch\, 12.11.2025\, 10.30 - 12.00 UHR (ONLINE 90 MIN)\n\nWie kann kulturelle Teilhabe für Menschen mit Demenz und für hochaltrige Menschen gelingen? Das Modul vermittelt Grundlagen alters- und demenzsensibler Kulturarbeit und bietet kulturgeragogische und gerontologische Impulse für eine vielfältige Praxis.\nModul 2: Fachvortrag DEMENZ\nMittwoch\, 10.12.2025\, 10.30 - 12.00 UHR (ONLINE 90 MIN)\n\nMenschen mit Demenz begegnet man häufiger in der Familie\, leider zu wenig in der Öffentlichkeit und noch weniger bei kulturellen Veranstaltungen. Der Weg zu einem demenzsensiblen Kultur- und Freizeitangebot beginnt mit diesem Kompaktkurs\, mit dem Sie zugleich als Demenz Partner der gleichnamigen Bundesinitiative anerkannt werden.\nModul 3: Kultur & Best Practice\nMittwoch\, 14.01.2026\, 10.30 - 12.00 UHR (ONLINE 90 MIN)\n\nModul 4: Freizeit & Best Practice\nMittwoch\, 11.02.2026\, 10.30 - 12.00 Uhr (ONLINE 90 MIN)\n\nIn diesen Workshops lernen Sie interessante Methoden und gute Beispiele aus Bayern und überregionale Angebote kennen.\n\nModul 4: Kultur & Konzeptidee\nMittwoch\, 11.03.2026\, 10.30 - 12.00 UHR (ONLINE 90 MIN)\n\nVon der Idee zum Pilotprojekt! Dieser Workshop lädt ein zur gemeinsamen Ideenreise: Mit einem erprobten Leitfaden entwickeln wir Ansätze für alters- und demenzsensible Pilotprojekte in Kleingruppen – nah am Leben\, offen für Neues.\n\nMEETUP\nab 16.03.2026\, 20 Minuten\, ONLINE\n\nDie Urkundenübergabe findet im Nachgang der Onlinemodule bis Sommer 2026 bei Ihnen vor Ort statt. Zur Vorbereitung verabreden wir uns rechtzeitig zu einem etwa 20-minütigen individuellen Online-Termin\, um den Besuch sowie die Übergabe gemeinsam abzustimmen.\nSie haben die Möglichkeit\, individuelle Fragen einzubringen. Die Durchführung der Veranstaltung erfolgt mit Zoom. Bei Fragen stehen wir gerne im Vorfeld telefonisch zur Verfügung: 09152-92 88 400. Der Kurs ist kostenfrei. \nDie  Online-Weiterbildung wird in enger Kooperation mit den Fachstellen Mittel-\, Ober- und Unterfranken\, Oberbayern\, Schwaben und Curatorium Altern gestalten umgesetzt. Die Urkundenübergabe erfolgt im Anschluss des Kurses vor Ort bei den jeweiligen Vereinen\, Betrieben und Organisationen nach Terminvereinbarung. \nDownload FlyerAnmeldung InfoveranstaltungEine Kooperation zwischen
URL:https://www.alterngestalten.de/event/dkd-bayern-2025-10-29/
LOCATION:Digital in ZOOM\, Deutschland
CATEGORIES:KUNST & KULTUR,WISSENSCHAFT & GENERATIONEN
ATTACH;FMTTYPE=image/jpeg:https://www.alterngestalten.de/wp-content/uploads/2025/08/Veranstaltungsteaser.jpg
ORGANIZER;CN="Dialog%3A Kultur & Demenz by Curatorium Altern gestalten":MAILTO:dialog@alterngestalten.de
END:VEVENT
END:VCALENDAR