BEGIN:VCALENDAR
VERSION:2.0
PRODID:-//alterngestalten.de - ECPv6.8.3//NONSGML v1.0//EN
CALSCALE:GREGORIAN
METHOD:PUBLISH
X-WR-CALNAME:alterngestalten.de
X-ORIGINAL-URL:https://www.alterngestalten.de
X-WR-CALDESC:Veranstaltungen für alterngestalten.de
REFRESH-INTERVAL;VALUE=DURATION:PT1H
X-Robots-Tag:noindex
X-PUBLISHED-TTL:PT1H
BEGIN:VTIMEZONE
TZID:Europe/Berlin
BEGIN:DAYLIGHT
TZOFFSETFROM:+0100
TZOFFSETTO:+0200
TZNAME:CEST
DTSTART:20250330T010000
END:DAYLIGHT
BEGIN:STANDARD
TZOFFSETFROM:+0200
TZOFFSETTO:+0100
TZNAME:CET
DTSTART:20251026T010000
END:STANDARD
BEGIN:DAYLIGHT
TZOFFSETFROM:+0100
TZOFFSETTO:+0200
TZNAME:CEST
DTSTART:20260329T010000
END:DAYLIGHT
BEGIN:STANDARD
TZOFFSETFROM:+0200
TZOFFSETTO:+0100
TZNAME:CET
DTSTART:20261025T010000
END:STANDARD
END:VTIMEZONE
BEGIN:VEVENT
DTSTART;TZID=Europe/Berlin:20250812T153000
DTEND;TZID=Europe/Berlin:20250812T170000
DTSTAMP:20260425T213235
CREATED:20250305T010008Z
LAST-MODIFIED:20250428T162104Z
UID:10241-1755012600-1755018000@www.alterngestalten.de
SUMMARY:Gemeinsam am Dutzendteich und in den Biergarten
DESCRIPTION:Nach einem gemütlichen Spaziergang am Dutzendteich besuchen wir den traditionsreichen Biergarten Gutmann. Hier lebt der Geist des historischen „Nürnberger Volksgartens“ und des einst beliebten „Strandcafé Wanner“ weiter. Unter den alten\, schattenspendenden Bäumen finden sich zahlreiche gemütliche Plätze\, um die entspannte Stimmung am See zu genießen. \nWer Lust und Mut hat\, kann mit uns eine Runde über den Dutzendteich Tretboot fahren! \nTreffpunkt:\nDokuzentrum\nTramhaltestelle Dokuzentrum um 15:30 Uhr. \nMit einem kurzen Abstecher um das Kollosseum spazieren wir etwa 800 Meter am Dutzendteich entlang zum Gutmann. Wer möchte\, kann den Spaziergang in  Richtung Yachtclub Noris mit uns verlängern (+ 600 m). \nGruppentreffpunkt (gemeinsame Hin- und Rückfahrt zum Dokuzentrum):\nHauptbahnhof Nürnberg\, Straßenbahnhaltestelle (Tram 8) um 15 Uhr\nGemeinsam fahren wir mit der Straßenbahn zum Dokuzentrum. \nEinfache Wegstrecke ca. 800 m\nWege für Rollatoren geeignet behindertengerechte Toilette im Biergarten Gutmann \nDie Teilnahme ist kostenfrei.\n(nicht enthalten sind Kosten für Speisen & Getränke) \nBitte melden Sie sich bei Curatorium Altern gestalten\, wenn Sie und/oder An-und Zugehörige an diesem Spaziergang teilnehmen möchten. Sie können entweder direkt zum angegebenen Veranstaltungsort kommen oder zu einem zentralen Gruppentreffpunkt\, von wo aus wir gemeinsam zum jeweiligen Veranstaltungsort gehen. Menschen mit Demenz und/oder ältere Menschen mit Unterstützungsbedarf sind willkommen. \nNehmen Sie mit uns Kontakt auf:\n09152-92 88400 oder per Mail: dialog@alterngestalten.de. \n\n\n\nHIER BUCHENFlyer “Zeig mir meine Stadt”Partner von: Gefördert durch:
URL:https://www.alterngestalten.de/event/dutzendteich/
LOCATION:Gutmann\, Bayernstraße 150\, 90478 Nürnberg
CATEGORIES:ALLE PROJEKTE,KUNST & KULTUR
ATTACH;FMTTYPE=image/jpeg:https://www.alterngestalten.de/wp-content/uploads/2022/04/logo-zeig-mir-meine-stadt-e1717950732959.jpg
ORGANIZER;CN="Curatorium Altern gestalten":MAILTO:info@alterngestalten.de
END:VEVENT
BEGIN:VEVENT
DTSTART;TZID=Europe/Berlin:20250913T140000
DTEND;TZID=Europe/Berlin:20250913T170000
DTSTAMP:20260425T213235
CREATED:20250903T000008Z
LAST-MODIFIED:20250904T000716Z
UID:11451-1757772000-1757782800@www.alterngestalten.de
SUMMARY:KLARA-KÄRWA
DESCRIPTION:Herzliche Einladung am 13. September 2025\, 14-17 Uhr\nEs ist schon Tradition geworden: am Kärwa-Samstag den 13.9.2025 öffnen die Organisationen des KLARA-Zentrums ihre Türen und bieten allerhand Infos\, Spaß und Spiele. Mit dabei: Nürnberg engagiert\, Jugendinfo und Curatorium Altern gestalten. Hereinspaziert! \nZum KÄRWA Programm 2025
URL:https://www.alterngestalten.de/event/klara-kaerwa/
LOCATION:KLARA – Zentrum für Beratung & Engagement\, Klaragasse 3\, Nürnberg\, 90402\, Deutschland
CATEGORIES:ALLE PROJEKTE,ARBEIT & EHRENAMT
ATTACH;FMTTYPE=image/jpeg:https://www.alterngestalten.de/wp-content/uploads/2023/03/A8A2877-scaled.jpg
END:VEVENT
BEGIN:VEVENT
DTSTART;TZID=Europe/Berlin:20250920T100000
DTEND;TZID=Europe/Berlin:20250920T160000
DTSTAMP:20260425T213235
CREATED:20250903T000008Z
LAST-MODIFIED:20250903T234849Z
UID:8608-1758362400-1758384000@www.alterngestalten.de
SUMMARY:Freiwilligenmesse Nürnberg
DESCRIPTION:Herzliche Einladung am 20. September im Heilig-Geist-Saal von 10 bis 16 Uhr.\nEngagiert für unsere Zukunft – Die Freiwilligenmesse lädt ein! Hier können Sie sich im Heilig-Geist-Saal (Hans-Sachs-Platz 2) über mögliche Einsatzfelder für ein Ehrenamt informieren. Der Tag bietet eine inspirierende Plattform für alle\, die sich ehrenamtlich engagieren möchten. Ob jung oder alt\, ob einmalig oder regelmäßig – hier finden Sie vielfältige Möglichkeiten\, sich für eine gute Sache einzusetzen. Auch Curatorium Altern gestalten ist mit einem Stand vertreten und freut sich darauf\, mit Ihnen ins Gespräch zu kommen. Erfahren Sie mehr über unsere Projekte rund ums Älterwerden und wie Sie sich aktiv einbringen können. \nGemeinsam möchten wir dafür sorgen\, dass Ihr “aktiver Ruhestand” zu einer erfüllenden und bereichernden Lebensphase wird. Ihre wertvollen Erfahrungen und Fähigkeiten sind gefragt und können einen positiven Beitrag für unsere Gesellschaft leisten. \nWir freuen uns auf zahlreiches Erscheinen und eine inspirierende Freiwilligenmesse! \nZum Programm (PDF) 2025zu “Nürnberg engagiert”
URL:https://www.alterngestalten.de/event/freiwilligenmesse-25/
LOCATION:Heilig Geist Saal\, Hans Sachs Platz 2\, Nürnberg\, 90403
CATEGORIES:ALLE PROJEKTE,ARBEIT & EHRENAMT
ATTACH;FMTTYPE=image/png:https://www.alterngestalten.de/wp-content/uploads/2025/09/SocialMedia_FM-e1756943052833.png
ORGANIZER;CN="Stadt N%C3%BCrnberg%2C Stabsstelle f%C3%BCr B%C3%BCrgerschaftliches Engagement":MAILTO:poststelle[at]stadt.nuernberg.de-mail.de
END:VEVENT
BEGIN:VEVENT
DTSTART;TZID=Europe/Berlin:20250922T120000
DTEND;TZID=Europe/Berlin:20250922T124500
DTSTAMP:20260425T213235
CREATED:20250903T080016Z
LAST-MODIFIED:20250903T235903Z
UID:11436-1758542400-1758545100@www.alterngestalten.de
SUMMARY:(Besser keinen) Ärger mit Facebook
DESCRIPTION:Bei der Altersgruppe 50+ ist Facebook nach wie vor eine beliebte Plattform. Doch was passiert\, wenn der eigene Facebook-Auftritt plötzlich in falsche Hände gerät? Unser Curatorium Altern gestalten musste genau das erleben: Die Seite wurde von Betrügern übernommen\, es entstand ein immenser finanzieller Schaden und der Zugang war wochenlang blockiert. Erst mithilfe eines Anwalts konnte der Zugriff wiederhergestellt werden. \nIn dieser Mittagspause sprechen Sabine Distler (Curatorium Altern gestalten) mit Dr. Guido Steinke (Rechtsanwalt\, Fachreferent 60+ Digitalkompass) über den Betrugsfall – und geben Tipps\, wie man sich schützen kann und wie man sich in der Situation verhalten sollte. \n\n\n\n\nIn Kooperation mit dem DigitalkompassFür die Videokonferenz wird die Software „Zoom“verwendet. Sie können über den folgenden Link an der Veranstaltung teilnehmen: \nMeeting-ID: 891 0408 3290\nKenncode: 081437
URL:https://www.alterngestalten.de/event/facebook/
LOCATION:Digital in ZOOM\, Deutschland
CATEGORIES:TECHNIK & MOBILITÄT
ATTACH;FMTTYPE=image/jpeg:https://www.alterngestalten.de/wp-content/uploads/2025/09/Bild-4.jpg
ORGANIZER;CN="Curatorium Altern gestalten":MAILTO:info@alterngestalten.de
END:VEVENT
BEGIN:VEVENT
DTSTART;TZID=Europe/Berlin:20250923T150000
DTEND;TZID=Europe/Berlin:20250923T160000
DTSTAMP:20260425T213235
CREATED:20250305T010008Z
LAST-MODIFIED:20250728T140339Z
UID:10244-1758639600-1758643200@www.alterngestalten.de
SUMMARY:Geführter Spaziergang: Rochusfriedhof
DESCRIPTION:Tauchen Sie ein in die Geschichte des Rochusfriedhofs\, einer der bedeutendsten Begräbnisstätten Nürnbergs aus dem 16. Jahrhundert. Hinter seinen Mauern ruhen nicht nur Paternostermacher\, Mauerbrecher und Barbiere\, sondern auch bekannte Persönlichkeiten wie der Komponist Johann Pachelbel und der Volksdichter Johann Wolfgang Weikert. \nEntdecken Sie gemeinsam mit Gabi Stauß (Die Stadtführer e.V.)  geheimnisvolle Epitaphien\, das Grab eines ehemaligen Nachrichters (Henkers) und erfahren Sie\, wozu man einen Trepanierbohrer brauchte. Auch die Geschichte der Rochuskapelle\,  Nürnbergs erster Renaissance-Sakralbau\, steht im Mittelpunkt dieser Führung. Trotz schwerer Kriegsschäden blieb ihre wertvolle  Inneneinrichtung erhalten. \nTreffpunkt:\nBeim Rochuskirchhof\, 90443 Nürnberg um 15 Uhr\nGruppentreffpunkt (gemeinsamer Spaziergang zum Rochusfriedhof):\nPlärrer\nWir treffen uns am grünen Platz mit Springbrunnen Haltestelle Plärrer um 14:30 Uhr. Von dort laufen wir (400m) gemeinsam zum Rochusfriedhof und zurück. \nEinfache Wegstrecke ca. 500 m\nWege für Rollatoren geeignet. Sitzbänke vor Ort behindertengerechte öffentliche Toilette am Plärrer \nDie Führung ist kostenfrei.\nDer Eintritt in die Kapelle kostet 3€ pro Person (in bar vor Ort zu begleichen). \nBitte melden Sie sich bei Curatorium Altern gestalten\, wenn Sie und/oder An-und Zugehörige an diesem Spaziergang teilnehmen möchten. Sie können entweder direkt zum angegebenen Veranstaltungsort kommen oder zu einem zentralen Gruppentreffpunkt\, von wo aus wir gemeinsam zum jeweiligen Veranstaltungsort gehen. Menschen mit Demenz und/oder ältere Menschen mit Unterstützungsbedarf sind willkommen. \nNehmen Sie mit uns Kontakt auf:\n09152-92 88400 oder per Mail: dialog@alterngestalten.de. \n\n\n\nHIER BUCHENFlyer “Zeig mir meine Stadt”Partner von: Nürnberg ToursGefördert durch:
URL:https://www.alterngestalten.de/event/rochusfriedhof/
LOCATION:Rochusfriedhof
CATEGORIES:ALLE PROJEKTE,KUNST & KULTUR
ATTACH;FMTTYPE=image/jpeg:https://www.alterngestalten.de/wp-content/uploads/2022/04/logo-zeig-mir-meine-stadt-e1717950732959.jpg
ORGANIZER;CN="Curatorium Altern gestalten":MAILTO:info@alterngestalten.de
END:VEVENT
BEGIN:VEVENT
DTSTART;TZID=Europe/Berlin:20251009T140000
DTEND;TZID=Europe/Berlin:20251009T163000
DTSTAMP:20260425T213235
CREATED:20230204T010008Z
LAST-MODIFIED:20250113T201045Z
UID:9094-1760018400-1760027400@www.alterngestalten.de
SUMMARY:Clubnachmittag am Valznerweiher
DESCRIPTION:Auf zum Club!  \nDer Nürnberger Club heißt erneut in diesem Jahr ältere Clubfans und ihre Begleitungen am Valznerweiher willkommen. Sie erhalten einen exklusiven Rundgang beim 1. FCN\, lernen Expert/innen und junge Spieler aus dem Club-Leistungszentrum kennen und zu guter Letzt krönen diesen Nachmittag die Tribünengeschichten mit einem Spieler aus der Meistermannschaft in den Stuhlfauthsstuben. \nCuratorium Altern gestalten organisiert An-und Abfahrt mit Taxen und kümmert sich gern um ehrenamtliche Begleitungen.\nMelden Sie sich schnell an\, die Teilnehmerzahl ist begrenzt. \nDiese Führung gehört zum Programm TRIBÜNENGESCHICHTEN für Fans 70plus. Es ist ein kostenfreies Angebot des 1.FCN und Curatorium Altern gestalten. \nNehmen Sie bei Interesse mit uns Kontakt auf: Tel. 09152 – 92 88 400 oder per Mail dialog@alterngestalten.de  \n\n\n\nMehr Infos zum Engagement www.unserclub.deAnmeldung zum Clubnachmittag!Download Programm 2025 “Tribünengeschichten”Gefördert durch: Partner von:
URL:https://www.alterngestalten.de/event/clubnachmittag2025/
LOCATION:1.FCN Nürnberg\, Valznerweiherstraße 200\, Nürnberg\, Bayern\, 90480\, Deutschland
CATEGORIES:ALLE PROJEKTE,KUNST & KULTUR
ATTACH;FMTTYPE=image/jpeg:https://www.alterngestalten.de/wp-content/uploads/2022/04/Tribuenengeschichten_1.jpg
ORGANIZER;CN="1.FC N%C3%BCrnberg":MAILTO:oehring@fcn.de
END:VEVENT
BEGIN:VEVENT
DTSTART;TZID=Europe/Berlin:20260318T150000
DTEND;TZID=Europe/Berlin:20260318T160000
DTSTAMP:20260425T213235
CREATED:20241115T090016Z
LAST-MODIFIED:20241211T171621Z
UID:8841-1773846000-1773849600@www.alterngestalten.de
SUMMARY:Nürnberger Symphoniker: Konzert für Menschen mit Demenz und Jedermann
DESCRIPTION:Konzert für Menschen mit Demenz\, Angehörige und Jedermann\n“Wenn wir einander mit Musik berühren”\, schrieb Leonard Bernstein\, “berührt einer des anderen Herz\, Verstand und Seele – alles auf einmal.” In der Tat: Wie keine andere Kunst öffnet die Musik den Zugang zur inneren Welt des Menschen. Auch und vor allem zu Seele und Herz von Menschen mit Demenz. \nDas Programm ist noch in der Planung. \nLucius A. Hemmer\, Moderation \n\nDauer: ca. 50 Minuten\, keine Pause \n\nKarten zu € 17\,50 ausschließlich über die Nürnberger Symphoniker\nIncl. € 1\,50 VVK-Gebühr pro Ticket\nTel. (0911) 474 01-54 oder ticket@nuernbergersymphoniker.de\nKeine Konzertkasse\, keine Ermäßigung\nDas Konzert ist barrierefrei\, Rollstuhlfahrer bitte vorher anmelden. \nDie Nürnberger Symphoniker engagieren sich mit diesem Konzert beim fränkischen Netzwerk “Dialog: Kultur & Demenz” für mehr Teilhabe und Normalität im Umgang mit Demenz im öffentlichen Raum.  \nDirekt zu den Nürnberger Symphonikern \nHier klickenCuratorium Altern gestalten unterstützt  bei der Mobilität (Fahrgemeinschaften)  und der Vermittlung ehrenamtlicher Kulturpatinnen für eine sichere Begleitung. Bitte melden Sie sich bei uns per Mail: info@alterngestalten.de oder per Telefon: 09152 – 92 88 400
URL:https://www.alterngestalten.de/event/nuernbergersymphoniker_2026/
LOCATION:Meistersingerhalle Nürnberg\, Münchener Straße 19\, Nürnberg\, 90478
CATEGORIES:ALLE PROJEKTE,KUNST & KULTUR
ATTACH;FMTTYPE=image/jpeg:https://www.alterngestalten.de/wp-content/uploads/2021/08/CAG_Maerz22_67A7849-scaled.jpg
ORGANIZER;CN="N%C3%BCrnberger Symphoniker":MAILTO:info@nuernbergersymphoniker.de
END:VEVENT
BEGIN:VEVENT
DTSTART;TZID=Europe/Berlin:20260409T140000
DTEND;TZID=Europe/Berlin:20260409T153000
DTSTAMP:20260425T213235
CREATED:20260320T010008Z
LAST-MODIFIED:20260323T123227Z
UID:12044-1775743200-1775748600@www.alterngestalten.de
SUMMARY:Besuch bei BR Franken
DESCRIPTION:Besuch beim BR-Franken! Wie entsteht eigentlich Fernsehen? Wo wird Radio gemacht? \nBei unserer exklusiven Führung durch den Studiopark von BR Franken in Nürnberg erleben Sie Medienproduktion hautnah. Sie erfahren Spannendes über die Arbeit des Bayerischen Rundfunks in Franken und entdecken\, wie Nachrichten\, Magazine und Unterhaltungssendungen entstehen. \nWerfen Sie einen Blick in die Studios\, in denen die „Frankenschau aktuell“ und die „Frankenschau“ produziert werden\, und erfahren Sie\, wie Live-Formate wie „Kabarett aus Franken“ oder Radiosendungen wie BR Schlager und „Mittags in Franken“ auf Sendung gehen. \nGenießen Sie diesen besonderen Einblick in die Welt von Fernsehen und Hörfunk –in guter Gemeinschaft. Unsere ehrenamtlichen Kulturpatinnen und Kulturpaten begleiten die Führung und stehen auf Wunsch unterstützend an Ihrer Seite. \nTreffpunkt: \nBR Franken\, Wallensteinstraße 117\, 90431 Nürnberg\num 14:30 Uhr beim BR Franken Shop. \nGruppentreffpunkt (gemeinsame Fahrt mit U-Bahn und Bus zum BR Gelände): \nHauptbahnhof Nürnberg am DB-Infostand bei den Rolltreppen um 13:30 Uhr \nWir fahren gemeinsam mit der U-Bahn-Linie 3 bis zur Gustav-Adolf-Straße. Danach fahren wir mit dem Bus Linie 69 bis zum BR Franken Shop. Sie erkennen unsere Gruppe an den „Zeig mir meine Stadt“ – Buttons. Wir begleiten Sie auch auf dem Rückweg  zum Hauptbahnhof. \nWegstrecke der Führung ca. 2\,5 km\nAuf dem Weg gibt es immer wieder Sitzmöglichkeiten. Der Weg ist barrierefrei. Rollstuhlgerechte Toiletten sind vorhanden. \nDie Führung ist kostenfrei.\nEine Veranstaltung im Rahmen der Aktionsreihe: Zeig mir meine Stadt. Unsere Veranstaltungen für Menschen mit und ohne Demenz werden von der Deutschen Postcode Lotterie unterstützt. \nNehmen Sie mit uns Kontakt auf: 09152-92 88400 oder per Mail: dialog@alterngestalten.de. Sie können sich auch digital anmelden. \n\n\n\nJahresprogramm 2026Digital anmelden -HIER-Mehr zum BR FrankenGefördert durch:
URL:https://www.alterngestalten.de/event/br-franken/
LOCATION:BR Franken\, Wallensteinstraße 117\, Nürnberg\, 90413
CATEGORIES:ALLE PROJEKTE,KUNST & KULTUR
ATTACH;FMTTYPE=image/jpeg:https://www.alterngestalten.de/wp-content/uploads/2022/04/logo-zeig-mir-meine-stadt-e1717950732959.jpg
ORGANIZER;CN="Curatorium Altern gestalten":MAILTO:info@alterngestalten.de
END:VEVENT
END:VCALENDAR