BEGIN:VCALENDAR
VERSION:2.0
PRODID:-//alterngestalten.de - ECPv6.8.3//NONSGML v1.0//EN
CALSCALE:GREGORIAN
METHOD:PUBLISH
X-ORIGINAL-URL:https://www.alterngestalten.de
X-WR-CALDESC:Veranstaltungen für alterngestalten.de
REFRESH-INTERVAL;VALUE=DURATION:PT1H
X-Robots-Tag:noindex
X-PUBLISHED-TTL:PT1H
BEGIN:VTIMEZONE
TZID:Europe/Berlin
BEGIN:DAYLIGHT
TZOFFSETFROM:+0100
TZOFFSETTO:+0200
TZNAME:CEST
DTSTART:20260329T010000
END:DAYLIGHT
BEGIN:STANDARD
TZOFFSETFROM:+0200
TZOFFSETTO:+0100
TZNAME:CET
DTSTART:20261025T010000
END:STANDARD
END:VTIMEZONE
BEGIN:VEVENT
DTSTART;TZID=Europe/Berlin:20260714T140000
DTEND;TZID=Europe/Berlin:20260714T163000
DTSTAMP:20260420T132441
CREATED:20260204T010008Z
LAST-MODIFIED:20260210T225804Z
UID:11755-1784037600-1784046600@www.alterngestalten.de
SUMMARY:Clubnachmittag am Valznerweiher
DESCRIPTION:Auf zum Club!  \nDer Nürnberger Club heißt erneut in diesem Jahr ältere Clubfans und ihre Begleitungen am Valznerweiher willkommen. Sie erhalten einen exklusiven Rundgang beim 1. FCN\, lernen Expert/innen und junge Spieler aus dem Club-Leistungszentrum kennen und zu guter Letzt krönen diesen Nachmittag die Tribünengeschichten mit einem Spieler aus der Meistermannschaft in den Stuhlfauthsstuben. \nCuratorium Altern gestalten organisiert An-und Abfahrt mit Taxen und kümmert sich gern um ehrenamtliche Begleitungen.\nMelden Sie sich schnell an\, die Teilnehmerzahl ist begrenzt. \nDiese Führung gehört zum Programm TRIBÜNENGESCHICHTEN für Fans 70plus. Es ist ein kostenfreies Angebot des 1.FCN und Curatorium Altern gestalten. \nNehmen Sie bei Interesse mit uns Kontakt auf: Tel. 09152 – 92 88 400 oder per Mail dialog@alterngestalten.de  \n\n\n\nMehr Infos zum Engagement www.unserclub.deAnmeldung zum Clubnachmittag!Download Programm 2026 “Tribünengeschichten”Gefördert durch: Partner von:
URL:https://www.alterngestalten.de/event/clubnachmittag2026/
LOCATION:1.FCN Nürnberg\, Valznerweiherstraße 200\, Nürnberg\, Bayern\, 90480\, Deutschland
CATEGORIES:ALLE PROJEKTE,KUNST & KULTUR
ATTACH;FMTTYPE=image/jpeg:https://www.alterngestalten.de/wp-content/uploads/2022/04/Tribuenengeschichten_1.jpg
ORGANIZER;CN="1.FC N%C3%BCrnberg":MAILTO:oehring@fcn.de
END:VEVENT
BEGIN:VEVENT
DTSTART;TZID=Europe/Berlin:20260723T143000
DTEND;TZID=Europe/Berlin:20260723T160000
DTSTAMP:20260420T132441
CREATED:20260320T010008Z
LAST-MODIFIED:20260323T123536Z
UID:12063-1784817000-1784822400@www.alterngestalten.de
SUMMARY:Dialog im Zukunftsmuseum
DESCRIPTION:Zukunft ist\, was wir daraus machen! \nErleben Sie eine exklusive Führung im Zukunftsmuseum Nürnberg\, die Ihnen echte Teilhabe und aktive Beteiligung ermöglicht. Sehen Sie\, wie greifbar die Welt von morgen schon heute ist. Tauchen Sie ein in faszinierende Technologien und entdecken Sie\, was schon jetzt möglich wird – und welche Entwicklungen unseren Alltag in den kommenden Jahren begleiten könnten. Interaktive Erlebnisse\, überraschende Perspektiven und inspirierende Momente laden Sie dazu ein\, die nahe Zukunft zu erkunden. \nGehen Sie gemeinsam mit dem Guide des Museums in den Dialog. Ihre Fragen\, Ihre Erfahrungen und Ihre Perspektiven geben Anregungen wie wir unsere Zukunft aktiv mitgestalten wollen. \nTreffpunkt vor Ort:\n \nZukunftsmuseum Nürnberg\nAugustinerhof 4\, 90403 Nürnberg | 14:20 Uhr \nGruppentreffpunkt (gemeinsame Fahrt mit U-Bahn und Bus zum Museum: \nHauptbahnhof Nürnberg am DB Infostand bei den Rolltreppen | 13:30 Uhr\nGemeinsam fahren wir mit der U-Bahn und der Bus-Linie 36 bis zu Weintraubengasse. Von dort sind es noch 150 m zu Fuß. Sie erkennen unsere Gruppe an den „Zeig mir meine Stadt“ – Buttons. Wir begleiten Sie auch auf dem Rückweg  zum Hauptbahnhof. \nBarrierefreiheit:\nAufzüge\, mobile Sitzmöglichkeiten\, barrierefreie Toiletten\, taktile Bodenleitlinien & Lagepläne\, Rollstühle zum Ausleihen sind vorhanden. \nDie Führung ist kostenfrei. Für den Eintritt ins Museum fallen allerdings 6\,50€ pro Person (ermäßigter Preis für Senior*innen) an. Diese müssen vor Ort an der Museumskasse bezahlt werden! \nEine Veranstaltung im Rahmen der Aktionsreihe: Zeig mir meine Stadt. Unsere Veranstaltungen für Menschen mit und ohne Demenz werden von der Deutschen Postcode Lotterie unterstützt. \nNehmen Sie mit uns Kontakt auf: 09152-92 88400 oder per Mail: dialog@alterngestalten.de. Sie können sich auch digital anmelden. \n\n\n\nJahresprogramm 2026Digital anmelden -HIER-Gefördert durch:
URL:https://www.alterngestalten.de/event/zukunftsmuseum/
LOCATION:Zukunftsmuseum Nürnberg\, Augustinerhof 4\, Nürnberg\, 90403
CATEGORIES:ALLE PROJEKTE,KUNST & KULTUR
ATTACH;FMTTYPE=image/jpeg:https://www.alterngestalten.de/wp-content/uploads/2022/04/logo-zeig-mir-meine-stadt-e1717950732959.jpg
ORGANIZER;CN="Curatorium Altern gestalten":MAILTO:info@alterngestalten.de
END:VEVENT
END:VCALENDAR