BEGIN:VCALENDAR
VERSION:2.0
PRODID:-//alterngestalten.de - ECPv6.8.3//NONSGML v1.0//EN
CALSCALE:GREGORIAN
METHOD:PUBLISH
X-ORIGINAL-URL:https://www.alterngestalten.de
X-WR-CALDESC:Veranstaltungen für alterngestalten.de
REFRESH-INTERVAL;VALUE=DURATION:PT1H
X-Robots-Tag:noindex
X-PUBLISHED-TTL:PT1H
BEGIN:VTIMEZONE
TZID:Europe/Berlin
BEGIN:DAYLIGHT
TZOFFSETFROM:+0100
TZOFFSETTO:+0200
TZNAME:CEST
DTSTART:20220327T010000
END:DAYLIGHT
BEGIN:STANDARD
TZOFFSETFROM:+0200
TZOFFSETTO:+0100
TZNAME:CET
DTSTART:20221030T010000
END:STANDARD
END:VTIMEZONE
BEGIN:VEVENT
DTSTART;TZID=Europe/Berlin:20221005T100000
DTEND;TZID=Europe/Berlin:20221005T170000
DTSTAMP:20260419T171144
CREATED:20220410T000008Z
LAST-MODIFIED:20220908T134101Z
UID:2761-1664964000-1664989200@www.alterngestalten.de
SUMMARY:Kulturausflug nach Bad Windsheim
DESCRIPTION:Mit dem Bus fahren wir gemeinsam von Nürnberg nach Bad Windsheim und erleben dort zwei ganz besondere Führungen – einmal im Erlebnisbauernhof des Freilandmuseums und eine zweite in der Spitalkirche in der Stadt. \nDazwischen besteht die Möglichkeit zum Mittagessen im Gasthaus “Zum Hirschen” oder in einer anderen Gaststätte vor Ort. Die Kosten für das Mittagessen müssen selbst getragen werden. \nBeschreibung der beiden Führungen: \nErlebnis Museumsbauernhof – Ein Rundgang durch Haus und Hof:\nDer bewirtschaftete Bauernhof im Museum vermittelt einen sehr sinnlichen Eindruck vom früheren Wohnen und Leben im direkten Kontakt mit den Tieren. Pferde\, Ochsen\, Kühe\, Ziegen\, Schweine\, Schafe und Geflügel können\, assistiert von Museumsmitarbeitern\, besucht\, näher betrachtet\, zum Teil auch berührt und gefüttert werden. \nSpitalkirche: Damals im Spital …:\nDurch lebendiges und sinnliches Erleben der Spitalkirche zum Heiligen Geist – einem ganz besonderen Kirchenraum – ergeben sich viele verschiedene Möglichkeiten Neues zu erfahren und an bereits selbst Erfahrenes anzuknüpfen. Wie war das damals im Spital? Wofür ist ein Heilig-Geist-Loch gut? Und spielt vielleicht eine Orgel? \nDie Teilnahme ist kostenfrei (nicht enthalten sind die Kosten für Verpflegung / Mittagessen). \nBitte melden Sie sich bei Curatorium Altern gestalten\, wenn Sie oder An-und Zugehörige an diesem Ausflug teilnehmen möchten. Nehmen Sie mit uns Kontakt auf: 09152-92 88400 oder per Mail: dialog@alterngestalten.de. \n\n\n\nAnmeldung zum Kulturausflugmehr über das Fränkische FreilandmuseumPartner von: Gefördert durch:
URL:https://www.alterngestalten.de/event/kulturausflugbadwindsheim/
CATEGORIES:ALLE PROJEKTE,KUNST & KULTUR
ATTACH;FMTTYPE=image/png:https://www.alterngestalten.de/wp-content/uploads/2022/09/20.png
ORGANIZER;CN="Curatorium Altern gestalten":MAILTO:info@alterngestalten.de
END:VEVENT
BEGIN:VEVENT
DTSTART;TZID=Europe/Berlin:20221013T150000
DTEND;TZID=Europe/Berlin:20221013T160000
DTSTAMP:20260419T171144
CREATED:20220410T000008Z
LAST-MODIFIED:20220908T134820Z
UID:2767-1665673200-1665676800@www.alterngestalten.de
SUMMARY:Hingeschaut & Mitgemacht
DESCRIPTION:Wir laden Menschen mit und ohne Gedächtnisbeeinträchtigungen in das Museum Industriekultur ein. In „Hingeschaut & Mitgemacht“ genießen wir gemeinsam schöne Momente im Museum und werden anschließend selbst aktiv und kreativ. Wir entdecken Museumsobjekte mit allen Sinnen und verbinden diese mit individuellen Erinnerungen und neuen Ideen. \nDas Museum Industriekultur zeigt die Geschichte der Industrialisierung am Beispiel Nürnbergs von 1800 bis heute. In einer ehemaligen Schraubenfabrik aus den 1920er Jahren werden Arbeit und Alltag von einst wieder lebendig: Von der Dampfmaschine\, über die Arbeiterwohnung bis zur sprechenden Küche – Ausstellungsstücke werden zu Akteuren und Besucher zu Entdeckern. Groß und Klein dürfen bei einigen Vorführungen auch mal selbst Hand anlegen. In der Motorradsammlung lebt die große Zeit Nürnbergs als Ort der Zweiradproduktion auf. \nDie Teilnahme ist kostenfrei. Die Teilnehmerzahl begrenzt. \nBitte melden Sie sich bei Curatorium Altern gestalten\, wenn Sie und/oder An-und Zugehörige an diesem Ausflug teilnehmen möchten. Gerne helfen wir Ihnen dabei\, den Veranstaltungsort barrierefrei zu erreichen. Nehmen Sie mit uns Kontakt auf: 09152-92 88400 oder per Mail: dialog@alterngestalten.de. \n\n\n\nAnmeldung zum Kulturausflugmehr über das Museum IndustriekulturPartner von: Gefördert durch:
URL:https://www.alterngestalten.de/event/hingeschautmitgemacht-1/
CATEGORIES:ALLE PROJEKTE,KUNST & KULTUR
ATTACH;FMTTYPE=image/png:https://www.alterngestalten.de/wp-content/uploads/2022/09/21.png
ORGANIZER;CN="Curatorium Altern gestalten":MAILTO:info@alterngestalten.de
END:VEVENT
BEGIN:VEVENT
DTSTART;TZID=Europe/Berlin:20221020T150000
DTEND;TZID=Europe/Berlin:20221020T170000
DTSTAMP:20260419T171144
CREATED:20220410T000008Z
LAST-MODIFIED:20220928T104401Z
UID:2770-1666278000-1666285200@www.alterngestalten.de
SUMMARY:SilberFILM: Wir machen Musik
DESCRIPTION:In dem Revuefilm „Wir machen Musik“ aus dem Jahr 1942 erleben Sie die unvergesslichen Schauspielerinnen Ilse Werner und  Grethe Weiser. \nDer ernste Opernmusiker Karl Zimmermann verliebt sich in die Schlagersängerin Anni Pichler. Er versucht\, sie zur klassischen Musik zu bekehren\, doch sie bleibt ihrem eigenen Stil treu. Kurz nach der Hochzeit beginnen die Probleme\, denn Karls Oper wird ein Reinfall und Anni ist gezwungen\, etwas dazuzuverdienen. Karls Musikverleger Peter gelingt es schließlich\, ihn zu überreden\, Annis neue Revue zu instrumentieren. Gemeinsam gelingt ihnen ein großer Erfolg. \nDas vielfach auszeichnete Filmhaus Nürnberg gehört zu den zehn aufregendsten kommunalen Kinos in Deutschland. „Andere Filme – (anders) zeigen!“ diesem Motto fühlt es sich verpflichtet! In Nürnberg war es das erste Kino\, das auch digitale Filme zeigen konnte und nun ist es bald das einzige\, das auch noch analoge Filme vorführen kann. Das Filmhaus lebt und verkörpert Kinokultur. \nDie Teilnahme ist kostenfrei. \nBitte melden Sie sich bei Curatorium Altern gestalten\, wenn Sie und/oder An-und Zugehörige an dieser Kinovorstellung teilnehmen möchten. Gerne helfen wir Ihnen dabei\, den Veranstaltungsort barrierefrei zu erreichen. Nehmen Sie mit uns Kontakt auf: 09152-92 88400 oder per Mail: dialog@alterngestalten.de. \n\n\n\nAnmeldung für den SilberFILMnachmittagZum Filmhaus NürnbergPartner von: Gefördert durch:
URL:https://www.alterngestalten.de/event/silberfilmwirmachenmusik/
LOCATION:Filmhaus Nürnberg\, Königstraße 93\, Nürnberg\, Bayern\, 90402\, Deutschland
CATEGORIES:ALLE PROJEKTE,KUNST & KULTUR
ATTACH;FMTTYPE=image/png:https://www.alterngestalten.de/wp-content/uploads/2022/09/22.png
ORGANIZER;CN="Curatorium Altern gestalten":MAILTO:info@alterngestalten.de
END:VEVENT
BEGIN:VEVENT
DTSTART;TZID=Europe/Berlin:20221024T143000
DTEND;TZID=Europe/Berlin:20221024T160000
DTSTAMP:20260419T171144
CREATED:20220410T000008Z
LAST-MODIFIED:20221010T130238Z
UID:2758-1666621800-1666627200@www.alterngestalten.de
SUMMARY:Führung: Leben zu Urgroßmutters Zeiten im Museum Fränkische Schweiz
DESCRIPTION:Das Fränkische Schweiz-Museum in Tüchersfeld ist ein Regionalmuseum\, das auf ca. 800 m² Ausstellungsfläche\, verteilt auf 43 Räume\, einen umfassenden Überblick über die Fränkische Schweiz vermittelt. Die Streifzüge durch das Fränkische Schweiz-Museum begeistern auch nichtklassische Museumsgänger für Geschichte. In der Führung machen wir eine Zeitreise in die frühere Arbeitswelt und das Handwerk\, wir betrachten Lebensstationen der Menschen wie Geburt\, Hochzeit und Tod sowie den weiten Bereich des Alltags mit Kochen\, Schlafen und Kleidung. \nGerade in einem landschaftlich so zergliederten Gebiet wie die Fränkische Schweiz – enge Täler\, sich windende Flussläufe und hohe Höhenrücken – entwickelten sich auf nur kurze Entfernungen sehr unterschiedliche Traditionen heraus. \nDie Teilnahme ist kostenfrei. Die Teilnehmerzahl ist begrenzt. \nBitte melden Sie sich bei Curatorium Altern gestalten\, falls Sie die Führung gerne mitmachen möchten. Wir helfen Ihnen auch dabei\, wenn Sie Probleme haben\, zum Veranstaltungsort zu gelangen. Nehmen Sie mit uns Kontakt auf: 09152-92 88400 oder per Mail: dialog@alterngestalten.de. \n\n\n\nAnmeldung zur Führung Leben zu Urgroßmutters Zeitenmehr über das Museum Fränkische SchweizPartner von: Gefördert durch:
URL:https://www.alterngestalten.de/event/fraenkischeschweizmuseum/
CATEGORIES:ALLE PROJEKTE,KUNST & KULTUR
ATTACH;FMTTYPE=image/png:https://www.alterngestalten.de/wp-content/uploads/2022/09/19.png
ORGANIZER;CN="Curatorium Altern gestalten":MAILTO:info@alterngestalten.de
END:VEVENT
BEGIN:VEVENT
DTSTART;TZID=Europe/Berlin:20221027T140000
DTEND;TZID=Europe/Berlin:20221027T150000
DTSTAMP:20260419T171144
CREATED:20220410T000008Z
LAST-MODIFIED:20220908T150238Z
UID:2776-1666879200-1666882800@www.alterngestalten.de
SUMMARY:Spaziergang: Wo die Zitronen blühn´
DESCRIPTION:Entdecken Sie auf den von „Geschichte für Alle“ geführten Rundgang Herbstrauben und Winterstiefel und lernen Sie ganz besondere Zwerge kennen. \nDie berühmten\, historischen Hesperidengärten Nürnbergs im Stadtteil St. Johannis zwischen der Johannisstraße und der Hallerwiese sind Überbleibsel des Barock und bilden ein wahres Kleinod westlich der Nürnberger Altstadt. Die drei idyllischen Barockgärten sind miteinander barrierefrei verbunden. \nNach der griechischen Mythologie bewachten die Hesperiden in ihrem Garten einen Baum mit goldenen Äpfeln\, die den Göttern ewige Jugend bescheren sollten. Herkules bewältigte eine seiner zwölf Arbeiten\, indem er sie dennoch raubte. In Anlehnung an diese Sage wurden Zitrusfrüchte ihrer goldenen Schale wegen im 17. und 18. Jahrhundert von Gelehrten als Hesperiden bezeichnet\, und der Nürnberger Kaufmann und Hobbybotaniker Johann Christoph Volkamer war wohl mit einer seiner Abhandlungen für den wunderschönen Namen Hesperidengärten in seiner Heimatstadt verantwortlich. \nUnd zum Ausklang lädt die nostalgische Kaffeestube am Hesperidengarten zu einem gemütlichen Plausch. \nDie Teilnahme ist kostenfrei (nicht enthalten sind die Kosten für Kaffee und Kuchen). \nBitte melden Sie sich bei Curatorium Altern gestalten\, wenn Sie und/oder An-und Zugehörige an diesem Spaziergang teilnehmen möchten. Gerne helfen wir Ihnen dabei\, den Veranstaltungsort barrierefrei zu erreichen. Nehmen Sie mit uns Kontakt auf: 09152-92 88400 oder per Mail: dialog@alterngestalten.de. \n\n\n\nAnmeldung Spaziergang HesperidengärtenZu Geschichte für alle e.V.Partner von: Gefördert durch:
URL:https://www.alterngestalten.de/event/geschichtefueralle/
CATEGORIES:ALLE PROJEKTE,KUNST & KULTUR
ATTACH;FMTTYPE=image/png:https://www.alterngestalten.de/wp-content/uploads/2022/09/23.png
ORGANIZER;CN="Curatorium Altern gestalten":MAILTO:info@alterngestalten.de
END:VEVENT
END:VCALENDAR