BEGIN:VCALENDAR
VERSION:2.0
PRODID:-//alterngestalten.de - ECPv6.8.3//NONSGML v1.0//EN
CALSCALE:GREGORIAN
METHOD:PUBLISH
X-WR-CALNAME:alterngestalten.de
X-ORIGINAL-URL:https://www.alterngestalten.de
X-WR-CALDESC:Veranstaltungen für alterngestalten.de
REFRESH-INTERVAL;VALUE=DURATION:PT1H
X-Robots-Tag:noindex
X-PUBLISHED-TTL:PT1H
BEGIN:VTIMEZONE
TZID:Europe/Berlin
BEGIN:DAYLIGHT
TZOFFSETFROM:+0100
TZOFFSETTO:+0200
TZNAME:CEST
DTSTART:20220327T010000
END:DAYLIGHT
BEGIN:STANDARD
TZOFFSETFROM:+0200
TZOFFSETTO:+0100
TZNAME:CET
DTSTART:20221030T010000
END:STANDARD
END:VTIMEZONE
BEGIN:VEVENT
DTSTART;TZID=Europe/Berlin:20220919T140000
DTEND;TZID=Europe/Berlin:20220919T153000
DTSTAMP:20260419T235402
CREATED:20220410T000008Z
LAST-MODIFIED:20220908T133156Z
UID:2719-1663596000-1663601400@www.alterngestalten.de
SUMMARY:Kunstspaziergang durch die Skulpturensammlung am Dachsberg
DESCRIPTION:Dieser Kunstspaziergang führt uns auf das Gelände des Blindeninstitutes Rückersdorf und die dortige Skulpturensammlung. Unter dem Titel „Skulpturen am Dachsberg – Kunst anders sehen“ sind dort an exponierten Stellen des parkartigen Geländes Arbeiten von renommierten Künstlern aus der Region ausgestellt und der Öffentlichkeit zugänglich gemacht worden. \nPhilip Schramm\, Kunsthistoriker am Stadtmuseum Bayreuth führt zusammen mit Rudi Lacher\, dem ehemaligem Leiter des Blindeninstituts\, zu ausgewählten Objekten der Sammlung. Auf dem 1-stündigen Spaziergang über das barrierefreie Gelände werden wir gemeinsam die Skulpturen erfahren\, befühlen und auch zum Klingen bringen. Im Anschluss sind alle Teilnehmer:innen herzlich zu einem gemeinsamen Kaffeetrinken im Bistro des Blindeninstituts eingeladen. \nDie Teilnahme ist kostenfrei. Die Teilnehmerzahl ist begrenzt. \nBitte melden Sie sich bei Curatorium Altern gestalten\, falls Sie die Führung gerne mitmachen möchten. Wir helfen Ihnen auch dabei\, wenn Sie Probleme haben\, zum Veranstaltungsort zu gelangen. Nehmen Sie mit uns Kontakt auf: 09152-92 88400 oder per Mail: dialog@alterngestalten.de. \n\n\n\nAnmeldung zum Kunstspaziergang am Dachsbergmehr über den Skulpturenpark am DachsbergPartner von: Gefördert durch:
URL:https://www.alterngestalten.de/event/skulpturenpark/
CATEGORIES:ALLE PROJEKTE,KUNST & KULTUR
ATTACH;FMTTYPE=image/png:https://www.alterngestalten.de/wp-content/uploads/2022/09/17.png
ORGANIZER;CN="Curatorium Altern gestalten":MAILTO:info@alterngestalten.de
END:VEVENT
BEGIN:VEVENT
DTSTART;TZID=Europe/Berlin:20220921T103000
DTEND;TZID=Europe/Berlin:20220921T120000
DTSTAMP:20260419T235402
CREATED:20210808T080016Z
LAST-MODIFIED:20220826T124314Z
UID:2633-1663756200-1663761600@www.alterngestalten.de
SUMMARY:Kultur\, Vielfalt & Älterwerden in Oberfranken (1)
DESCRIPTION:Die Veranstaltungsreihe besteht aus 3 Onlinemodulen (21.9.22\, 09.11.22 und 18.1.2023\, jeweils 10.30 – 12.00 Uhr) und richtet sich speziell an Kultur- und Freizeitanbietende aus Oberfranken\, die ein grundsätzliches Interesse an senioren- und/oder demenzsensiblen Angeboten haben. \nIm ersten Onlineworkshop geben Frau Hofmann\, Frau Hopperdietzel und Frau Reinhardt von der Fachstelle für Demenz und Pflege Oberfranken interessierten Kultur- und Freizeitanbietern einen fachlichen Input über die Krankheitsbilder der Demenz\, den Umgang sowie die Kommunikation mit Betroffenen als Grundlage für die Entwicklung  neuer kultureller Programme und Angebote. \nDie Teilnehmer*innen haben die Möglichkeit\, individuelle Fragen einzubringen. Die Teilnahme an der Veranstaltung ist kostenfrei und richtet sich ausschließlich an Akteur:innen von Kultur- und Freizeiteinrichtungen aus Oberfranken. \nDie Durchführung der Veranstaltung erfolgt mit Zoom. Bei Fragen stehen wir gerne im Vorfeld telefonisch zur Verfügung: 09152-92 88 400. \nInfo & AnmeldungZum FlyerEine Kooperation zwischen
URL:https://www.alterngestalten.de/event/kuv-oberfranken-1/
LOCATION:Digital in ZOOM\, Deutschland
CATEGORIES:KUNST & KULTUR
ATTACH;FMTTYPE=image/png:https://www.alterngestalten.de/wp-content/uploads/2021/08/KUV_Oberfranken.png
ORGANIZER;CN="Dialog%3A Kultur & Demenz by Curatorium Altern gestalten":MAILTO:dialog@alterngestalten.de
END:VEVENT
BEGIN:VEVENT
DTSTART;TZID=Europe/Berlin:20220927T140000
DTEND;TZID=Europe/Berlin:20220927T163000
DTSTAMP:20260419T235402
CREATED:20220410T000008Z
LAST-MODIFIED:20220608T144211Z
UID:1995-1664287200-1664296200@www.alterngestalten.de
SUMMARY:Clubnachmittag am Valznerweiher
DESCRIPTION:Auf zum Club!  \nDer Nürnberger Club heißt erneut in diesem Jahr ältere Clubfans und ihre Begleitungen am Valznerweiher willkommen. Sie erhalten einen exklusiven Rundgang beim 1. FCN\, lernen Expert/innen und junge Spieler aus dem Club-Leistungszentrum kennen und zu guter Letzt krönt diesen Nachmittag die Tribünengeschichten mit einem Spieler aus der Meistermannschaft in den Stuhlfauthsstuben. \nCuratorium Altern gestalten organisiert An-und Abfahrt mit Taxen und kümmert sich gern um ehrenamtliche Begleitungen.\nMelden Sie sich schnell an\, die Teilnehmerzahl ist begrenzt. \nDiese Führung gehört zum Programm TRIBÜNENGESCHICHTEN für Fans 70plus. Es ist ein kostenfreies Angebot des 1.FCN und Curatorium Altern gestalten. \nNehmen Sie bei Interesse mit uns Kontakt auf: 0 911 9 40 79 167 oder per Mail oehring@fcn.de \n\n\n\nAnmeldung zum Clubnachmittag!Download Programm 2022 “Tribünengeschichten”Zum Video über die “Tribünengeschichten”Mehr Infos zum Engagement www.unserclub.dePartner von: Gefördert durch:
URL:https://www.alterngestalten.de/event/maxmorlock/
LOCATION:1.FCN Nürnberg\, Valznerweiherstraße 200\, Nürnberg\, Bayern\, 90480\, Deutschland
CATEGORIES:ALLE PROJEKTE,KUNST & KULTUR
ATTACH;FMTTYPE=image/jpeg:https://www.alterngestalten.de/wp-content/uploads/2022/04/Tribuenengeschichten_1.jpg
ORGANIZER;CN="1.FC N%C3%BCrnberg":MAILTO:oehring@fcn.de
END:VEVENT
END:VCALENDAR