BEGIN:VCALENDAR
VERSION:2.0
PRODID:-//alterngestalten.de - ECPv6.8.3//NONSGML v1.0//EN
CALSCALE:GREGORIAN
METHOD:PUBLISH
X-ORIGINAL-URL:https://www.alterngestalten.de
X-WR-CALDESC:Veranstaltungen für alterngestalten.de
REFRESH-INTERVAL;VALUE=DURATION:PT1H
X-Robots-Tag:noindex
X-PUBLISHED-TTL:PT1H
BEGIN:VTIMEZONE
TZID:Europe/Berlin
BEGIN:DAYLIGHT
TZOFFSETFROM:+0100
TZOFFSETTO:+0200
TZNAME:CEST
DTSTART:20240331T010000
END:DAYLIGHT
BEGIN:STANDARD
TZOFFSETFROM:+0200
TZOFFSETTO:+0100
TZNAME:CET
DTSTART:20241027T010000
END:STANDARD
END:VTIMEZONE
BEGIN:VEVENT
DTSTART;TZID=Europe/Berlin:20240312T160000
DTEND;TZID=Europe/Berlin:20240312T170000
DTSTAMP:20260421T203659
CREATED:20240220T010008Z
LAST-MODIFIED:20240226T231857Z
UID:6127-1710259200-1710262800@www.alterngestalten.de
SUMMARY:Stress kennt kein Alter Entlastung durch Kreativität I PFLEGE:PLUS Vortrag
DESCRIPTION:Das DUERER-Studienteam am Klinikum Nürnberg erforscht seit mehreren Jahren die Effekte von kreativer Betätigung bei älteren Menschen. Im Vortrag wird das momentane Studienprojekt für belastete pflegende An- und Zugehörige ab 65 Jahren vorgestellt.\nReferentinnen:\nDr. medic. Johanna Masuch\, Kunsttherapeutin Klinikum Nürnberg I Campus Nord\nMA Petra Siebenhaar\, Kunsttherapeutin Klinikum Nürnberg | Campus Nord  \nWir bieten Ihnen an\, dass unser ehrenamtliches und geschultes Gästeteam aus dem Entlastungsangebot „Pause von Zuhause“ Ihre Angehörigen in der Cafeteria im Heilig-Geist-Haus liebevoll betreut.\nSie können die Veranstaltungen im KLARA- Zentrum\, Klaragasse 3 unbesorgt besuchen und wissen\, dass Ihre Lieben ganz in Ihrer Nähe und in guten Händen sind. \nPFLEGE:PLUS ist eine Vortragsreihe für pflegende Angehörige\, die darauf abzielt\, durch Expertenvorträge und Workshops Wissen zu erweitern und praktische Fähigkeiten zu stärken. Die Reihe bietet eine Plattform für den Austausch und die Unterstützung im Alltag pflegender Angehöriger. \nDownload Flyer PflegePlusDigitale AnmeldungDer Vortrag und die Betreuung der Angehörigen ist kostenfrei. \nIhr Kontakt zu uns: \n\ndigitale Anmeldung (siehe oben)\n0 91 52 – 92 88 400\ndialog@alterngestalten.de\nVeranstaltungsort: KLARA\, Klaragasse 3\, 90402 Nürnberg\n\nSie können nicht vor Ort dabei sein? Bei den Vorträgen im KLARA-Zentrum ist eine Teilnahme  auch Online über Zoom möglich. Bitte setzen Sie sich mit uns in Verbindung\, um den Zugangslink zu erhalten.
URL:https://www.alterngestalten.de/event/duererteam/
LOCATION:KLARA – Zentrum für Beratung & Engagement\, Klaragasse 3\, Nürnberg\, 90402\, Deutschland
CATEGORIES:ALLE PROJEKTE,ALLTAG & PFLEGE,KUNST & KULTUR
ATTACH;FMTTYPE=image/jpeg:https://www.alterngestalten.de/wp-content/uploads/2023/06/logo-pflegeplus-01.jpg
ORGANIZER;CN="Curatorium Altern gestalten":MAILTO:info@alterngestalten.de
END:VEVENT
END:VCALENDAR