BEGIN:VCALENDAR
VERSION:2.0
PRODID:-//alterngestalten.de - ECPv6.8.3//NONSGML v1.0//EN
CALSCALE:GREGORIAN
METHOD:PUBLISH
X-WR-CALNAME:alterngestalten.de
X-ORIGINAL-URL:https://www.alterngestalten.de
X-WR-CALDESC:Veranstaltungen für alterngestalten.de
REFRESH-INTERVAL;VALUE=DURATION:PT1H
X-Robots-Tag:noindex
X-PUBLISHED-TTL:PT1H
BEGIN:VTIMEZONE
TZID:Europe/Berlin
BEGIN:DAYLIGHT
TZOFFSETFROM:+0100
TZOFFSETTO:+0200
TZNAME:CEST
DTSTART:20220327T010000
END:DAYLIGHT
BEGIN:STANDARD
TZOFFSETFROM:+0200
TZOFFSETTO:+0100
TZNAME:CET
DTSTART:20221030T010000
END:STANDARD
END:VTIMEZONE
BEGIN:VEVENT
DTSTART;TZID=Europe/Berlin:20220726T160000
DTEND;TZID=Europe/Berlin:20220726T183000
DTSTAMP:20260421T013720
CREATED:20220410T000008Z
LAST-MODIFIED:20220410T000008Z
UID:2153-1658851200-1658860200@www.alterngestalten.de
SUMMARY:Infostunden - das Nürnberger Modellprojekt "Pause von Zuhause" sucht Engagierte
DESCRIPTION:Im Lebensalltag stehen sorgende Familiengemeinschaften oft vor vielen Herausforderungen. Die Lösung ist ein neuer Begegnungsort im Café des geschichtsträchtigen Heilig-Geist-Spitals in Nürnberg unter dem Motto „Pause von Zuhause“. \nDie Seniorinnen und Senioren können im Café des Heilig-Geist-Spitals stundenweise verweilen. Ein ehrenamtliches Gästeassistenz-Team steht unterhaltend\, unterstützend und umsichtig bereit. Ein zusätzliches Programm aus verschiedenen Angeboten (z.B. Filme\, Musik\, Kreativ) und Veranstaltungen bietet Vielfalt und tolle Erlebnisse. \nHaben Sie Lust ein Teil dieses Teams zu werden? \nDas bietet Ihnen Ihr neues Ehrenamt: \n\neine gute Vorbereitung durch eine kostenfreie Schulung mit 40 Unterrichtseinheiten\nselbstständiges Tätigsein in einem engagierten Team\nim Team entwickeln Sie ein kreatives Programm und gestalten Ihr Engagement\nden zeitlichen Umfang ihres Engagements legen Sie selbst fest\nein fachlicher Ansprechpartner steht Ihnen bei allen Fragen zur Seite\neine Ehrenamtspauschale als kleine Anerkennung ihres Engagements\n\nDas Modellprojekt „Pause von Zuhause – Gästeassistenz in öffentlichen Verweilorten“ wird aus Mitteln des Bayr. Staatsministeriums für Gesundheit und Pflege sowie durch die Arbeitsgemeinschaft der Pflegekassenverbände in Bayern (soziale Pflegekassen) und durch die private Pflegeversicherung gefördert. \n   \nAnmeldung im KLARA oder zur OnlineteilnahmeIn den Informationsstunden haben Sie die Möglichkeit unverbindlich und kostenlos mehr über das neue Ehrenamt zu erfahren. \nDie Informationsstunden finden finden im KLARA- Zentrum für Beratung und Engagement\, Klaragasse 3\, 90402 Nürnberg zwischen 16-17 Uhr oder 17.30 – 18.30 Uhr statt. \nSie möchten digital teilnehmen? \nSuchen Sie sich Ihren für Sie passenden Termin aus und teilen uns Ihren Wunsch bei der Anmeldung mit. Sie erhalten per Mail einen Zugangslink für die Onlineteilnahme. \nFlyer zum Download
URL:https://www.alterngestalten.de/event/pausevonzuhause-2/
LOCATION:Cafeteria Heilig Geist\, Spitalgasse 22\, Nürnberg\, 90403
CATEGORIES:ALLE PROJEKTE,ALLTAG & PFLEGE,ARBEIT & EHRENAMT
ATTACH;FMTTYPE=image/png:https://www.alterngestalten.de/wp-content/uploads/2022/04/Zwischenueberschrift-hinzufuegen-4.png
END:VEVENT
BEGIN:VEVENT
DTSTART;TZID=Europe/Berlin:20220809T160000
DTEND;TZID=Europe/Berlin:20220809T183000
DTSTAMP:20260421T013720
CREATED:20220410T000008Z
LAST-MODIFIED:20220410T000008Z
UID:2154-1660060800-1660069800@www.alterngestalten.de
SUMMARY:Infostunden - das Nürnberger Modellprojekt "Pause von Zuhause" sucht Engagierte
DESCRIPTION:Im Lebensalltag stehen sorgende Familiengemeinschaften oft vor vielen Herausforderungen. Die Lösung ist ein neuer Begegnungsort im Café des geschichtsträchtigen Heilig-Geist-Spitals in Nürnberg unter dem Motto „Pause von Zuhause“. \nDie Seniorinnen und Senioren können im Café des Heilig-Geist-Spitals stundenweise verweilen. Ein ehrenamtliches Gästeassistenz-Team steht unterhaltend\, unterstützend und umsichtig bereit. Ein zusätzliches Programm aus verschiedenen Angeboten (z.B. Filme\, Musik\, Kreativ) und Veranstaltungen bietet Vielfalt und tolle Erlebnisse. \nHaben Sie Lust ein Teil dieses Teams zu werden? \nDas bietet Ihnen Ihr neues Ehrenamt: \n\neine gute Vorbereitung durch eine kostenfreie Schulung mit 40 Unterrichtseinheiten\nselbstständiges Tätigsein in einem engagierten Team\nim Team entwickeln Sie ein kreatives Programm und gestalten Ihr Engagement\nden zeitlichen Umfang ihres Engagements legen Sie selbst fest\nein fachlicher Ansprechpartner steht Ihnen bei allen Fragen zur Seite\neine Ehrenamtspauschale als kleine Anerkennung ihres Engagements\n\nDas Modellprojekt „Pause von Zuhause – Gästeassistenz in öffentlichen Verweilorten“ wird aus Mitteln des Bayr. Staatsministeriums für Gesundheit und Pflege sowie durch die Arbeitsgemeinschaft der Pflegekassenverbände in Bayern (soziale Pflegekassen) und durch die private Pflegeversicherung gefördert. \n   \nAnmeldung im KLARA oder zur OnlineteilnahmeIn den Informationsstunden haben Sie die Möglichkeit unverbindlich und kostenlos mehr über das neue Ehrenamt zu erfahren. \nDie Informationsstunden finden finden im KLARA- Zentrum für Beratung und Engagement\, Klaragasse 3\, 90402 Nürnberg zwischen 16-17 Uhr oder 17.30 – 18.30 Uhr statt. \nSie möchten digital teilnehmen? \nSuchen Sie sich Ihren für Sie passenden Termin aus und teilen uns Ihren Wunsch bei der Anmeldung mit. Sie erhalten per Mail einen Zugangslink für die Onlineteilnahme. \nFlyer zum Download
URL:https://www.alterngestalten.de/event/pausevonzuhause-3/
LOCATION:Cafeteria Heilig Geist\, Spitalgasse 22\, Nürnberg\, 90403
CATEGORIES:ALLE PROJEKTE,ALLTAG & PFLEGE,ARBEIT & EHRENAMT
ATTACH;FMTTYPE=image/png:https://www.alterngestalten.de/wp-content/uploads/2022/04/Zwischenueberschrift-hinzufuegen-4.png
END:VEVENT
BEGIN:VEVENT
DTSTART;TZID=Europe/Berlin:20220816T160000
DTEND;TZID=Europe/Berlin:20220816T183000
DTSTAMP:20260421T013720
CREATED:20220410T000008Z
LAST-MODIFIED:20220410T000008Z
UID:2155-1660665600-1660674600@www.alterngestalten.de
SUMMARY:Infostunden - das Nürnberger Modellprojekt "Pause von Zuhause" sucht Engagierte
DESCRIPTION:Im Lebensalltag stehen sorgende Familiengemeinschaften oft vor vielen Herausforderungen. Die Lösung ist ein neuer Begegnungsort im Café des geschichtsträchtigen Heilig-Geist-Spitals in Nürnberg unter dem Motto „Pause von Zuhause“. \nDie Seniorinnen und Senioren können im Café des Heilig-Geist-Spitals stundenweise verweilen. Ein ehrenamtliches Gästeassistenz-Team steht unterhaltend\, unterstützend und umsichtig bereit. Ein zusätzliches Programm aus verschiedenen Angeboten (z.B. Filme\, Musik\, Kreativ) und Veranstaltungen bietet Vielfalt und tolle Erlebnisse. \nHaben Sie Lust ein Teil dieses Teams zu werden? \nDas bietet Ihnen Ihr neues Ehrenamt: \n\neine gute Vorbereitung durch eine kostenfreie Schulung mit 40 Unterrichtseinheiten\nselbstständiges Tätigsein in einem engagierten Team\nim Team entwickeln Sie ein kreatives Programm und gestalten Ihr Engagement\nden zeitlichen Umfang ihres Engagements legen Sie selbst fest\nein fachlicher Ansprechpartner steht Ihnen bei allen Fragen zur Seite\neine Ehrenamtspauschale als kleine Anerkennung ihres Engagements\n\nDas Modellprojekt „Pause von Zuhause – Gästeassistenz in öffentlichen Verweilorten“ wird aus Mitteln des Bayr. Staatsministeriums für Gesundheit und Pflege sowie durch die Arbeitsgemeinschaft der Pflegekassenverbände in Bayern (soziale Pflegekassen) und durch die private Pflegeversicherung gefördert. \n   \nAnmeldung im KLARA oder zur OnlineteilnahmeIn den Informationsstunden haben Sie die Möglichkeit unverbindlich und kostenlos mehr über das neue Ehrenamt zu erfahren. \nDie Informationsstunden finden finden im KLARA- Zentrum für Beratung und Engagement\, Klaragasse 3\, 90402 Nürnberg zwischen 16-17 Uhr oder 17.30 – 18.30 Uhr statt. \nSie möchten digital teilnehmen? \nSuchen Sie sich Ihren für Sie passenden Termin aus und teilen uns Ihren Wunsch bei der Anmeldung mit. Sie erhalten per Mail einen Zugangslink für die Onlineteilnahme. \nFlyer zum Download
URL:https://www.alterngestalten.de/event/pausevonzuhause-4/
LOCATION:Cafeteria Heilig Geist\, Spitalgasse 22\, Nürnberg\, 90403
CATEGORIES:ALLE PROJEKTE,ALLTAG & PFLEGE,ARBEIT & EHRENAMT
ATTACH;FMTTYPE=image/png:https://www.alterngestalten.de/wp-content/uploads/2022/04/Zwischenueberschrift-hinzufuegen-4.png
END:VEVENT
BEGIN:VEVENT
DTSTART;TZID=Europe/Berlin:20220906T160000
DTEND;TZID=Europe/Berlin:20220906T183000
DTSTAMP:20260421T013720
CREATED:20220410T000008Z
LAST-MODIFIED:20220410T000008Z
UID:2156-1662480000-1662489000@www.alterngestalten.de
SUMMARY:Infostunden - das Nürnberger Modellprojekt "Pause von Zuhause" sucht Engagierte
DESCRIPTION:Im Lebensalltag stehen sorgende Familiengemeinschaften oft vor vielen Herausforderungen. Die Lösung ist ein neuer Begegnungsort im Café des geschichtsträchtigen Heilig-Geist-Spitals in Nürnberg unter dem Motto „Pause von Zuhause“. \nDie Seniorinnen und Senioren können im Café des Heilig-Geist-Spitals stundenweise verweilen. Ein ehrenamtliches Gästeassistenz-Team steht unterhaltend\, unterstützend und umsichtig bereit. Ein zusätzliches Programm aus verschiedenen Angeboten (z.B. Filme\, Musik\, Kreativ) und Veranstaltungen bietet Vielfalt und tolle Erlebnisse. \nHaben Sie Lust ein Teil dieses Teams zu werden? \nDas bietet Ihnen Ihr neues Ehrenamt: \n\neine gute Vorbereitung durch eine kostenfreie Schulung mit 40 Unterrichtseinheiten\nselbstständiges Tätigsein in einem engagierten Team\nim Team entwickeln Sie ein kreatives Programm und gestalten Ihr Engagement\nden zeitlichen Umfang ihres Engagements legen Sie selbst fest\nein fachlicher Ansprechpartner steht Ihnen bei allen Fragen zur Seite\neine Ehrenamtspauschale als kleine Anerkennung ihres Engagements\n\nDas Modellprojekt „Pause von Zuhause – Gästeassistenz in öffentlichen Verweilorten“ wird aus Mitteln des Bayr. Staatsministeriums für Gesundheit und Pflege sowie durch die Arbeitsgemeinschaft der Pflegekassenverbände in Bayern (soziale Pflegekassen) und durch die private Pflegeversicherung gefördert. \n   \nAnmeldung im KLARA oder zur OnlineteilnahmeIn den Informationsstunden haben Sie die Möglichkeit unverbindlich und kostenlos mehr über das neue Ehrenamt zu erfahren. \nDie Informationsstunden finden finden im KLARA- Zentrum für Beratung und Engagement\, Klaragasse 3\, 90402 Nürnberg zwischen 16-17 Uhr oder 17.30 – 18.30 Uhr statt. \nSie möchten digital teilnehmen? \nSuchen Sie sich Ihren für Sie passenden Termin aus und teilen uns Ihren Wunsch bei der Anmeldung mit. Sie erhalten per Mail einen Zugangslink für die Onlineteilnahme. \nFlyer zum Download
URL:https://www.alterngestalten.de/event/pausevonzuhause-5/
LOCATION:Cafeteria Heilig Geist\, Spitalgasse 22\, Nürnberg\, 90403
CATEGORIES:ALLE PROJEKTE,ALLTAG & PFLEGE,ARBEIT & EHRENAMT
ATTACH;FMTTYPE=image/png:https://www.alterngestalten.de/wp-content/uploads/2022/04/Zwischenueberschrift-hinzufuegen-4.png
END:VEVENT
BEGIN:VEVENT
DTSTART;TZID=Europe/Berlin:20220913T160000
DTEND;TZID=Europe/Berlin:20220913T183000
DTSTAMP:20260421T013720
CREATED:20220410T000008Z
LAST-MODIFIED:20220908T160235Z
UID:2002-1663084800-1663093800@www.alterngestalten.de
SUMMARY:Infostunden - das Nürnberger Modellprojekt "Pause von Zuhause" sucht Engagierte
DESCRIPTION:Im Lebensalltag stehen sorgende Familiengemeinschaften oft vor vielen Herausforderungen. Die Lösung ist ein neuer Begegnungsort im Café des geschichtsträchtigen Heilig-Geist-Spitals in Nürnberg unter dem Motto „Pause von Zuhause“. \nDie Seniorinnen und Senioren können im Café des Heilig-Geist-Spitals stundenweise verweilen. Ein ehrenamtliches Gästeassistenz-Team steht unterhaltend\, unterstützend und umsichtig bereit. Ein zusätzliches Programm aus verschiedenen Angeboten (z.B. Filme\, Musik\, Kreativ) und Veranstaltungen bietet Vielfalt und tolle Erlebnisse. \nHaben Sie Lust ein Teil dieses Teams zu werden? \nDas bietet Ihnen Ihr neues Ehrenamt: \n\neine gute Vorbereitung durch eine kostenfreie Schulung mit 40 Unterrichtseinheiten\nselbstständiges Tätigsein in einem engagierten Team\nim Team entwickeln Sie ein kreatives Programm und gestalten Ihr Engagement\nden zeitlichen Umfang ihres Engagements legen Sie selbst fest\nein fachlicher Ansprechpartner steht Ihnen bei allen Fragen zur Seite\neine Ehrenamtspauschale als kleine Anerkennung ihres Engagements\n\nDas Modellprojekt „Pause von Zuhause – Gästeassistenz in öffentlichen Verweilorten“ wird aus Mitteln des Bayr. Staatsministeriums für Gesundheit und Pflege sowie durch die Arbeitsgemeinschaft der Pflegekassenverbände in Bayern (soziale Pflegekassen) und durch die private Pflegeversicherung gefördert. \n   \nAnmeldung im KLARA oder zur OnlineteilnahmeIn den Informationsstunden haben Sie die Möglichkeit unverbindlich und kostenlos mehr über das neue Ehrenamt zu erfahren. \nDie Informationsstunden finden im KLARA- Zentrum für Beratung und Engagement\, Klaragasse 3\, 90402 Nürnberg zwischen 16-17 Uhr oder 17.30 – 18.30 Uhr statt. \nSie möchten digital teilnehmen? \nSuchen Sie sich Ihren für Sie passenden Termin aus und teilen uns Ihren Wunsch bei der Anmeldung mit. Sie erhalten per Mail einen Zugangslink für die Onlineteilnahme. \nFlyer zum Download
URL:https://www.alterngestalten.de/event/pausevonzuhause/
LOCATION:Cafeteria Heilig Geist\, Spitalgasse 22\, Nürnberg\, 90403
CATEGORIES:ALLE PROJEKTE,ALLTAG & PFLEGE,ARBEIT & EHRENAMT
ATTACH;FMTTYPE=image/png:https://www.alterngestalten.de/wp-content/uploads/2022/04/Zwischenueberschrift-hinzufuegen-4.png
END:VEVENT
BEGIN:VEVENT
DTSTART;TZID=Europe/Berlin:20220920T160000
DTEND;TZID=Europe/Berlin:20220920T183000
DTSTAMP:20260421T013720
CREATED:20220410T000008Z
LAST-MODIFIED:20220908T085943Z
UID:2698-1663689600-1663698600@www.alterngestalten.de
SUMMARY:Infostunden - das Nürnberger Modellprojekt "Pause von Zuhause" sucht Engagierte
DESCRIPTION:Im Lebensalltag stehen sorgende Familiengemeinschaften oft vor vielen Herausforderungen. Die Lösung ist ein neuer Begegnungsort im Café des geschichtsträchtigen Heilig-Geist-Spitals in Nürnberg unter dem Motto „Pause von Zuhause“. \nDie Seniorinnen und Senioren können im Café des Heilig-Geist-Spitals stundenweise verweilen. Ein ehrenamtliches Gästeassistenz-Team steht unterhaltend\, unterstützend und umsichtig bereit. Ein zusätzliches Programm aus verschiedenen Angeboten (z.B. Filme\, Musik\, Kreativ) und Veranstaltungen bietet Vielfalt und tolle Erlebnisse. \nHaben Sie Lust ein Teil dieses Teams zu werden? \nDas bietet Ihnen Ihr neues Ehrenamt: \n\neine gute Vorbereitung durch eine kostenfreie Schulung mit 40 Unterrichtseinheiten\nselbstständiges Tätigsein in einem engagierten Team\nim Team entwickeln Sie ein kreatives Programm und gestalten Ihr Engagement\nden zeitlichen Umfang ihres Engagements legen Sie selbst fest\nein fachlicher Ansprechpartner steht Ihnen bei allen Fragen zur Seite\neine Ehrenamtspauschale als kleine Anerkennung ihres Engagements\n\nDas Modellprojekt „Pause von Zuhause – Gästeassistenz in öffentlichen Verweilorten“ wird aus Mitteln des Bayr. Staatsministeriums für Gesundheit und Pflege sowie durch die Arbeitsgemeinschaft der Pflegekassenverbände in Bayern (soziale Pflegekassen) und durch die private Pflegeversicherung gefördert. \n   \nAnmeldung im KLARA oder zur OnlineteilnahmeIn den Informationsstunden haben Sie die Möglichkeit unverbindlich und kostenlos mehr über das neue Ehrenamt zu erfahren. \nDie Informationsstunden finden finden im KLARA- Zentrum für Beratung und Engagement\, Klaragasse 3\, 90402 Nürnberg zwischen 16-17 Uhr oder 17.30 – 18.30 Uhr statt. \nSie möchten digital teilnehmen? \nSuchen Sie sich Ihren für Sie passenden Termin aus und teilen uns Ihren Wunsch bei der Anmeldung mit. Sie erhalten per Mail einen Zugangslink für die Onlineteilnahme. \nFlyer zum Download
URL:https://www.alterngestalten.de/event/pausevonzuhause-2022-09-20/
LOCATION:Cafeteria Heilig Geist\, Spitalgasse 22\, Nürnberg\, 90403
CATEGORIES:ALLE PROJEKTE,ALLTAG & PFLEGE,ARBEIT & EHRENAMT
ATTACH;FMTTYPE=image/png:https://www.alterngestalten.de/wp-content/uploads/2022/04/Zwischenueberschrift-hinzufuegen-4.png
END:VEVENT
BEGIN:VEVENT
DTSTART;TZID=Europe/Berlin:20220927T160000
DTEND;TZID=Europe/Berlin:20220927T183000
DTSTAMP:20260421T013720
CREATED:20220410T000008Z
LAST-MODIFIED:20220908T160146Z
UID:2699-1664294400-1664303400@www.alterngestalten.de
SUMMARY:Infostunden - das Nürnberger Modellprojekt "Pause von Zuhause" sucht Engagierte
DESCRIPTION:Im Lebensalltag stehen sorgende Familiengemeinschaften oft vor vielen Herausforderungen. Die Lösung ist ein neuer Begegnungsort im Café des geschichtsträchtigen Heilig-Geist-Spitals in Nürnberg unter dem Motto „Pause von Zuhause“. \nDie Seniorinnen und Senioren können im Café des Heilig-Geist-Spitals stundenweise verweilen. Ein ehrenamtliches Gästeassistenz-Team steht unterhaltend\, unterstützend und umsichtig bereit. Ein zusätzliches Programm aus verschiedenen Angeboten (z.B. Filme\, Musik\, Kreativ) und Veranstaltungen bietet Vielfalt und tolle Erlebnisse. \nHaben Sie Lust ein Teil dieses Teams zu werden? \nDas bietet Ihnen Ihr neues Ehrenamt: \n\neine gute Vorbereitung durch eine kostenfreie Schulung mit 40 Unterrichtseinheiten\nselbstständiges Tätigsein in einem engagierten Team\nim Team entwickeln Sie ein kreatives Programm und gestalten Ihr Engagement\nden zeitlichen Umfang ihres Engagements legen Sie selbst fest\nein fachlicher Ansprechpartner steht Ihnen bei allen Fragen zur Seite\neine Ehrenamtspauschale als kleine Anerkennung ihres Engagements\n\nDas Modellprojekt „Pause von Zuhause – Gästeassistenz in öffentlichen Verweilorten“ wird aus Mitteln des Bayr. Staatsministeriums für Gesundheit und Pflege sowie durch die Arbeitsgemeinschaft der Pflegekassenverbände in Bayern (soziale Pflegekassen) und durch die private Pflegeversicherung gefördert. \n   \nAnmeldung im KLARA oder zur OnlineteilnahmeIn den Informationsstunden haben Sie die Möglichkeit unverbindlich und kostenlos mehr über das neue Ehrenamt zu erfahren. \nDie Informationsstunden finden im KLARA- Zentrum für Beratung und Engagement\, Klaragasse 3\, 90402 Nürnberg zwischen 16-17 Uhr oder 17.30 – 18.30 Uhr statt. \nSie möchten digital teilnehmen? \nSuchen Sie sich Ihren für Sie passenden Termin aus und teilen uns Ihren Wunsch bei der Anmeldung mit. Sie erhalten per Mail einen Zugangslink für die Onlineteilnahme. \nFlyer zum Download
URL:https://www.alterngestalten.de/event/pausevonzuhause-2022-09-27/
LOCATION:Cafeteria Heilig Geist\, Spitalgasse 22\, Nürnberg\, 90403
CATEGORIES:ALLE PROJEKTE,ALLTAG & PFLEGE,ARBEIT & EHRENAMT
ATTACH;FMTTYPE=image/png:https://www.alterngestalten.de/wp-content/uploads/2022/04/Zwischenueberschrift-hinzufuegen-4.png
END:VEVENT
BEGIN:VEVENT
DTSTART;TZID=Europe/Berlin:20221004T160000
DTEND;TZID=Europe/Berlin:20221004T183000
DTSTAMP:20260421T013720
CREATED:20220410T000008Z
LAST-MODIFIED:20220908T155847Z
UID:2700-1664899200-1664908200@www.alterngestalten.de
SUMMARY:Infostunden - das Nürnberger Modellprojekt "Pause von Zuhause" sucht Engagierte
DESCRIPTION:Im Lebensalltag stehen sorgende Familiengemeinschaften oft vor vielen Herausforderungen. Die Lösung ist ein neuer Begegnungsort im Café des geschichtsträchtigen Heilig-Geist-Spitals in Nürnberg unter dem Motto „Pause von Zuhause“. \nDie Seniorinnen und Senioren können im Café des Heilig-Geist-Spitals stundenweise verweilen. Ein ehrenamtliches Gästeassistenz-Team steht unterhaltend\, unterstützend und umsichtig bereit. Ein zusätzliches Programm aus verschiedenen Angeboten (z.B. Filme\, Musik\, Kreativ) und Veranstaltungen bietet Vielfalt und tolle Erlebnisse. \nHaben Sie Lust ein Teil dieses Teams zu werden? \nDas bietet Ihnen Ihr neues Ehrenamt: \n\neine gute Vorbereitung durch eine kostenfreie Schulung mit 40 Unterrichtseinheiten\nselbstständiges Tätigsein in einem engagierten Team\nim Team entwickeln Sie ein kreatives Programm und gestalten Ihr Engagement\nden zeitlichen Umfang ihres Engagements legen Sie selbst fest\nein fachlicher Ansprechpartner steht Ihnen bei allen Fragen zur Seite\neine Ehrenamtspauschale als kleine Anerkennung ihres Engagements\n\nDas Modellprojekt „Pause von Zuhause – Gästeassistenz in öffentlichen Verweilorten“ wird aus Mitteln des Bayr. Staatsministeriums für Gesundheit und Pflege sowie durch die Arbeitsgemeinschaft der Pflegekassenverbände in Bayern (soziale Pflegekassen) und durch die private Pflegeversicherung gefördert. \n   \nAnmeldung im KLARA oder zur OnlineteilnahmeIn den Informationsstunden haben Sie die Möglichkeit unverbindlich und kostenlos mehr über das neue Ehrenamt zu erfahren. \nDie Informationsstunden finden im KLARA- Zentrum für Beratung und Engagement\, Klaragasse 3\, 90402 Nürnberg zwischen 16-17 Uhr oder 17.30 – 18.30 Uhr statt. \nSie möchten digital teilnehmen? \nSuchen Sie sich Ihren für Sie passenden Termin aus und teilen uns Ihren Wunsch bei der Anmeldung mit. Sie erhalten per Mail einen Zugangslink für die Onlineteilnahme. \nFlyer zum Download
URL:https://www.alterngestalten.de/event/pausevonzuhause-2022-10-04/
LOCATION:Cafeteria Heilig Geist\, Spitalgasse 22\, Nürnberg\, 90403
CATEGORIES:ALLE PROJEKTE,ALLTAG & PFLEGE,ARBEIT & EHRENAMT
ATTACH;FMTTYPE=image/png:https://www.alterngestalten.de/wp-content/uploads/2022/04/Zwischenueberschrift-hinzufuegen-4.png
END:VEVENT
BEGIN:VEVENT
DTSTART;TZID=Europe/Berlin:20221011T160000
DTEND;TZID=Europe/Berlin:20221011T183000
DTSTAMP:20260421T013720
CREATED:20220410T000008Z
LAST-MODIFIED:20220908T160401Z
UID:2701-1665504000-1665513000@www.alterngestalten.de
SUMMARY:Infostunden - das Nürnberger Modellprojekt "Pause von Zuhause" sucht Engagierte
DESCRIPTION:Im Lebensalltag stehen sorgende Familiengemeinschaften oft vor vielen Herausforderungen. Die Lösung ist ein neuer Begegnungsort im Café des geschichtsträchtigen Heilig-Geist-Spitals in Nürnberg unter dem Motto „Pause von Zuhause“. \nDie Seniorinnen und Senioren können im Café des Heilig-Geist-Spitals stundenweise verweilen. Ein ehrenamtliches Gästeassistenz-Team steht unterhaltend\, unterstützend und umsichtig bereit. Ein zusätzliches Programm aus verschiedenen Angeboten (z.B. Filme\, Musik\, Kreativ) und Veranstaltungen bietet Vielfalt und tolle Erlebnisse. \nHaben Sie Lust ein Teil dieses Teams zu werden? \nDas bietet Ihnen Ihr neues Ehrenamt: \n\neine gute Vorbereitung durch eine kostenfreie Schulung mit 40 Unterrichtseinheiten\nselbstständiges Tätigsein in einem engagierten Team\nim Team entwickeln Sie ein kreatives Programm und gestalten Ihr Engagement\nden zeitlichen Umfang ihres Engagements legen Sie selbst fest\nein fachlicher Ansprechpartner steht Ihnen bei allen Fragen zur Seite\neine Ehrenamtspauschale als kleine Anerkennung ihres Engagements\n\nDas Modellprojekt „Pause von Zuhause – Gästeassistenz in öffentlichen Verweilorten“ wird aus Mitteln des Bayr. Staatsministeriums für Gesundheit und Pflege sowie durch die Arbeitsgemeinschaft der Pflegekassenverbände in Bayern (soziale Pflegekassen) und durch die private Pflegeversicherung gefördert. \n   \nAnmeldung im KLARA oder zur OnlineteilnahmeIn den Informationsstunden haben Sie die Möglichkeit unverbindlich und kostenlos mehr über das neue Ehrenamt zu erfahren. \nDie Informationsstunden finden im KLARA- Zentrum für Beratung und Engagement\, Klaragasse 3\, 90402 Nürnberg zwischen 16-17 Uhr oder 17.30 – 18.30 Uhr statt. \nSie möchten digital teilnehmen? \nSuchen Sie sich Ihren für Sie passenden Termin aus und teilen uns Ihren Wunsch bei der Anmeldung mit. Sie erhalten per Mail einen Zugangslink für die Onlineteilnahme. \nFlyer zum Download
URL:https://www.alterngestalten.de/event/pausevonzuhause-2022-10-11/
LOCATION:Cafeteria Heilig Geist\, Spitalgasse 22\, Nürnberg\, 90403
CATEGORIES:ALLE PROJEKTE,ALLTAG & PFLEGE,ARBEIT & EHRENAMT
ATTACH;FMTTYPE=image/png:https://www.alterngestalten.de/wp-content/uploads/2022/04/Zwischenueberschrift-hinzufuegen-4.png
END:VEVENT
BEGIN:VEVENT
DTSTART;TZID=Europe/Berlin:20221018T160000
DTEND;TZID=Europe/Berlin:20221018T183000
DTSTAMP:20260421T013720
CREATED:20220410T000008Z
LAST-MODIFIED:20220908T160053Z
UID:2702-1666108800-1666117800@www.alterngestalten.de
SUMMARY:Infostunden - das Nürnberger Modellprojekt "Pause von Zuhause" sucht Engagierte
DESCRIPTION:Im Lebensalltag stehen sorgende Familiengemeinschaften oft vor vielen Herausforderungen. Die Lösung ist ein neuer Begegnungsort im Café des geschichtsträchtigen Heilig-Geist-Spitals in Nürnberg unter dem Motto „Pause von Zuhause“. \nDie Seniorinnen und Senioren können im Café des Heilig-Geist-Spitals stundenweise verweilen. Ein ehrenamtliches Gästeassistenz-Team steht unterhaltend\, unterstützend und umsichtig bereit. Ein zusätzliches Programm aus verschiedenen Angeboten (z.B. Filme\, Musik\, Kreativ) und Veranstaltungen bietet Vielfalt und tolle Erlebnisse. \nHaben Sie Lust ein Teil dieses Teams zu werden? \nDas bietet Ihnen Ihr neues Ehrenamt: \n\neine gute Vorbereitung durch eine kostenfreie Schulung mit 40 Unterrichtseinheiten\nselbstständiges Tätigsein in einem engagierten Team\nim Team entwickeln Sie ein kreatives Programm und gestalten Ihr Engagement\nden zeitlichen Umfang ihres Engagements legen Sie selbst fest\nein fachlicher Ansprechpartner steht Ihnen bei allen Fragen zur Seite\neine Ehrenamtspauschale als kleine Anerkennung ihres Engagements\n\nDas Modellprojekt „Pause von Zuhause – Gästeassistenz in öffentlichen Verweilorten“ wird aus Mitteln des Bayr. Staatsministeriums für Gesundheit und Pflege sowie durch die Arbeitsgemeinschaft der Pflegekassenverbände in Bayern (soziale Pflegekassen) und durch die private Pflegeversicherung gefördert. \n   \nAnmeldung im KLARA oder zur OnlineteilnahmeIn den Informationsstunden haben Sie die Möglichkeit unverbindlich und kostenlos mehr über das neue Ehrenamt zu erfahren. \nDie Informationsstunden finden im KLARA- Zentrum für Beratung und Engagement\, Klaragasse 3\, 90402 Nürnberg zwischen 16-17 Uhr oder 17.30 – 18.30 Uhr statt. \nSie möchten digital teilnehmen? \nSuchen Sie sich Ihren für Sie passenden Termin aus und teilen uns Ihren Wunsch bei der Anmeldung mit. Sie erhalten per Mail einen Zugangslink für die Onlineteilnahme. \nFlyer zum Download
URL:https://www.alterngestalten.de/event/pausevonzuhause-2022-10-18/
LOCATION:Cafeteria Heilig Geist\, Spitalgasse 22\, Nürnberg\, 90403
CATEGORIES:ALLE PROJEKTE,ALLTAG & PFLEGE,ARBEIT & EHRENAMT
ATTACH;FMTTYPE=image/png:https://www.alterngestalten.de/wp-content/uploads/2022/04/Zwischenueberschrift-hinzufuegen-4.png
END:VEVENT
BEGIN:VEVENT
DTSTART;TZID=Europe/Berlin:20221025T160000
DTEND;TZID=Europe/Berlin:20221025T183000
DTSTAMP:20260421T013720
CREATED:20220410T000008Z
LAST-MODIFIED:20220908T160006Z
UID:2703-1666713600-1666722600@www.alterngestalten.de
SUMMARY:Infostunden - das Nürnberger Modellprojekt "Pause von Zuhause" sucht Engagierte
DESCRIPTION:Im Lebensalltag stehen sorgende Familiengemeinschaften oft vor vielen Herausforderungen. Die Lösung ist ein neuer Begegnungsort im Café des geschichtsträchtigen Heilig-Geist-Spitals in Nürnberg unter dem Motto „Pause von Zuhause“. \nDie Seniorinnen und Senioren können im Café des Heilig-Geist-Spitals stundenweise verweilen. Ein ehrenamtliches Gästeassistenz-Team steht unterhaltend\, unterstützend und umsichtig bereit. Ein zusätzliches Programm aus verschiedenen Angeboten (z.B. Filme\, Musik\, Kreativ) und Veranstaltungen bietet Vielfalt und tolle Erlebnisse. \nHaben Sie Lust ein Teil dieses Teams zu werden? \nDas bietet Ihnen Ihr neues Ehrenamt: \n\neine gute Vorbereitung durch eine kostenfreie Schulung mit 40 Unterrichtseinheiten\nselbstständiges Tätigsein in einem engagierten Team\nim Team entwickeln Sie ein kreatives Programm und gestalten Ihr Engagement\nden zeitlichen Umfang ihres Engagements legen Sie selbst fest\nein fachlicher Ansprechpartner steht Ihnen bei allen Fragen zur Seite\neine Ehrenamtspauschale als kleine Anerkennung ihres Engagements\n\nDas Modellprojekt „Pause von Zuhause – Gästeassistenz in öffentlichen Verweilorten“ wird aus Mitteln des Bayr. Staatsministeriums für Gesundheit und Pflege sowie durch die Arbeitsgemeinschaft der Pflegekassenverbände in Bayern (soziale Pflegekassen) und durch die private Pflegeversicherung gefördert. \n   \nAnmeldung im KLARA oder zur OnlineteilnahmeIn den Informationsstunden haben Sie die Möglichkeit unverbindlich und kostenlos mehr über das neue Ehrenamt zu erfahren. \nDie Informationsstunden finden im KLARA- Zentrum für Beratung und Engagement\, Klaragasse 3\, 90402 Nürnberg zwischen 16-17 Uhr oder 17.30 – 18.30 Uhr statt. \nSie möchten digital teilnehmen? \nSuchen Sie sich Ihren für Sie passenden Termin aus und teilen uns Ihren Wunsch bei der Anmeldung mit. Sie erhalten per Mail einen Zugangslink für die Onlineteilnahme. \nFlyer zum Download
URL:https://www.alterngestalten.de/event/pausevonzuhause-2022-10-25/
LOCATION:Cafeteria Heilig Geist\, Spitalgasse 22\, Nürnberg\, 90403
CATEGORIES:ALLE PROJEKTE,ALLTAG & PFLEGE,ARBEIT & EHRENAMT
ATTACH;FMTTYPE=image/png:https://www.alterngestalten.de/wp-content/uploads/2022/04/Zwischenueberschrift-hinzufuegen-4.png
END:VEVENT
END:VCALENDAR