BEGIN:VCALENDAR
VERSION:2.0
PRODID:-//alterngestalten.de - ECPv6.8.3//NONSGML v1.0//EN
CALSCALE:GREGORIAN
METHOD:PUBLISH
X-ORIGINAL-URL:https://www.alterngestalten.de
X-WR-CALDESC:Veranstaltungen für alterngestalten.de
REFRESH-INTERVAL;VALUE=DURATION:PT1H
X-Robots-Tag:noindex
X-PUBLISHED-TTL:PT1H
BEGIN:VTIMEZONE
TZID:Europe/Berlin
BEGIN:DAYLIGHT
TZOFFSETFROM:+0100
TZOFFSETTO:+0200
TZNAME:CEST
DTSTART:20230326T010000
END:DAYLIGHT
BEGIN:STANDARD
TZOFFSETFROM:+0200
TZOFFSETTO:+0100
TZNAME:CET
DTSTART:20231029T010000
END:STANDARD
END:VTIMEZONE
BEGIN:VEVENT
DTSTART;TZID=Europe/Berlin:20231020T160000
DTEND;TZID=Europe/Berlin:20231020T173000
DTSTAMP:20260423T032649
CREATED:20210808T080016Z
LAST-MODIFIED:20230304T004234Z
UID:3177-1697817600-1697823000@www.alterngestalten.de
SUMMARY:FILM Beirat 60plus Monatstreffen
DESCRIPTION:Der FILM Beirat 60plus engagiert sich für mehr Sichtbarkeit des Alters in Film und Fernsehen. Wir treffen uns am 3. Dienstag im Monat von 16.00 – 17.30 Uhr.  Hier tauschen wir die Ergebnisse aus den Arbeitsgruppen aus und setzen neue Impulse für unsere FILM Beiratsarbeit. \nMehr Informationen: www.filmbeirat60plus.online \nWenn Sie Interesse haben\, am FILM Beirat 60plus mitzuwirken\, schreiben Sie uns an: dialog@alterngestalten.de 
URL:https://www.alterngestalten.de/event/filmbeirat-23-9/
LOCATION:Digital in ZOOM\, Deutschland
CATEGORIES:MEDIEN & FILM
ATTACH;FMTTYPE=image/png:https://www.alterngestalten.de/wp-content/uploads/2021/08/FILMBeirat-Veranstaltungen.png
ORGANIZER;CN="Curatorium Altern gestalten":MAILTO:info@alterngestalten.de
END:VEVENT
END:VCALENDAR