BEGIN:VCALENDAR
VERSION:2.0
PRODID:-//alterngestalten.de - ECPv6.8.3//NONSGML v1.0//EN
CALSCALE:GREGORIAN
METHOD:PUBLISH
X-ORIGINAL-URL:https://www.alterngestalten.de
X-WR-CALDESC:Veranstaltungen für alterngestalten.de
REFRESH-INTERVAL;VALUE=DURATION:PT1H
X-Robots-Tag:noindex
X-PUBLISHED-TTL:PT1H
BEGIN:VTIMEZONE
TZID:Europe/Berlin
BEGIN:DAYLIGHT
TZOFFSETFROM:+0100
TZOFFSETTO:+0200
TZNAME:CEST
DTSTART:20250330T010000
END:DAYLIGHT
BEGIN:STANDARD
TZOFFSETFROM:+0200
TZOFFSETTO:+0100
TZNAME:CET
DTSTART:20251026T010000
END:STANDARD
END:VTIMEZONE
BEGIN:VEVENT
DTSTART;TZID=Europe/Berlin:20250704T150000
DTEND;TZID=Europe/Berlin:20250704T163000
DTSTAMP:20260424T151334
CREATED:20250623T000008Z
LAST-MODIFIED:20250623T221703Z
UID:10857-1751641200-1751646600@www.alterngestalten.de
SUMMARY:Vernissage #pflegekunst in der Kulturwerkstatt auf AEG
DESCRIPTION:Einladung zu einer Vernissage #pflegekunst\nKünstlerische Gestaltung: Lana Novikova\nMit einer bewegten und bewegenden Vernissage unter der künstlerischen Leitung von Lana Novikova öffnen wir die Türen zur #pflegekunst-Ausstellung\, in der Senior*innen\, Pflegende und Angehörige mit großer Freude\, Fantasie und Herz gemalte\, gestaltete und experimentelle Werke präsentieren. Die Ausstellung zeigt eine farbenfrohe Vielfalt berührender Arbeiten\, die vom Alltag erzählen\, von schönen Erinnerungen\, vertrauten Lieblingsorten und vom gelebten Miteinander. Die Kunstwerke machen sichtbar\, was oft verborgen bleibt – persönlich\, überraschend und bewegend. \nMit Grußworten von\nProf. Dr. Thomas Popp\, Präsident der Evangelischen Hochschule Nürnberg\nKlaus Schmitz\, stellvertretender Amtsleiter des Seniorenamtes der Stadt Nürnberg\nGeorg Weigl\, Projektleiter Curatorium Altern gestalten\nLuise Müller\, stellvertretend für die Studierendengruppe der Evangelischen Hochschule Nürnberg. \nLana Novikova erklärt die künstlerische Gestaltung der Ausstellung #pflegekunst\nunterstützt von Co-Kuratorin Franca Walser \nEine Besonderheit:\nBegleitet wurde das Projekt von einer Studierendengruppe der Evangelischen Hochschule Nürnberg (Schwerpunkt Soziale Gerontologie)\, die parallel zur Ausstellung den Podcast „#pflegecast“ sowie den begleitenden Instagram-Kanal @pflegekunst_nuernberg entwickelt hat\, um neue Perspektiven auf Alter\, Demenz und Kreativität in die Öffentlichkeit zu tragen. \nDie Ausstellung #pflegekunst ist vom 05. bis 30. Juli 2025 täglich von 10–18 Uhr kostenfrei im Foyer der Kulturwerkstatt Auf AEG zugänglich. \nDownload Programm #pflegekunstVeranstaltungsortGefördert durch:
URL:https://www.alterngestalten.de/event/vernissage_pflegekunst/
LOCATION:Kulturwerkstatt auf AEG\, Fürther Straße 244d\, Nürnberg\, 90429
CATEGORIES:ALLE PROJEKTE,KUNST & KULTUR
ATTACH;FMTTYPE=image/jpeg:https://www.alterngestalten.de/wp-content/uploads/2024/03/pflegekunst_vernissage.jpg
ORGANIZER;CN="Curatorium Altern gestalten":MAILTO:info@alterngestalten.de
END:VEVENT
BEGIN:VEVENT
DTSTART;TZID=Europe/Berlin:20250707T140000
DTEND;TZID=Europe/Berlin:20250707T150000
DTSTAMP:20260424T151334
CREATED:20250114T010008Z
LAST-MODIFIED:20250129T095913Z
UID:9142-1751896800-1751900400@www.alterngestalten.de
SUMMARY:SingMit STATION im KUBA Hersbruck
DESCRIPTION:Die SingMit STATION im Kulturbahnhof Hersbruck ist ein offener Treff\, der Musik\, Gemeinschaft und Lebensfreude verbindet. \n\n\nZweimal im Monat\, von 13:30 bis 16:00 Uhr öffnen sich die Türen des Kulturbahnhofs und bieten Raum für gemeinsames Singen\, Zeit für Gespräche und kleine Erfrischungen. Von 14.00 bis 15.00 Uhr findet das gemeinsame Singen statt\, bei der alle herzlich eingeladen sind\, bekannte Lieder anzustimmen und die Freude an der Musik zu teilen. \nDie musikalischen Gastgeber sind die erfahrenen Musiker Erich Böllner und Martin Rösch\, die zum Mitsingen\, Zuhören und Mitgestalten einladen. Von bekannten Liedern aus der Region und der ganzen Welt bis hin zu modernen Werken.\nBesondere Highlights sind Auftritte von weiteren regionalen musikalischen Gästen. \nDie SingMit STATION steht für Offenheit und musikalische Vielfalt.\nAlle\, unabhängig von ihrem musikalischen Hintergrund und Fähigkeiten\, sind herzlich eingeladen\, teilzunehmen. Die Singzeit ist von 14.00 -15.00 Uhr\nUnser ehrenamtliches Kulturteam steht Ihnen zur Bewirtung von 13.30 – 16.00 Uhr vor Ort zur Verfügung. Es ist keine Anmeldung erforderlich. Die SingMit Station ist kostenfrei. \nDas KUBA ist zentral am Bahnhof Hersbruck rechts der Pegnitz gelegen. \n\n\nSingMit STATION Veranstaltungskalendergefördert durch: Veranstaltungsort:
URL:https://www.alterngestalten.de/event/singmit_2025/2025-07-07/
LOCATION:Kulturbahnhof Hersbruck\, Bahngelände 2\, Hersbruck\, 91217
CATEGORIES:ALLE PROJEKTE,KÖRPER & GESUNDHEIT,KUNST & KULTUR
ATTACH;FMTTYPE=application/pdf:https://www.alterngestalten.de/wp-content/uploads/2025/10/Veranstaltungen-Altern-gestalten-2.pdf
ORGANIZER;CN="Curatorium Altern gestalten":MAILTO:info@alterngestalten.de
END:VEVENT
BEGIN:VEVENT
DTSTART;TZID=Europe/Berlin:20250710T180000
DTEND;TZID=Europe/Berlin:20250710T184500
DTSTAMP:20260424T151334
CREATED:20250623T000008Z
LAST-MODIFIED:20250623T231306Z
UID:10889-1752170400-1752173100@www.alterngestalten.de
SUMMARY:#pflegekunst - Ausstellungsrundgang
DESCRIPTION:Rundgänge durch die Ausstellung #pflegekunst\nDie Ausstellung #pflegekunst zeigt Werke\, die in einem besonderen Kunstprojekt mit Senior*innen\, pflegenden Angehörigen und Menschen mit Demenz entstanden sind. In Offenen Ateliernachmittagen begegneten sich Alltag und Ausdruck\, Lebensgeschichten und Farben\, zarte Erinnerungen und kreative Kraft. Die entstandenen Arbeiten wurden von der Künstlerin Lana Novikova einzigartig zusammengestellt und erzählen vom Leben mit Pflege\, vom Älterwerden\, von Nähe\, Vertrautheit und auch von Abschied – persönlich\, lebendig und oft überraschend leicht. \nBei unseren geführten Rundgängen (Dauer ca. 45 Minuten) laden wir Sie ein\, tiefer in diese Geschichten einzutauchen. Sie erfahren mehr über die Hintergründe der Exponate\, über die Menschen dahinter und über die künstlerischen Prozesse\, die zu den berührenden Ergebnissen geführt haben. \nBesonders schön: Sie sind eingeladen\, aus einem Ausstellungsflyer Ihr ganz persönliches ZINE-BUCH zusammenzustellen – mit eigenen Notizen und Gedanken. So nehmen Sie nicht nur Eindrücke mit\, sondern auch ein kleines Stück #pflegekunst für sich selbst mit nach Hause. \n_______________________________________________________________ \nDie Besonderheit:\nBegleitet wird das Projekt von einer Studierendengruppe der Evangelischen Hochschule Nürnberg (Schwerpunkt Soziale Gerontologie)\, die parallel zur Ausstellung den Podcast „#pflegecast“ sowie den begleitenden Instagram-Kanal @pflegekunst_nuernberg entwickelt hat\, um neue Perspektiven auf Alter\, Demenz und Kreativität in die Öffentlichkeit zu tragen. \nDie Ausstellung #pflegekunst ist vom 05. bis 30. Juli 2025 täglich von 10–18 Uhr kostenfrei im Foyer der Kulturwerkstatt Auf AEG zugänglich. \nDownload Programm #pflegekunstVeranstaltungsortGefördert durch:
URL:https://www.alterngestalten.de/event/ausstellungsrundgang/2025-07-10/
LOCATION:Kulturwerkstatt auf AEG\, Fürther Straße 244d\, Nürnberg\, 90429
CATEGORIES:ALLE PROJEKTE,KUNST & KULTUR
ATTACH;FMTTYPE=image/jpeg:https://www.alterngestalten.de/wp-content/uploads/2025/06/pflegekunst_programm.jpg
ORGANIZER;CN="Curatorium Altern gestalten":MAILTO:info@alterngestalten.de
END:VEVENT
BEGIN:VEVENT
DTSTART;TZID=Europe/Berlin:20250710T190000
DTEND;TZID=Europe/Berlin:20250710T203000
DTSTAMP:20260424T151334
CREATED:20250623T000008Z
LAST-MODIFIED:20250623T230703Z
UID:10877-1752174000-1752179400@www.alterngestalten.de
SUMMARY:Kunst\, Mensch und der inklusive Raum
DESCRIPTION:Veranstaltung innerhalb der Ausstellung #pflegekunst\nKunst\, Mensch und der inklusive Raum\n9. Teil der Raumkompass-Gesprächsreihe \nIm neunten Teil der Raumkompass-Gesprächsreihe sind Akteur*innen zu Gast\, die neue Wege an der Kreuzung zwischen Kunst\, Therapie und Kulturarbeit gehen. Sie berichten uns über die Bedeutung barrierearmer\, sicherer Räume für das Gelingen ihrer Arbeit. \nMit dabei ist die Autorin\, Poetry Slammerin und Psychologin Pauline Füg. Gemeinsam mit ihrer Kollegin Prof. Dr. Henrikje Stanze entwickelte sie das Projekt DemenzPoesie als Therapieform für Menschen mit Demenz. Damit arbeiten sie in Museen\, Pflegeeinrichtungen und Krankenhäusern. Im Laufe ihres Schaffens nahm das Thema Inklusion für sie zunehmend an Raum ein. \nSie trifft auf die Künstlerin\, Kunstvermittlerin und Museumspädagogin Lana Novikova. Gemeinsam mit dem Curatorium Altern Gestalten und vier Studierenden der Evangelischen Hochschule Nürnberg arbeitete sie mit an Demenz erkrankten\, deren Begleitpersonen und Interessierten. Welchen Raum für sie das Thema Raum einnimmt\, welche Kreuzpunkte diese Bildende Arbeit mit der Wort-Arbeit von Pauline Füg besitzt und welche Abenteuer sie auf dem Weg bis zur fertigen Ausstellung mit den entstandenen Arbeiten erlebte\, erfahren wir an diesem Abend. \nModeration: Maria Trunk\, Raumkompass Nürnberg \n____________________________________________________ \nEine Besonderheit: \nBegleitet wird das Projekt von einer Studierendengruppe der Evangelischen Hochschule Nürnberg (Schwerpunkt Soziale Gerontologie)\, die parallel zur Ausstellung den Podcast „#pflegecast“ sowie den begleitenden Instagram-Kanal @pflegekunst_nuernberg entwickelt hat\, um neue Perspektiven auf Alter\, Demenz und Kreativität in die Öffentlichkeit zu tragen. \nDie Ausstellung #pflegekunst ist vom 05. bis 30. Juli 2025 täglich von 10–18 Uhr kostenfrei im Foyer der Kulturwerkstatt Auf AEG zugänglich. \nDownload Programm #pflegekunstVeranstaltungsortGefördert durch:
URL:https://www.alterngestalten.de/event/raumkompass/
LOCATION:Kulturwerkstatt auf AEG\, Fürther Straße 244d\, Nürnberg\, 90429
CATEGORIES:ALLE PROJEKTE,KUNST & KULTUR
ATTACH;FMTTYPE=image/jpeg:https://www.alterngestalten.de/wp-content/uploads/2025/06/pflegekunst_programm.jpg
ORGANIZER;CN="Curatorium Altern gestalten":MAILTO:info@alterngestalten.de
END:VEVENT
BEGIN:VEVENT
DTSTART;TZID=Europe/Berlin:20250715T110000
DTEND;TZID=Europe/Berlin:20250715T114500
DTSTAMP:20260424T151334
CREATED:20250623T000008Z
LAST-MODIFIED:20250623T231306Z
UID:10891-1752577200-1752579900@www.alterngestalten.de
SUMMARY:#pflegekunst - Ausstellungsrundgang
DESCRIPTION:Rundgänge durch die Ausstellung #pflegekunst\nDie Ausstellung #pflegekunst zeigt Werke\, die in einem besonderen Kunstprojekt mit Senior*innen\, pflegenden Angehörigen und Menschen mit Demenz entstanden sind. In Offenen Ateliernachmittagen begegneten sich Alltag und Ausdruck\, Lebensgeschichten und Farben\, zarte Erinnerungen und kreative Kraft. Die entstandenen Arbeiten wurden von der Künstlerin Lana Novikova einzigartig zusammengestellt und erzählen vom Leben mit Pflege\, vom Älterwerden\, von Nähe\, Vertrautheit und auch von Abschied – persönlich\, lebendig und oft überraschend leicht. \nBei unseren geführten Rundgängen (Dauer ca. 45 Minuten) laden wir Sie ein\, tiefer in diese Geschichten einzutauchen. Sie erfahren mehr über die Hintergründe der Exponate\, über die Menschen dahinter und über die künstlerischen Prozesse\, die zu den berührenden Ergebnissen geführt haben. \nBesonders schön: Sie sind eingeladen\, aus einem Ausstellungsflyer Ihr ganz persönliches ZINE-BUCH zusammenzustellen – mit eigenen Notizen und Gedanken. So nehmen Sie nicht nur Eindrücke mit\, sondern auch ein kleines Stück #pflegekunst für sich selbst mit nach Hause. \n_______________________________________________________________ \nDie Besonderheit:\nBegleitet wird das Projekt von einer Studierendengruppe der Evangelischen Hochschule Nürnberg (Schwerpunkt Soziale Gerontologie)\, die parallel zur Ausstellung den Podcast „#pflegecast“ sowie den begleitenden Instagram-Kanal @pflegekunst_nuernberg entwickelt hat\, um neue Perspektiven auf Alter\, Demenz und Kreativität in die Öffentlichkeit zu tragen. \nDie Ausstellung #pflegekunst ist vom 05. bis 30. Juli 2025 täglich von 10–18 Uhr kostenfrei im Foyer der Kulturwerkstatt Auf AEG zugänglich. \nDownload Programm #pflegekunstVeranstaltungsortGefördert durch:
URL:https://www.alterngestalten.de/event/ausstellungsrundgang/2025-07-15/
LOCATION:Kulturwerkstatt auf AEG\, Fürther Straße 244d\, Nürnberg\, 90429
CATEGORIES:ALLE PROJEKTE,KUNST & KULTUR
ATTACH;FMTTYPE=image/jpeg:https://www.alterngestalten.de/wp-content/uploads/2025/06/pflegekunst_programm.jpg
ORGANIZER;CN="Curatorium Altern gestalten":MAILTO:info@alterngestalten.de
END:VEVENT
BEGIN:VEVENT
DTSTART;TZID=Europe/Berlin:20250717T170000
DTEND;TZID=Europe/Berlin:20250717T174500
DTSTAMP:20260424T151334
CREATED:20250623T000008Z
LAST-MODIFIED:20250623T231308Z
UID:10892-1752771600-1752774300@www.alterngestalten.de
SUMMARY:#pflegekunst - Ausstellungsrundgang
DESCRIPTION:Rundgänge durch die Ausstellung #pflegekunst\nDie Ausstellung #pflegekunst zeigt Werke\, die in einem besonderen Kunstprojekt mit Senior*innen\, pflegenden Angehörigen und Menschen mit Demenz entstanden sind. In Offenen Ateliernachmittagen begegneten sich Alltag und Ausdruck\, Lebensgeschichten und Farben\, zarte Erinnerungen und kreative Kraft. Die entstandenen Arbeiten wurden von der Künstlerin Lana Novikova einzigartig zusammengestellt und erzählen vom Leben mit Pflege\, vom Älterwerden\, von Nähe\, Vertrautheit und auch von Abschied – persönlich\, lebendig und oft überraschend leicht. \nBei unseren geführten Rundgängen (Dauer ca. 45 Minuten) laden wir Sie ein\, tiefer in diese Geschichten einzutauchen. Sie erfahren mehr über die Hintergründe der Exponate\, über die Menschen dahinter und über die künstlerischen Prozesse\, die zu den berührenden Ergebnissen geführt haben. \nBesonders schön: Sie sind eingeladen\, aus einem Ausstellungsflyer Ihr ganz persönliches ZINE-BUCH zusammenzustellen – mit eigenen Notizen und Gedanken. So nehmen Sie nicht nur Eindrücke mit\, sondern auch ein kleines Stück #pflegekunst für sich selbst mit nach Hause. \n_______________________________________________________________ \nDie Besonderheit:\nBegleitet wird das Projekt von einer Studierendengruppe der Evangelischen Hochschule Nürnberg (Schwerpunkt Soziale Gerontologie)\, die parallel zur Ausstellung den Podcast „#pflegecast“ sowie den begleitenden Instagram-Kanal @pflegekunst_nuernberg entwickelt hat\, um neue Perspektiven auf Alter\, Demenz und Kreativität in die Öffentlichkeit zu tragen. \nDie Ausstellung #pflegekunst ist vom 05. bis 30. Juli 2025 täglich von 10–18 Uhr kostenfrei im Foyer der Kulturwerkstatt Auf AEG zugänglich. \nDownload Programm #pflegekunstVeranstaltungsortGefördert durch:
URL:https://www.alterngestalten.de/event/ausstellungsrundgang/2025-07-17/
LOCATION:Kulturwerkstatt auf AEG\, Fürther Straße 244d\, Nürnberg\, 90429
CATEGORIES:ALLE PROJEKTE,KUNST & KULTUR
ATTACH;FMTTYPE=image/jpeg:https://www.alterngestalten.de/wp-content/uploads/2025/06/pflegekunst_programm.jpg
ORGANIZER;CN="Curatorium Altern gestalten":MAILTO:info@alterngestalten.de
END:VEVENT
BEGIN:VEVENT
DTSTART;TZID=Europe/Berlin:20250721T140000
DTEND;TZID=Europe/Berlin:20250721T150000
DTSTAMP:20260424T151334
CREATED:20250114T010008Z
LAST-MODIFIED:20250120T081406Z
UID:9143-1753106400-1753110000@www.alterngestalten.de
SUMMARY:SingMit STATION im KUBA mit "Susie Südstadt"
DESCRIPTION:Die SingMit STATION im Kulturbahnhof Hersbruck ist ein offener Treff\, der Musik\, Gemeinschaft und Lebensfreude verbindet. \n\n\nZweimal im Monat\, von 13:30 bis 16:00 Uhr öffnen sich die Türen des Kulturbahnhofs und bieten Raum für gemeinsames Singen\, Zeit für Gespräche und kleine Erfrischungen. Von 14.00 bis 15.00 Uhr findet das gemeinsame Singen statt\, bei der alle herzlich eingeladen sind\, bekannte Lieder anzustimmen und die Freude an der Musik zu teilen. \nDie musikalischen Gastgeber sind die erfahrenen Musiker Erich Böllner und Martin Rösch\, die zum Mitsingen\, Zuhören und Mitgestalten einladen. Von bekannten Liedern aus der Region und der ganzen Welt bis hin zu modernen Werken. \nHeute zu Gast “Susie Südstadt“\nSusie Südstadt ist Schauspielerin\, Sängerin\, Künstlerin und Jodlerin\, die ihre Leidenschaft für das Jodeln nutzt\, um anderen diese einzigartige Kunstform näherzubringen. \nDie SingMit STATION steht für Offenheit und musikalische Vielfalt.\nAlle\, unabhängig von ihrem musikalischen Hintergrund und Fähigkeiten\, sind herzlich eingeladen\, teilzunehmen. Die Singzeit ist von 14.00 -15.00 Uhr\nUnser ehrenamtliches Kulturteam steht Ihnen zur Bewirtung von 13.30 – 16.00 Uhr vor Ort zur Verfügung. Es ist keine Anmeldung erforderlich. Die SingMit Station ist kostenfrei. \nDas KUBA ist zentral am Bahnhof Hersbruck rechts der Pegnitz gelegen. \n\n\nSingMit STATION Veranstaltungskalendergefördert durch: in Kooperation mit:
URL:https://www.alterngestalten.de/event/singmit_2025-2025-07-21/
LOCATION:Kulturbahnhof Hersbruck\, Bahngelände 2\, Hersbruck\, 91217
CATEGORIES:ALLE PROJEKTE,KÖRPER & GESUNDHEIT,KUNST & KULTUR
ATTACH;FMTTYPE=image/png:https://www.alterngestalten.de/wp-content/uploads/2025/01/jodeln-susie-suedstadt.png
ORGANIZER;CN="Curatorium Altern gestalten":MAILTO:info@alterngestalten.de
END:VEVENT
BEGIN:VEVENT
DTSTART;TZID=Europe/Berlin:20250722T110000
DTEND;TZID=Europe/Berlin:20250722T114500
DTSTAMP:20260424T151334
CREATED:20250623T000008Z
LAST-MODIFIED:20250623T231309Z
UID:10893-1753182000-1753184700@www.alterngestalten.de
SUMMARY:#pflegekunst - Ausstellungsrundgang
DESCRIPTION:Rundgänge durch die Ausstellung #pflegekunst\nDie Ausstellung #pflegekunst zeigt Werke\, die in einem besonderen Kunstprojekt mit Senior*innen\, pflegenden Angehörigen und Menschen mit Demenz entstanden sind. In Offenen Ateliernachmittagen begegneten sich Alltag und Ausdruck\, Lebensgeschichten und Farben\, zarte Erinnerungen und kreative Kraft. Die entstandenen Arbeiten wurden von der Künstlerin Lana Novikova einzigartig zusammengestellt und erzählen vom Leben mit Pflege\, vom Älterwerden\, von Nähe\, Vertrautheit und auch von Abschied – persönlich\, lebendig und oft überraschend leicht. \nBei unseren geführten Rundgängen (Dauer ca. 45 Minuten) laden wir Sie ein\, tiefer in diese Geschichten einzutauchen. Sie erfahren mehr über die Hintergründe der Exponate\, über die Menschen dahinter und über die künstlerischen Prozesse\, die zu den berührenden Ergebnissen geführt haben. \nBesonders schön: Sie sind eingeladen\, aus einem Ausstellungsflyer Ihr ganz persönliches ZINE-BUCH zusammenzustellen – mit eigenen Notizen und Gedanken. So nehmen Sie nicht nur Eindrücke mit\, sondern auch ein kleines Stück #pflegekunst für sich selbst mit nach Hause. \n_______________________________________________________________ \nDie Besonderheit:\nBegleitet wird das Projekt von einer Studierendengruppe der Evangelischen Hochschule Nürnberg (Schwerpunkt Soziale Gerontologie)\, die parallel zur Ausstellung den Podcast „#pflegecast“ sowie den begleitenden Instagram-Kanal @pflegekunst_nuernberg entwickelt hat\, um neue Perspektiven auf Alter\, Demenz und Kreativität in die Öffentlichkeit zu tragen. \nDie Ausstellung #pflegekunst ist vom 05. bis 30. Juli 2025 täglich von 10–18 Uhr kostenfrei im Foyer der Kulturwerkstatt Auf AEG zugänglich. \nDownload Programm #pflegekunstVeranstaltungsortGefördert durch:
URL:https://www.alterngestalten.de/event/ausstellungsrundgang/2025-07-22/
LOCATION:Kulturwerkstatt auf AEG\, Fürther Straße 244d\, Nürnberg\, 90429
CATEGORIES:ALLE PROJEKTE,KUNST & KULTUR
ATTACH;FMTTYPE=image/jpeg:https://www.alterngestalten.de/wp-content/uploads/2025/06/pflegekunst_programm.jpg
ORGANIZER;CN="Curatorium Altern gestalten":MAILTO:info@alterngestalten.de
END:VEVENT
BEGIN:VEVENT
DTSTART;TZID=Europe/Berlin:20250724T150000
DTEND;TZID=Europe/Berlin:20250724T160000
DTSTAMP:20260424T151334
CREATED:20250312T010008Z
LAST-MODIFIED:20250312T213649Z
UID:10020-1753369200-1753372800@www.alterngestalten.de
SUMMARY:Offener LACHYOGA-TREFF im Heilig Geist Haus
DESCRIPTION:Lachen ist bekanntlich die beste Medizin – und was gibt es Schöneres\, als gemeinsam zu lachen? Die zertifizierte Lachyoga-Trainerin Caroline Peters  lädt alle Interessierten zu einer befreienden Lachyoga-Stunde in das Heilig Geist Haus (Treffpunkt Cafeteria im Heilig Geist Haus) ein.\nCaroline Peters ist bekannt für ihre mitreißende Begeisterungsfähigkeit\, nichts wirkt so ansteckend wie ein herzliches Lachen. \nDer offene Lachyoga-Treff findet jeweils donnerstags von 15 – 16 Uhr statt. \n Treffpunkt ist um 15:00 Uhr in der Cafeteria im Heilig Geist Haus Nürnberg\, Spitalgasse 22\, 90403 Nürnberg  \nAnsprechpartner: Georg Weigl\, Tel. 0171- 966 85 30 \nKeine Yoga- oder Lacherfahrung erforderlich – alle können teilnehmen!  \n\n\n\nTermine Sommer 2025Gefördert durch: Besondere Unterstützung: Pflegende Angehörige haben die Möglichkeit gemeinsam mit ihren Lieben teilzunehmen oder die Betreuung dem “Pause von Zuhause Gästeteam” in der Cafeteria des Heilig-Geist-Haus zu übergeben
URL:https://www.alterngestalten.de/event/lachyoga_sommer_2025/2025-07-24/
LOCATION:Cafeteria Heilig Geist\, Spitalgasse 22\, Nürnberg\, 90403
CATEGORIES:ALLE PROJEKTE,KÖRPER & GESUNDHEIT
ATTACH;FMTTYPE=image/jpeg:https://www.alterngestalten.de/wp-content/uploads/2025/03/Veranstaltung_Website.jpeg
ORGANIZER;CN="Curatorium Altern gestalten":MAILTO:info@alterngestalten.de
END:VEVENT
BEGIN:VEVENT
DTSTART;TZID=Europe/Berlin:20250724T170000
DTEND;TZID=Europe/Berlin:20250724T174500
DTSTAMP:20260424T151334
CREATED:20250623T000008Z
LAST-MODIFIED:20250623T231310Z
UID:10894-1753376400-1753379100@www.alterngestalten.de
SUMMARY:#pflegekunst - Ausstellungsrundgang
DESCRIPTION:Rundgänge durch die Ausstellung #pflegekunst\nDie Ausstellung #pflegekunst zeigt Werke\, die in einem besonderen Kunstprojekt mit Senior*innen\, pflegenden Angehörigen und Menschen mit Demenz entstanden sind. In Offenen Ateliernachmittagen begegneten sich Alltag und Ausdruck\, Lebensgeschichten und Farben\, zarte Erinnerungen und kreative Kraft. Die entstandenen Arbeiten wurden von der Künstlerin Lana Novikova einzigartig zusammengestellt und erzählen vom Leben mit Pflege\, vom Älterwerden\, von Nähe\, Vertrautheit und auch von Abschied – persönlich\, lebendig und oft überraschend leicht. \nBei unseren geführten Rundgängen (Dauer ca. 45 Minuten) laden wir Sie ein\, tiefer in diese Geschichten einzutauchen. Sie erfahren mehr über die Hintergründe der Exponate\, über die Menschen dahinter und über die künstlerischen Prozesse\, die zu den berührenden Ergebnissen geführt haben. \nBesonders schön: Sie sind eingeladen\, aus einem Ausstellungsflyer Ihr ganz persönliches ZINE-BUCH zusammenzustellen – mit eigenen Notizen und Gedanken. So nehmen Sie nicht nur Eindrücke mit\, sondern auch ein kleines Stück #pflegekunst für sich selbst mit nach Hause. \n_______________________________________________________________ \nDie Besonderheit:\nBegleitet wird das Projekt von einer Studierendengruppe der Evangelischen Hochschule Nürnberg (Schwerpunkt Soziale Gerontologie)\, die parallel zur Ausstellung den Podcast „#pflegecast“ sowie den begleitenden Instagram-Kanal @pflegekunst_nuernberg entwickelt hat\, um neue Perspektiven auf Alter\, Demenz und Kreativität in die Öffentlichkeit zu tragen. \nDie Ausstellung #pflegekunst ist vom 05. bis 30. Juli 2025 täglich von 10–18 Uhr kostenfrei im Foyer der Kulturwerkstatt Auf AEG zugänglich. \nDownload Programm #pflegekunstVeranstaltungsortGefördert durch:
URL:https://www.alterngestalten.de/event/ausstellungsrundgang/2025-07-24/
LOCATION:Kulturwerkstatt auf AEG\, Fürther Straße 244d\, Nürnberg\, 90429
CATEGORIES:ALLE PROJEKTE,KUNST & KULTUR
ATTACH;FMTTYPE=image/jpeg:https://www.alterngestalten.de/wp-content/uploads/2025/06/pflegekunst_programm.jpg
ORGANIZER;CN="Curatorium Altern gestalten":MAILTO:info@alterngestalten.de
END:VEVENT
BEGIN:VEVENT
DTSTART;TZID=Europe/Berlin:20250725T170000
DTEND;TZID=Europe/Berlin:20250725T174500
DTSTAMP:20260424T151334
CREATED:20250418T082608Z
LAST-MODIFIED:20250427T163616Z
UID:10257-1753462800-1753465500@www.alterngestalten.de
SUMMARY:FILMTALK 60plus: Edie - für Träume ist es nie zu spät
DESCRIPTION:Entdecken Sie den FILMTALK 60plus – wir bringen das Kino und interessante Filmgespräche direkt zu Ihnen nach Hause. \nEdie – Für Träume ist es nie zu spät\nTragikomödie\,  GB 2017\, 102 Min.\, FSK: ab 0\, Regie: Simon Hunter \nModeration: Christa Jordan\, FILM Beirat60plus\nCo-Moderation: Sabine L. Distler\, Altern gestalten \nEdie (Sheila Hancock) hat ihren Ehemann nach dessen Schlaganfall 30 Jahre lang gepflegt. Nun ist er tot. Die 83-jährige Frau weiß\, dass sich die „verlorene“ Zeit nicht zurückholen lässt\, doch in ein Altersheim lässt sie sich dennoch nicht stecken. Sie hat nämlich andere Pläne: den Mount Suilven im Westen der schottischen Highlands möchte sie endlich besteigen mit Hilfe eines Bergführers. \n“EDIE ist eine „anrührende\, in der Titelrolle bravourös gespielte Tragikomödie\, die durch atemberaubende Landschaftsaufnahmen und die Geschichte einer ungewöhnlichen Freundschaft Generationen verbindet” (filmdienst)\n\n\n\nFILMTALK 60plus\nam 25.7.2025\n17.00 -ca. 17.45 Uhr \nZur AnmeldungEine Initiative von:  \n\nSo funktioniert der FILMTALK 60plus: \n\n\nAnmeldung: Registrieren Sie sich hier online\, per E-Mail oder telefonisch für den nächsten FILMTALK 60plus. Die Teilnahme ist kostenfrei. \n\n\nFilm-Link erhalten: Spätestens 5 Tage vor dem Online-Termin senden wir Ihnen einen exklusiven und kostenfreien Link zu\, mit dem Sie den ausgewählten Film bequem zuhause in der Mediathek oder über eine andere Plattform anschauen können. \n\n\nFilm in Ruhe anschauen: Nehmen Sie sich Zeit\, den Film entspannt zu genießen. Notieren Sie sich gerne Fragen\, Gedanken\, Eindrücke oder Lieblingsszenen\, die Sie im Gespräch einbringen möchten. \n\n\nZugang zum FILMTALK: Am Veranstaltungstag (Freitag\, 25. Juli 2025) erhalten Sie vormittags den Zugangslink für unsere Zoom-Konferenz. Die Diskussion beginnt um 17:00 Uhr. \n\n\nGemeinsam diskutieren: Tauschen Sie sich beim FILMTALK 60plus bundesweit mit anderen Filmbegeisterten aus und bringen Sie Ihre Gedanken ein. Unsere Moderatorin Christa Jordan begleitet den Austausch und sorgt für eine angenehme Gesprächsatmosphäre. \n\n\n\nHinweis: \n\nDer FILMTALK 60plus ist ein moderiertes Online-Format speziell für Menschen 60plus – offen\, lebendig und auf Augenhöhe.\nEs sind keine Vorkenntnisse erforderlich – Freude am Filmgenuss und Interesse an der Auseinandersetzung des Filmstoffs genügen!\nAuch wer lieber zuhören möchte\, ist herzlich willkommen.\nWichtig: Für diese Veranstaltung stehen nur 50 exklusive Streaminglinks zur Verfügung! Sichern Sie sich rechtzeitig Ihren Zugang und genießen Sie dieses besondere Film- und Austauscherlebnis.\n\n\n\nWir freuen uns auf eine anregende Diskussion und Ihre Gedanken zum Film. \nEmpfehlung: Neben der Online-Registrierung ist auch eine Anmeldung bei Curatorium Altern gestalten möglich. Entweder per Mail oder Telefon.  Sprechen Sie uns gerne an\, wenn Sie im Vorfeld den Zugang zu Zoom testen möchten.
URL:https://www.alterngestalten.de/event/film60_edie/
LOCATION:Digital in ZOOM\, Deutschland
CATEGORIES:DISKRIMINIERUNG & GLEICHBEHANDLUNG,MEDIEN & FILM
ATTACH;FMTTYPE=image/png:https://www.alterngestalten.de/wp-content/uploads/2025/01/7.png
ORGANIZER;CN="Curatorium Altern gestalten":MAILTO:info@alterngestalten.de
END:VEVENT
BEGIN:VEVENT
DTSTART;TZID=Europe/Berlin:20250730T150000
DTEND;TZID=Europe/Berlin:20250730T160000
DTSTAMP:20260424T151334
CREATED:20250623T000008Z
LAST-MODIFIED:20250623T224538Z
UID:10885-1753887600-1753891200@www.alterngestalten.de
SUMMARY:Finissage #pflegekunst in der Kulturwerkstatt auf AEG
DESCRIPTION:Finissage der Ausstellung #pflegekunst mit LIVE-Podcast #pflegecast \nZum Abschluss der Ausstellung #pflegekunst laden wir herzlich zur Finissage ein – ein besonderer Moment\, der Kunst\, Begegnung und Gespräch miteinander verbindet. Inmitten der farbenfrohen Werke\, die in den Offenen Ateliers unter Anleitung der Künstlerin Lana Novikova entstanden sind\, erleben Sie einen LIVE-Podcast\, der Erinnerungen\, Erfahrungen und kreative Prozesse hör- und spürbar macht. \nZuhören und Staunen!Der #pflegecast wird live vor Ort aufgezeichnet – mit Stimmen der Beteiligten\, Momenten des Wiedererkennens und ehrlichen Einblicken in das gemeinsame Arbeiten rund um Kunst\, Pflege und Miteinander. \nModeration: Marwin Summ und Luise MüllerMedienunterstützung: Tina Kott und Annemarie Hertrich \nDie Finissage ist ein lebendiges Finale – persönlich\, inspirierend und offen für Austausch. Seien Sie dabei\, wenn Geschichten hinter den Bildern hörbar werden! \n_______________________________________________________________ \nDie Besonderheit:\nBegleitet wird das Projekt von einer Studierendengruppe der Evangelischen Hochschule Nürnberg (Schwerpunkt Soziale Gerontologie)\, die parallel zur Ausstellung den Podcast „#pflegecast“ sowie den begleitenden Instagram-Kanal @pflegekunst_nuernberg entwickelt hat\, um neue Perspektiven auf Alter\, Demenz und Kreativität in die Öffentlichkeit zu tragen. \nDie Ausstellung #pflegekunst ist vom 05. bis 30. Juli 2025 täglich von 10–18 Uhr kostenfrei im Foyer der Kulturwerkstatt Auf AEG zugänglich. \nDownload Programm #pflegekunstVeranstaltungsortGefördert durch:
URL:https://www.alterngestalten.de/event/finissage_pflegekunst/
LOCATION:Kulturwerkstatt auf AEG\, Fürther Straße 244d\, Nürnberg\, 90429
CATEGORIES:ALLE PROJEKTE,KUNST & KULTUR
ATTACH;FMTTYPE=image/jpeg:https://www.alterngestalten.de/wp-content/uploads/2025/06/pflegekunst_programm.jpg
ORGANIZER;CN="Curatorium Altern gestalten":MAILTO:info@alterngestalten.de
END:VEVENT
END:VCALENDAR