BEGIN:VCALENDAR
VERSION:2.0
PRODID:-//alterngestalten.de - ECPv6.8.3//NONSGML v1.0//EN
CALSCALE:GREGORIAN
METHOD:PUBLISH
X-ORIGINAL-URL:https://www.alterngestalten.de
X-WR-CALDESC:Veranstaltungen für alterngestalten.de
REFRESH-INTERVAL;VALUE=DURATION:PT1H
X-Robots-Tag:noindex
X-PUBLISHED-TTL:PT1H
BEGIN:VTIMEZONE
TZID:Europe/Berlin
BEGIN:DAYLIGHT
TZOFFSETFROM:+0100
TZOFFSETTO:+0200
TZNAME:CEST
DTSTART:20220327T010000
END:DAYLIGHT
BEGIN:STANDARD
TZOFFSETFROM:+0200
TZOFFSETTO:+0100
TZNAME:CET
DTSTART:20221030T010000
END:STANDARD
END:VTIMEZONE
BEGIN:VEVENT
DTSTART;TZID=Europe/Berlin:20220520T143000
DTEND;TZID=Europe/Berlin:20220520T153000
DTSTAMP:20260423T230033
CREATED:20220410T000008Z
LAST-MODIFIED:20220503T175645Z
UID:2008-1653057000-1653060600@www.alterngestalten.de
SUMMARY:Tribünengeschichten: Max-Morlock-Stadionführung für Menschen mit Demenz und An-& Zugehörige
DESCRIPTION:Einmal Club – immer Club. Und was ist das größte für einen Clubfan?\nEndlich mal wieder auf der Tribüne im Max Morlock Stadion stehen…\nDiese spezielle Führung für Menschen mit Demenz und ihre An- und Zugehörigen in kleiner Runde ist eine Premiere. Clubvolunteers zeigen uns das Stadion\, wir werden uns gemeinsam an die Siege und besonderen Ereignisse erinnern\, wir gehen zu den Lieblingsplätzen und erzählen uns von  legendären Spielen. \n“Es gibt sie\, die Orte\, die uns immer wieder magisch anziehen. Und Erinnerungen werden dann wieder hellwach.”\n\nWir bedanken uns dafür bei der Stadion Nürnberg Betriebs-GmbH\, und dem Team von “Unser Club”\, die dieses Führungsformat ermöglichen. Diese Führung gehört zum Jahresprogramm 2022  TRIBÜNENGESCHICHTEN für Fans 70plus. Es ist ein kostenfreies Angebot des 1.FCN und Curatorium Altern gestalten. Nehmen Sie bei Interesse mit uns Kontakt auf: 0 911 9 40 79 167 oder per Mail oehring@fcn.de \nGerne vermitteln wir zur Begleitung erfahrene und vertrauensvolle Kulturpatinnen und -paten. Sprechen Sie uns an: 09152-9288400 (Georg Weigl) oder per Mail info@alterngestalten.de \n\n\n\n\nWir möchten an der Führung teilnehmenDownload Programm 2022 “Tribünengeschichten”Zum Video über die “Tribünengeschichten”Mehr Infos zum Engagement www.unserclub.dePartner von: Gefördert durch:
URL:https://www.alterngestalten.de/event/maxmorlock-2/
LOCATION:Max-Morlock-Stadion\, Max Morlock Platz 1\, Nürnberg\, Bayern\, 90471
CATEGORIES:ALLE PROJEKTE,KUNST & KULTUR
ATTACH;FMTTYPE=image/jpeg:https://www.alterngestalten.de/wp-content/uploads/2022/04/Tribuenengeschichten_1.jpg
ORGANIZER;CN="1.FC N%C3%BCrnberg":MAILTO:oehring@fcn.de
END:VEVENT
BEGIN:VEVENT
DTSTART;TZID=Europe/Berlin:20220520T160000
DTEND;TZID=Europe/Berlin:20220520T180000
DTSTAMP:20260423T230033
CREATED:20210808T080016Z
LAST-MODIFIED:20220226T185941Z
UID:1791-1653062400-1653069600@www.alterngestalten.de
SUMMARY:FILM Beirat 60plus Netzwerktreffen
DESCRIPTION:Der FILM Beirat 60plus engagiert sich für mehr Sichtbarkeit des Alters in Film und Fernsehen. \n 
URL:https://www.alterngestalten.de/event/filmbeirat5/
LOCATION:Digital in ZOOM\, Deutschland
CATEGORIES:MEDIEN & FILM
ATTACH;FMTTYPE=image/png:https://www.alterngestalten.de/wp-content/uploads/2021/08/FILMBeirat-Veranstaltungen.png
ORGANIZER;CN="SilberFILM by Curatorium Altern gestalten":MAILTO:kontakt@silberfilm.info
END:VEVENT
BEGIN:VEVENT
DTSTART;TZID=Europe/Berlin:20220521T143000
DTEND;TZID=Europe/Berlin:20220521T200000
DTSTAMP:20260423T230033
CREATED:20210908T082608Z
LAST-MODIFIED:20220512T205721Z
UID:2060-1653143400-1653163200@www.alterngestalten.de
SUMMARY:WERTVOLL FEST
DESCRIPTION:Am 21. Mai 2022 von 15 bis 20 Uhr lädt der Nürnberger Arbeitskreis Engagement FÜR Senioren herzlich ins Alte Rathaus ein. Er möchte sich persönlich bei den freiwillig Engagierten zu bedanken\, die für ältere Menschen ehrenamtlich aktiv sind! \nSie sind ehrenamtlich in diesem Bereich tätig? Dann melden Sie sich jetzt an! Es erwarten Sie ein vielfältiges Programm in schöner Atmosphäre im Alten Rathaus. \nDas Programm\n\n\n\n14.30 Uhr \n\n\nEmpfang mit Musik Hilde Pohl & Yogo Pausch \n15 Uhr \n\n\n\n\nBegrüßung & Moderation \ndurch Elisabeth Ries\, Referentin für Jugend\, Familie und Soziales der Stadt Nürnberg und Dr. Uli Glaser\, Leiter der Stabsstelle für Bürgerschaftliches Engagement der Stadt Nürnberg \n\n\n\n\n15.30 Uhr \n\n\nVortrag „Glück im Ehrenamt“ \nProf. Dr. Karlheinz Ruckriegel \n\n\n\n\n16.15 Uhr \n\n\nWorkshops \n\n\n\n\nWir singen… mit Anette Mahlberg\, Musiktherapeutin\nWir tanzen… mit Birgit Ritter\, Line Dance Trainerin\nWir malen… mit Mike Deüe\, Künstle\nWir lachen… mit Caroline Peters\, Lachyogatrainerin\nWir entspannen… mit Birgit Blickle\, Qi Gong Trainerin\nWir bewegen… mit Rüdiger Schramm\, Tai Chi Trainer\n\n\n\n\n17.30 Uhr \n\n\nImpulse aus den Workshops \n\n\n\n\n18.30 Uhr \n\n\nFlying Buffet und Live-Musik mit Didschmusic \n\n\n\nEine Initiative vom Nürnberger Arbeitskreis Engagement FÜR Senioren\nAWOthek Mehrgenerationenhaus // Altenakademie // BRK Nürnberg // Caritas Nürnberg // Evang.-Luth. Kirche in Bayern // HehanI e.V. // Kath. Stadtbildungswerk Nürnberg e.V. // Klinikum Nürnberg // Seniorenamt // NürnbergStift //Stadtseniorenrat // Stadtmission // Zentrum Aktiver Bürger // u.v.m.\n\n\n\n   Anmeldung Stadt NürnbergOnlineanmeldungWERTVOLL FEST Einladungskarte
URL:https://www.alterngestalten.de/event/wertvollfest2022-2/
LOCATION:Altes Rathaus Nürnberg\, Rathauspl. 2\, Nürnberg\, 90403
CATEGORIES:ALLE PROJEKTE,ARBEIT & EHRENAMT
ATTACH;FMTTYPE=image/png:https://www.alterngestalten.de/wp-content/uploads/2021/09/Bild.png
ORGANIZER;CN="Curatorium Altern gestalten":MAILTO:info@alterngestalten.de
END:VEVENT
BEGIN:VEVENT
DTSTART;TZID=Europe/Berlin:20220521T150000
DTEND;TZID=Europe/Berlin:20220521T200000
DTSTAMP:20260423T230033
CREATED:20210908T082608Z
LAST-MODIFIED:20220512T211608Z
UID:1986-1653145200-1653163200@www.alterngestalten.de
SUMMARY:WERTVOLL FEST
DESCRIPTION:Am 21. Mai 2022 von 15 bis 20 Uhr lädt der Nürnberger Arbeitskreis Engagement FÜR Senioren herzlich ins Alte Rathaus ein. Es möchte sich persönlich bei den freiwillig Engagierten zu bedanken\, die für ältere Menschen ehrenamtlich aktiv sind! \nSie sind ehrenamtlich in diesem Bereich tätig? Dann melden Sie sich jetzt an! Es erwarten Sie ein vielfältiges Programm in schöner Atmosphäre im Alten Rathaus. \nDas Programm\n\n\n\n14.30 Uhr \n\n\nEmpfang mit Musik Hilde Pohl & Yogo Pausch \n15 Uhr \n\n\n\n\nBegrüßung & Moderation \ndurch Elisabeth Ries\, Referentin für Jugend\, Familie und Soziales der Stadt Nürnberg und Dr. Uli Glaser\, Leiter der Stabsstelle für Bürgerschaftliches Engagement der Stadt Nürnberg \n\n\n\n\n15.30 Uhr \n\n\nVortrag „Glück im Ehrenamt“ \nProf. Dr. Karlheinz Ruckriegel \n\n\n\n\n16.15 Uhr \n\n\nWorkshops \n\n\n\n\nWir singen… mit Anette Mahlberg\, Musiktherapeutin\nWir tanzen… mit Birgit Ritter\, Line Dance Trainerin\nWir malen… mit Mike Deüe\, Künstle\nWir lachen… mit Caroline Peters\, Lachyogatrainerin\nWir entspannen… mit Birgit Blickle\, Qi Gong Trainerin\nWir bewegen… mit Rüdiger Schramm\, Tai Chi Trainer\n\n\n\n\n17.30 Uhr \n\n\nImpulse aus den Workshops \n\n\n\n\n18.30 Uhr \n\n\nFlying Buffet und Live-Musik mit Didschmusic \n\n\n\nEine Initiative vom Nürnberger Arbeitskreis Engagement FÜR Senioren\nAWOthek Mehrgenerationenhaus // Altenakademie // BRK Nürnberg // Caritas Nürnberg // Evang.-Luth. Kirche in Bayern // HehanI e.V. // Kath. Stadtbildungswerk Nürnberg e.V. // Klinikum Nürnberg // Seniorenamt // NürnbergStift //Stadtseniorenrat // Stadtmission // Zentrum Aktiver Bürger // u.v.m. \n\n\n\nEinladungskarte WERTVOLL FEST. \n   Zur OnlineanmeldungStadt Nürnberg
URL:https://www.alterngestalten.de/event/wertvollfest2022/
LOCATION:Altes Rathaus Nürnberg\, Rathauspl. 2\, Nürnberg\, 90403
CATEGORIES:ALLE PROJEKTE,ARBEIT & EHRENAMT
ATTACH;FMTTYPE=image/png:https://www.alterngestalten.de/wp-content/uploads/2021/09/Bild.png
ORGANIZER;CN="Curatorium Altern gestalten":MAILTO:info@alterngestalten.de
END:VEVENT
BEGIN:VEVENT
DTSTART;TZID=Europe/Berlin:20220531T160000
DTEND;TZID=Europe/Berlin:20220531T183000
DTSTAMP:20260423T230033
CREATED:20210808T080016Z
LAST-MODIFIED:20220212T165821Z
UID:1687-1654012800-1654021800@www.alterngestalten.de
SUMMARY:FILM & Älterwerden: Positive wie negative kognitive Veränderungen bei älteren Menschen und deren Einfluss auf die Medienrezeption und Themenauswahl
DESCRIPTION:Jeder ab 50 weiß: Wir werden vergesslicher und langsamer\, auch im Kopf. Die besonderen Veränderungen der Wahrnehmung bei älteren Menschen erschweren zunehmend den Zugang zu bestimmten Film- und Medienformaten. Andererseits rufen die besonderen positiven geistigen Stärken älterer Menschen eine besondere Wachsamkeit und kritische\, klare Beurteilung von Medienhalten hervor: Ältere Bürger*innen sind bewusste Medienkonsumenten mit einem breiten Erfahrungshintergrund und wollen sich nichts vormachen lassen. \nDie Workshopleiterin ist Dagmar Wagner – eine echte Expertin in Sachen Film & Alter. Sie ist Kommunikationswissenschaftlerin\, Dokumentarfilmerin\, Biografin & angehende Gerontologin. Die Dozentin und Regisseurin des erfolgreichen Films „Ü100“  gibt folgendes Versprechen: \n\nLassen Sie sich anstecken\, in die spannenden Themen rund um die Filmwelt und dem Älterwerden mit mir einzutauchen. Ich kann Ihnen versprechen: Humor und Spaß kommen nicht zu kurz! \n\nErfahren Sie mehr über Dagmar Wagner.  \nWer kann teilnehmen? Eingeladen sind Interessierte und engagierte Bürger*innen 60plus aus dem gesamten Bundesgebiet. \nWas erwartet Sie? Theoretischer Impulsvortrag\, Medieneinsatz (Kurzfilm\, Ausschnitte\, etc.)\, Kleingruppenarbeit\, offene Diskussion. \nWie ist der zeitliche Ablauf? Die 3-stündigen Workshops finden werktags digital (ZOOM) von 16.00 -18.30 Uhr statt. Im Anschluss der Workshops von 18.30 – 19.00 Uhr besteht die Möglichkeit des Austauschs und der Vernetzung. \nDie virtuellen Plätze sind begrenzt. Melden Sie sich gleich zum kostenlosen Workshop an:AnmeldungDie Bildungsreihe FILM & Älterwerden wird
URL:https://www.alterngestalten.de/event/filmworkshop4-2/
LOCATION:Digital in ZOOM\, Deutschland
CATEGORIES:ALLE PROJEKTE,MEDIEN & FILM
ATTACH;FMTTYPE=image/png:https://www.alterngestalten.de/wp-content/uploads/2022/02/Film4.png
ORGANIZER;CN="Curatorium Altern gestalten":MAILTO:info@alterngestalten.de
END:VEVENT
END:VCALENDAR