BEGIN:VCALENDAR
VERSION:2.0
PRODID:-//alterngestalten.de - ECPv6.8.3//NONSGML v1.0//EN
CALSCALE:GREGORIAN
METHOD:PUBLISH
X-WR-CALNAME:alterngestalten.de
X-ORIGINAL-URL:https://www.alterngestalten.de
X-WR-CALDESC:Veranstaltungen für alterngestalten.de
REFRESH-INTERVAL;VALUE=DURATION:PT1H
X-Robots-Tag:noindex
X-PUBLISHED-TTL:PT1H
BEGIN:VTIMEZONE
TZID:Europe/Berlin
BEGIN:DAYLIGHT
TZOFFSETFROM:+0100
TZOFFSETTO:+0200
TZNAME:CEST
DTSTART:20220327T010000
END:DAYLIGHT
BEGIN:STANDARD
TZOFFSETFROM:+0200
TZOFFSETTO:+0100
TZNAME:CET
DTSTART:20221030T010000
END:STANDARD
END:VTIMEZONE
BEGIN:VEVENT
DTSTART;TZID=Europe/Berlin:20220301T110000
DTEND;TZID=Europe/Berlin:20220301T114500
DTSTAMP:20260424T142637
CREATED:20210908T082608Z
LAST-MODIFIED:20220126T142716Z
UID:1606-1646132400-1646135100@www.alterngestalten.de
SUMMARY:Infoveranstaltung Online -KulturpatIn werden in Nürnberg und Umgebung
DESCRIPTION:Infoveranstaltung Online\nDie 45-minütige Informationsveranstaltung ist für Bürger*innen\, die sich für eine ehrenamtliche Tätigkeit als Kulturpate/Kulturpatin in Nürnberg und Umgebung interessieren. Neben ersten Grundinformationen zum Ehrenamt stellen wir den Ablauf und die Inhalte der im März geplanten Online Schulung “zur Kulturpatin/ zum Kulturpaten” vor.\nSie haben die Möglichkeit\, individuelle Fragen einzubringen. Die Teilnahme an der Veranstaltung ist kostenfrei und unverbindlich. \nDie Veranstaltung findet online per ZOOM statt. Technische Voraussetzungen: Smartphone\, Tablet oder PC. Auch per Telefon ist eine Teilnahme möglich. Den Link zur Veranstaltung erhalten Sie nach der Buchung. \n\nLernen Sie dieses neue Engagement und andere Kulturpatinnen und -paten kennen. Helfen Sie künftig mit\, dass der Besuch von Kulturveranstaltungen in Nürnberg und der Region auch im höheren  Alter normal und möglich wird.\n\nMelden Sie gleich hier zur digitalen Infoveranstaltung an. Wir freuen uns auf Sie! \nIhr Georg Weigl vom Curatorium Altern gestalten \n\n\n\n   zur Infoveranstaltung anmelden
URL:https://www.alterngestalten.de/event/infonuernberg-3-2/
LOCATION:Digital in ZOOM\, Deutschland
CATEGORIES:ALLE PROJEKTE,KUNST & KULTUR
ATTACH;FMTTYPE=image/png:https://www.alterngestalten.de/wp-content/uploads/2021/09/Infoveranstaltungen-Febr22.png
ORGANIZER;CN="Curatorium Altern gestalten":MAILTO:info@alterngestalten.de
END:VEVENT
BEGIN:VEVENT
DTSTART;TZID=Europe/Berlin:20220304T160000
DTEND;TZID=Europe/Berlin:20220304T183000
DTSTAMP:20260424T142637
CREATED:20210808T080016Z
LAST-MODIFIED:20220211T022853Z
UID:1681-1646409600-1646418600@www.alterngestalten.de
SUMMARY:FILM & Älterwerden: Die Entwicklung demografischer Daten und die Vielfalt heutiger Medienangebote
DESCRIPTION:Die demografische Entwicklung in Deutschland in Zahlen belegt eindrücklich die Transformation unserer Gesellschaft in eine Gesellschaft des hohen Alters. Die Notwendigkeit von mehr Teilhabemöglichkeiten für ältere Menschen ist unbestritten. Die Medien übernehmen hierbei eine wichtige Rolle und tragen eine besondere Verantwortung. Welchem öffentlichen Auftrag sind die Medien verpflichtet? Wie sieht der Medienkonsum älterer Menschen aus? \nDie Workshopleiterin ist Dagmar Wagner – eine echte Expertin in Sachen Film & Alter. Sie ist Kommunikationswissenschaftlerin\, Dokumentarfilmerin\, Biografin & angehende Gerontologin. Die Dozentin und Regisseurin des erfolgreichen Films „Ü100“  gibt folgendes Versprechen: \n\nLassen Sie sich anstecken\, in die spannenden Themen rund um die Filmwelt und dem Älterwerden mit mir einzutauchen. Ich kann Ihnen versprechen: Humor und Spaß kommen nicht zu kurz! \n\nErfahren Sie mehr über Dagmar Wagner.  \nWer kann teilnehmen? Eingeladen sind Interessierte und engagierte Bürger*innen 60plus aus dem gesamten Bundesgebiet. \nWas erwartet Sie? Theoretischer Impulsvortrag\, Medieneinsatz (Kurzfilm\, Ausschnitte\, etc.)\, Kleingruppenarbeit\, offene Diskussion. \nWie ist der zeitliche Ablauf? Die 3-stündigen Workshops finden werktags digital (ZOOM) von 16.00 -18.30 Uhr statt. Im Anschluss der Workshops von 18.30 – 19.00 Uhr besteht die Möglichkeit des Austauschs und der Vernetzung. \nDie virtuellen Plätze sind begrenzt. Melden Sie sich gleich zum kostenlosen Workshop an:AnmeldungDie Bildungsreihe FILM & Älterwerden wird
URL:https://www.alterngestalten.de/event/filmworkshop1/
LOCATION:Digital in ZOOM\, Deutschland
CATEGORIES:ALLE PROJEKTE,MEDIEN & FILM
ATTACH;FMTTYPE=image/png:https://www.alterngestalten.de/wp-content/uploads/2022/02/Film1.png
ORGANIZER;CN="Curatorium Altern gestalten":MAILTO:info@alterngestalten.de
END:VEVENT
BEGIN:VEVENT
DTSTART;VALUE=DATE:20220307
DTEND;VALUE=DATE:20220403
DTSTAMP:20260424T142637
CREATED:20210908T082608Z
LAST-MODIFIED:20220126T142416Z
UID:1507-1646611200-1648943999@www.alterngestalten.de
SUMMARY:Weiterbildung für ehrenamtliche Kulturpat:innen in Nürnberg und Umgebung
DESCRIPTION:Gesucht werden Kulturpatinnen und -paten für Nürnberg und Umgebung \nCuratorium Altern gestalten startet mit dem erfolgreichen Projekt „Kulturpaten & Kulturgäste“ in eine dritte Runde. Auf Grund der vemehrten Nachfrage von Senioren nach Begleitungen zu Kultur- und Alltagsveranstaltungen\, werden im März 2022 weitere ehrenamtliche Kulturpatinnen und Kulturpaten kostenfrei weitergebildet. Wir suchen Bürgerinnen und Bürger jeden Alters\, die ihre Freizeitgestaltung mit einem Ehrenamt verbinden und sich dem Kulturnetzwerk von anderen Engagierten anschließen möchten. \n“Kulturpaten und Kulturgäste sind feste Tandems für viele gemeinsame Kulturerlebnisse. In der Weiterbildung werden Sie gut vorbereitet\, um sich selbst sicher zu fühlen\, Selbstvertrauen zu gewinnen und nicht zuletzt auch Spaß und Freude bei der Ausübung eines Ehrenamtes zu haben.” (Georg Weigl\, Altern gestalten) \nDie genauen Termine im März stehen noch nicht fest. Wer mehr über die Weiterbildung erfahren möchte\, kann sich in einer von drei unverbindlichen Online-Informationsveranstaltungen  vorab darüber informieren und bei der Terminfindung mitsprechen: \n\nFreitag\, 28.1.22\, 11:00 Uhr bis 11:45 Uhr \nMontag\, 7.2.2022\, 18:00 Uhr bis 18.45 Uhr \nMittwoch\, 23.2.2022\, 16:00 Uhr bis 16:45 Uhr\n\nIn der Weiterbildung (5 x 3 UE im März 2022) referieren Gerontolog*innen und Fachkräfte aus der Praxis der Seniorenarbeit. Die Teilnehmerzahl ist auf 16 Personen begrenzt.  Alle Kursteilnehmer*innen erhalten Kursunterlagen. Die Teilnahme ist kostenfrei.\nTechnische Voraussetzungen: Smartphone\, Tablet oder PC. Bei Fragen stehen wir gerne im Vorfeld telefonisch zur Verfügung: 09152-92 88 400. Den Zugangslink zum Kurs und den Kursplan versenden wir rechtzeitig vor Kursbeginn. \nEin Kooperationsprojekt im Rahmen des Kompetenz- und Netzwerkprogramm “Warmstart ins aktive Alter”\, Stabsstelle Bürgerschaftliches Engagement &  Seniorenamt Stadt Nürnberg\, Curatorium Altern gestalten und ZAB.  Gefördert durch die Deutsche Stiftung für Engagement und Ehrenamt (DSEE). \n\n\n\n    Interessensbekundung für den Onlinekurs
URL:https://www.alterngestalten.de/event/kulturpatennuernberg-3/
LOCATION:Digital in ZOOM\, Deutschland
CATEGORIES:ALLE PROJEKTE,ARBEIT & EHRENAMT,KUNST & KULTUR
ATTACH;FMTTYPE=image/png:https://www.alterngestalten.de/wp-content/uploads/2021/09/1-3.png
ORGANIZER;CN="Curatorium Altern gestalten":MAILTO:info@alterngestalten.de
END:VEVENT
BEGIN:VEVENT
DTSTART;TZID=Europe/Berlin:20220318T160000
DTEND;TZID=Europe/Berlin:20220318T180000
DTSTAMP:20260424T142637
CREATED:20210808T080016Z
LAST-MODIFIED:20220226T185712Z
UID:1789-1647619200-1647626400@www.alterngestalten.de
SUMMARY:FILM Beirat 60plus Netzwerktreffen
DESCRIPTION:Der FILM Beirat 60plus engagiert sich für mehr Sichtbarkeit des Alters in Film und Fernsehen. \n 
URL:https://www.alterngestalten.de/event/filmbeirat3/
LOCATION:Digital in ZOOM\, Deutschland
CATEGORIES:MEDIEN & FILM
ATTACH;FMTTYPE=image/png:https://www.alterngestalten.de/wp-content/uploads/2021/08/FILMBeirat-Veranstaltungen.png
ORGANIZER;CN="SilberFILM by Curatorium Altern gestalten":MAILTO:kontakt@silberfilm.info
END:VEVENT
BEGIN:VEVENT
DTSTART;TZID=Europe/Berlin:20220324T150000
DTEND;TZID=Europe/Berlin:20220324T160000
DTSTAMP:20260424T142637
CREATED:20210808T080016Z
LAST-MODIFIED:20220309T165019Z
UID:1787-1648134000-1648137600@www.alterngestalten.de
SUMMARY:Nürnberger Symphoniker: Konzert für Menschen mit Demenz und Jedermann
DESCRIPTION:Konzert für Menschen mit Demenz\, Angehörige und Jedermann\n“Wenn wir einander mit Musik berühren”\, schrieb Leonard Bernstein\, “berührt einer des anderen Herz\, Verstand und Seele – alles auf einmal.” In der Tat: Wie keine andere Kunst öffnet die Musik den Zugang zur inneren Welt des Menschen. Auch und vor allem zu Seele und Herz von Menschen mit Demenz. Unser Nachmittagskonzert bietet Betroffenen und ihren Angehörigen die Gelegenheit\, gemeinsam Musik zu erleben und damit weiterhin am gesellschaftlich-kulturellen Leben teilhaben zu können. Erleben Sie einen Nachmittag mit Evergreens der Klassik\, die Erinnerungen an alte Zeiten wecken. Denn nichts bringt Vergangenes so zurück und lässt es in uns wieder lebendig werden wie Musik. \nDauer: ca. 50 Minuten\, keine Pause\nKarten zu € 15 ausschließlich über die Nürnberger Symphoniker\nzzgl. € 1\,50 VVK-Gebühr pro Ticket und € 1\,50 pro Versand\nTel. (0911) 474 01-54 oder ticket@nuernbergersymphoniker.de\nKeine Konzertkasse\, keine Ermäßigung\nDas Konzert ist barrierefrei\, Rollstuhlfahrer bitte vorher anmelden. \nDie Nürnberger Symphoniker engagieren sich mit diesem Konzert beim fränkischen Netzwerk “Dialog: Kultur & Demenz” für mehr Teilhabe und Normalität im Umgang mit Demenz im öffentlichen Raum.  \nInterview mit dem Intendanten Prof. Hemmer – erfahren Sie mehr in diesem Video über das Konzert\nHier klickenDirekt zu den Nürnberger Symphonikern \nHier klickenCuratorium Altern gestalten unterstützt  bei der Mobilität (Fahrgemeinschaften)  und der Vermittlung ehrenamtlicher Kulturpatinnen für eine sichere Begleitung. Bitte melden Sie sich bei uns per Mail: info@alterngestalten.de oder per Telefon: 09152 – 92 88 400
URL:https://www.alterngestalten.de/event/nuernbergersymphoniker/
LOCATION:Digital in ZOOM\, Deutschland
CATEGORIES:ALLE PROJEKTE,KUNST & KULTUR
ATTACH;FMTTYPE=image/jpeg:https://www.alterngestalten.de/wp-content/uploads/2021/08/Nuernberger-Symphoniker-Mrz-2017-6-min_c_IsabelleRudolph-scaled.jpg
ORGANIZER;CN="N%C3%BCrnberger Symphoniker":MAILTO:info@nuernbergersymphoniker.de
END:VEVENT
BEGIN:VEVENT
DTSTART;TZID=Europe/Berlin:20220330T173000
DTEND;TZID=Europe/Berlin:20220330T181500
DTSTAMP:20260424T142637
CREATED:20210908T082608Z
LAST-MODIFIED:20210908T082608Z
UID:1925-1648661400-1648664100@www.alterngestalten.de
SUMMARY:Kulturpate werden im Landkreis Hof
DESCRIPTION:Infoveranstaltung Online\nDie 45-minütige Informationsveranstaltung ist für Bürger*innen\, die sich für eine ehrenamtliche Tätigkeit als Kulturpate/Kulturpatin im Landkreis Hof  interessieren. Neben ersten Grundinformationen zum Ehrenamt stellen wir den Ablauf und die Inhalte der im April 2022 geplanten Online Schulung “zur Kulturpatin/ zum Kulturpaten” vor.\nSie haben die Möglichkeit\, individuelle Fragen einzubringen. Die Teilnahme an der Veranstaltung ist kostenfrei und unverbindlich. \nDie Veranstaltung findet online per ZOOM statt. Technische Voraussetzungen: Smartphone\, Tablet oder PC. Auch per Telefon ist eine Teilnahme möglich. Den Link zur Veranstaltung erhalten Sie nach der Buchung. \nBei Fragen steht Ihnen gerne im Vorfeld Frau Moritz (Koordinatorin für Seniorenangelegenheiten im Landkreis Hof ) telefonisch zur Verfügung: 09281 57-424 und informieren Sie sich auf der Homepage  \n\nLernen Sie dieses neue Engagement und das Projektteam kennen. Helfen Sie künftig mit\, dass der Besuch von Kulturveranstaltungen in Oberfranken auch im höheren Alter normal und möglich wird.\n\nWir freuen uns auf Sie! \nSandra Wolf (Demografie Kompetenzzentrum Oberfranken)\nLisa-Maria Moritz (Landratsamt Hof)\nSabine L. Distler (Curatorium Altern gestalten) \nDownload: Flyer für Kulturpaten im Landkreis Hof  \nDownload Flyer für Kulturgäste im Landkreis Hof \n\n\n\n     Für die Infoveranstaltung anmeldenMehr dazu: Demografie OberfrankenMehr dazu: Landratsamt Hof
URL:https://www.alterngestalten.de/event/infohof1-3-2-2/
LOCATION:Digital in ZOOM\, Deutschland
CATEGORIES:ALLE PROJEKTE,KUNST & KULTUR
ATTACH;FMTTYPE=image/jpeg:https://www.alterngestalten.de/wp-content/uploads/2021/09/Silberfilm_21-09-23_67A8628-scaled.jpg
ORGANIZER;CN="Demografie Kompetenzzentrum Oberfranken":MAILTO:info@demografie-oberfranken.de
END:VEVENT
BEGIN:VEVENT
DTSTART;TZID=Europe/Berlin:20220331T160000
DTEND;TZID=Europe/Berlin:20220331T183000
DTSTAMP:20260424T142637
CREATED:20210808T080016Z
LAST-MODIFIED:20220212T184153Z
UID:1683-1648742400-1648751400@www.alterngestalten.de
SUMMARY:FILM & Älterwerden: Altersbilder in den Medien
DESCRIPTION:Die Abbildung älterer Menschen in den Medien bestimmt in starkem Maße unsere gesellschaftlichen und persönlichen Altersbilder. Wie werden ältere Menschen in den Medien dargestellt? Eine Diskussion über die Überschreitung ethischer Grenzen\, wie und ob diese überhaupt festzulegen sind\, und ob Möglichkeiten einer offiziellen Kritik oder gar Rüge bei bestimmten Darstellungen von Altersbildern überhaupt sinnvoll sind. \nDie Workshopleiterin ist Dagmar Wagner – eine echte Expertin in Sachen Film & Alter. Sie ist Kommunikationswissenschaftlerin\, Dokumentarfilmerin\, Biografin & angehende Gerontologin. Die Dozentin und Regisseurin des erfolgreichen Films „Ü100“  gibt folgendes Versprechen: \n\nLassen Sie sich anstecken\, in die spannenden Themen rund um die Filmwelt und dem Älterwerden mit mir einzutauchen. Ich kann Ihnen versprechen: Humor und Spaß kommen nicht zu kurz! \n\nErfahren Sie mehr über Dagmar Wagner.  \nWer kann teilnehmen? Eingeladen sind Interessierte und engagierte Bürger*innen 60plus aus dem gesamten Bundesgebiet. \nWas erwartet Sie? Theoretischer Impulsvortrag\, Medieneinsatz (Kurzfilm\, Ausschnitte\, etc.)\, Kleingruppenarbeit\, offene Diskussion. \nWie ist der zeitliche Ablauf? Die 3-stündigen Workshops finden werktags digital (ZOOM) von 16.00 -18.30 Uhr statt. Im Anschluss der Workshops von 18.30 – 19.00 Uhr besteht die Möglichkeit des Austauschs und der Vernetzung. \nDie virtuellen Plätze sind begrenzt. Melden Sie sich gleich zum kostenlosen Workshop an:AnmeldungDie Bildungsreihe FILM & Älterwerden wird
URL:https://www.alterngestalten.de/event/filmworkshop2/
LOCATION:Digital in ZOOM\, Deutschland
CATEGORIES:ALLE PROJEKTE,MEDIEN & FILM
ATTACH;FMTTYPE=image/png:https://www.alterngestalten.de/wp-content/uploads/2022/02/Film2.png
ORGANIZER;CN="Curatorium Altern gestalten":MAILTO:info@alterngestalten.de
END:VEVENT
END:VCALENDAR