BEGIN:VCALENDAR
VERSION:2.0
PRODID:-//alterngestalten.de - ECPv6.8.3//NONSGML v1.0//EN
CALSCALE:GREGORIAN
METHOD:PUBLISH
X-WR-CALNAME:alterngestalten.de
X-ORIGINAL-URL:https://www.alterngestalten.de
X-WR-CALDESC:Veranstaltungen für alterngestalten.de
REFRESH-INTERVAL;VALUE=DURATION:PT1H
X-Robots-Tag:noindex
X-PUBLISHED-TTL:PT1H
BEGIN:VTIMEZONE
TZID:Europe/Berlin
BEGIN:DAYLIGHT
TZOFFSETFROM:+0100
TZOFFSETTO:+0200
TZNAME:CEST
DTSTART:20220327T010000
END:DAYLIGHT
BEGIN:STANDARD
TZOFFSETFROM:+0200
TZOFFSETTO:+0100
TZNAME:CET
DTSTART:20221030T010000
END:STANDARD
END:VTIMEZONE
BEGIN:VEVENT
DTSTART;TZID=Europe/Berlin:20220207T180000
DTEND;TZID=Europe/Berlin:20220207T184500
DTSTAMP:20260424T171647
CREATED:20210908T082608Z
LAST-MODIFIED:20220126T142528Z
UID:1608-1644256800-1644259500@www.alterngestalten.de
SUMMARY:Infoveranstaltung Online -KulturpatIn werden in Nürnberg und Umgebung
DESCRIPTION:Infoveranstaltung Online\nDie 45-minütige Informationsveranstaltung ist für Bürger*innen\, die sich für eine ehrenamtliche Tätigkeit als Kulturpate/Kulturpatin in Nürnberg und Umgebung interessieren. Neben ersten Grundinformationen zum Ehrenamt stellen wir den Ablauf und die Inhalte der im März geplanten Online Schulung “zur Kulturpatin/ zum Kulturpaten” vor.\nSie haben die Möglichkeit\, individuelle Fragen einzubringen. Die Teilnahme an der Veranstaltung ist kostenfrei und unverbindlich. \nDie Veranstaltung findet online per ZOOM statt. Technische Voraussetzungen: Smartphone\, Tablet oder PC. Auch per Telefon ist eine Teilnahme möglich. Den Link zur Veranstaltung erhalten Sie nach der Buchung. \n\nLernen Sie dieses neue Engagement und andere Kulturpatinnen und -paten kennen. Helfen Sie künftig mit\, dass der Besuch von Kulturveranstaltungen in Nürnberg und der Region auch im höheren  Alter normal und möglich wird.\n\nMelden Sie gleich hier zur digitalen Infoveranstaltung an. Wir freuen uns auf Sie! \nIhr Georg Weigl vom Curatorium Altern gestalten \n\n\n\n   zur Infoveranstaltung anmelden
URL:https://www.alterngestalten.de/event/infonuernberg-1-22/
LOCATION:Digital in ZOOM\, Deutschland
CATEGORIES:ALLE PROJEKTE,ARBEIT & EHRENAMT,KUNST & KULTUR
ATTACH;FMTTYPE=image/png:https://www.alterngestalten.de/wp-content/uploads/2021/09/Infoveranstaltungen-Febr22.png
ORGANIZER;CN="Curatorium Altern gestalten":MAILTO:info@alterngestalten.de
END:VEVENT
BEGIN:VEVENT
DTSTART;TZID=Europe/Berlin:20220210T160000
DTEND;TZID=Europe/Berlin:20220210T170000
DTSTAMP:20260424T171647
CREATED:20210828T080016Z
LAST-MODIFIED:20220116T011506Z
UID:1533-1644508800-1644512400@www.alterngestalten.de
SUMMARY:"Respekt vorm Alter? Eigentlich Ehrensache..." Workshop zu Altersdiskriminierung
DESCRIPTION:Ob im Beruf\, im Gesundheitsbereich\, in den Medien oder im Alltag – Altersdiskriminierung existiert überall. Doch den Begriff Diskriminierung verbinden viele zunächst mit Ausgrenzung aufgrund des Geschlechts\, der sexuellen Orientierung\, aufgrund von Migrationshintergrund oder einer Behinderung und denken dabei nicht an ältere Menschen. Für Altersdiskriminierung gibt es kaum ein Bewusstsein in unserer Gesellschaft. Das möchte der digitale Ageism – Workshop „Eigentlich Ehrensache“ des Curatorium Altern gestalten ändern. \nFrüher stand Alter für Erfahrung und Weisheit – Eigenschaften\, denen man Respekt zollte. Heute denken viele dabei an Demenz und die Belastung der Pflege- und Rentenkassen. Negative Altersbilder prägen oftmals unsere Gesellschaft. Ein weiterer Grund\, warum Diskriminierung älterer Menschen oftmals kein Thema ist\, ist auch die Scham der Betroffenen darüber zu berichten oder das Selbstbild älterer Menschen ist bereits so geprägt\, dass Diskriminierungen als normale Verhaltensweise empfunden und somit nicht wahrgenommen werden. Dadurch wird Altersdiskriminierung oft nicht aufgedeckt und bleibt unsichtbar. \nMit dem 2-teiligen digitalen Workshop „Eigentlich Ehrensache“ möchten wir in Kooperation mit dem Digital-Kompass (BAGSO)  für das Thema sensibilisieren\, dazu ermutigen\, von erfahrenen Ausgrenzungen im Netz oder im realen Leben zu berichten und gemeinsam Lösungs- und Verhaltensstrategien als Antwort auf Altersdiskriminierung entwickeln. \nDas Projekt war für den Goldenen Internetpreis 2021 nominiert und ist ein aktiver Beitrag im Kompetenz- und Netzwerkprogramm „Warmstart ins aktive Alter“ der Stadt Nürnberg (Stabsstelle Bürgerschaftliches Engagement\, Seniorenamt)\, ISKA und Curatorium Altern gestalten. \n  Infos und Zugang zu den Workshops
URL:https://www.alterngestalten.de/event/eigentlich-ehrensache/2022-02-10/
LOCATION:Digital in ZOOM\, Deutschland
CATEGORIES:ALLE PROJEKTE,ARBEIT & EHRENAMT,DISKRIMINIERUNG & GLEICHBEHANDLUNG
ATTACH;FMTTYPE=image/png:https://www.alterngestalten.de/wp-content/uploads/2021/08/Kopie-von-Facebook-Eigentlich-Ehrensache....png
ORGANIZER;CN="Curatorium Altern gestalten":MAILTO:info@alterngestalten.de
END:VEVENT
BEGIN:VEVENT
DTSTART;TZID=Europe/Berlin:20220216T103000
DTEND;TZID=Europe/Berlin:20220216T120000
DTSTAMP:20260424T171647
CREATED:20210808T080016Z
LAST-MODIFIED:20210808T080016Z
UID:2606-1645007400-1645012800@www.alterngestalten.de
SUMMARY:Spezialschulung zum Thema DEMENZ für Kulturpartner in Mittel- und Oberfranken (Duplikat)
DESCRIPTION:Diese Veranstaltung richtet sich speziell an Kultur- und Freizeitanbieter\, die ein grundsätzliches Interesse an alters- und demenzsensiblen Angeboten haben. Frau Nina Gremme und Frau Eva Adorf von der Fachstelle für Demenz und Pflege Mittelfranken vermitteln interessierten Kultur- und Freizeitanbietern einen fachlichen Input über die Krankheitsbilder der Demenz\, den Umgang sowie die Kommunikation mit Betroffenen in Form einer demenzspezifischen Schulung\, um angemessene kulturelle Programme und Angebote entwickeln zu können. Die Themenfelder der Schulung sind: \n\nGrundlagen der Demenz\nKulturführungen und Gelingensfaktoren kultureller Angebote für Menschen mit Demenz\n\nZudem erhalten die Kultur- und Freizeitanbieter einen Überblick über das Kulturnetzwerk “Dialog: Kultur & Demenz” und lernen Best Practice – Beispiele von bereits im Netzwerk aktiven Kulturpartnern kennen. \nDie Teilnehmer*innen haben die Möglichkeit\, individuelle Fragen einzubringen. Die Teilnahme an der Veranstaltung ist kostenfrei und richtet sich ausschließlich an Mitarbeiter:innen von Kultur- und Freizeiteinrichtungen aus Mittel- und Oberfranken. \nDie Durchführung der Veranstaltung erfolgt mit Zoom. Bei Fragen stehen wir gerne im Vorfeld telefonisch zur Verfügung: 09152-92 88 400. \nInfo & Anmeldung
URL:https://www.alterngestalten.de/event/filmbeirat1-3-2/
LOCATION:Digital in ZOOM\, Deutschland
CATEGORIES:KUNST & KULTUR,WISSENSCHAFT & GENERATIONEN
ATTACH;FMTTYPE=image/png:https://www.alterngestalten.de/wp-content/uploads/2021/08/SpezialschulungDemenz.png
ORGANIZER;CN="Dialog%3A Kultur & Demenz by Curatorium Altern gestalten":MAILTO:dialog@alterngestalten.de
END:VEVENT
BEGIN:VEVENT
DTSTART;TZID=Europe/Berlin:20220218T160000
DTEND;TZID=Europe/Berlin:20220218T180000
DTSTAMP:20260424T171647
CREATED:20210808T080016Z
LAST-MODIFIED:20220207T143914Z
UID:1329-1645200000-1645207200@www.alterngestalten.de
SUMMARY:FILM Beirat 60plus Netzwerktreffen
DESCRIPTION:Der FILM Beirat 60plus engagiert sich für mehr Sichtbarkeit des Alters in Film und Fernsehen. \n  \nInfo & Anmeldung
URL:https://www.alterngestalten.de/event/filmbeirat1/
LOCATION:Digital in ZOOM\, Deutschland
CATEGORIES:MEDIEN & FILM
ATTACH;FMTTYPE=image/png:https://www.alterngestalten.de/wp-content/uploads/2021/08/FILMBeirat-Veranstaltungen.png
ORGANIZER;CN="SilberFILM by Curatorium Altern gestalten":MAILTO:kontakt@silberfilm.info
END:VEVENT
BEGIN:VEVENT
DTSTART;TZID=Europe/Berlin:20220223T160000
DTEND;TZID=Europe/Berlin:20220223T164500
DTSTAMP:20260424T171647
CREATED:20210908T082608Z
LAST-MODIFIED:20220126T142643Z
UID:1618-1645632000-1645634700@www.alterngestalten.de
SUMMARY:Infoveranstaltung Online -KulturpatIn werden in Nürnberg und Umgebung
DESCRIPTION:Infoveranstaltung Online\nDie 45-minütige Informationsveranstaltung ist für Bürger*innen\, die sich für eine ehrenamtliche Tätigkeit als Kulturpate/Kulturpatin in Nürnberg und Umgebung interessieren. Neben ersten Grundinformationen zum Ehrenamt stellen wir den Ablauf und die Inhalte der im März geplanten Online Schulung “zur Kulturpatin/ zum Kulturpaten” vor.\nSie haben die Möglichkeit\, individuelle Fragen einzubringen. Die Teilnahme an der Veranstaltung ist kostenfrei und unverbindlich. \nDie Veranstaltung findet online per ZOOM statt. Technische Voraussetzungen: Smartphone\, Tablet oder PC. Auch per Telefon ist eine Teilnahme möglich. Den Link zur Veranstaltung erhalten Sie nach der Buchung. \n\nLernen Sie dieses neue Engagement und andere Kulturpatinnen und -paten kennen. Helfen Sie künftig mit\, dass der Besuch von Kulturveranstaltungen in Nürnberg und der Region auch im höheren  Alter normal und möglich wird.\n\nMelden Sie gleich hier zur digitalen Infoveranstaltung an. Wir freuen uns auf Sie! \nIhr Georg Weigl vom Curatorium Altern gestalten \n\n\n\n   zur Infoveranstaltung anmelden
URL:https://www.alterngestalten.de/event/infonuernberg-2-22/
LOCATION:Digital in ZOOM\, Deutschland
CATEGORIES:ALLE PROJEKTE,ARBEIT & EHRENAMT,KUNST & KULTUR
ATTACH;FMTTYPE=image/png:https://www.alterngestalten.de/wp-content/uploads/2021/09/Infoveranstaltungen-Febr22.png
ORGANIZER;CN="Curatorium Altern gestalten":MAILTO:info@alterngestalten.de
END:VEVENT
END:VCALENDAR