BEGIN:VCALENDAR
VERSION:2.0
PRODID:-//alterngestalten.de - ECPv6.8.3//NONSGML v1.0//EN
CALSCALE:GREGORIAN
METHOD:PUBLISH
X-WR-CALNAME:alterngestalten.de
X-ORIGINAL-URL:https://www.alterngestalten.de
X-WR-CALDESC:Veranstaltungen für alterngestalten.de
REFRESH-INTERVAL;VALUE=DURATION:PT1H
X-Robots-Tag:noindex
X-PUBLISHED-TTL:PT1H
BEGIN:VTIMEZONE
TZID:Europe/Berlin
BEGIN:DAYLIGHT
TZOFFSETFROM:+0100
TZOFFSETTO:+0200
TZNAME:CEST
DTSTART:20210328T010000
END:DAYLIGHT
BEGIN:STANDARD
TZOFFSETFROM:+0200
TZOFFSETTO:+0100
TZNAME:CET
DTSTART:20211031T010000
END:STANDARD
END:VTIMEZONE
BEGIN:VEVENT
DTSTART;VALUE=DATE:20211109
DTEND;VALUE=DATE:20211202
DTSTAMP:20260424T210831
CREATED:20210908T082608Z
LAST-MODIFIED:20211029T000849Z
UID:1476-1636416000-1638403199@www.alterngestalten.de
SUMMARY:Weiterbildung für ehrenamtliche Kulturpat:innen in Kulmbach und Umgebung
DESCRIPTION:KulturpatInnen für Kulmbach und Umgebung \nDas Demografie Kompetenzzentrum Oberfranken (DemKo)\, der Landkreis Kulmbach (Koordinierungszentrum Bürgerschaftliches Engagement- KoBE) und Curatorium Altern gestalten startet ein generationenverbindendes Kulturnetzwerk  in Oberfranken. Das neue Projekt GenussKultur – Kulinarische Erinnerungen entdecken wird pilothaft für Oberfranken vorangehen. Ein Engagement für Bürgerinnen und Bürger jeden Alters\, die ihre Freizeitgestaltung mit einem Ehrenamt verbinden möchten. \n“Wir werden immer älter: Das ist erfreulich! Und es ist wunderbar\, dass es eine Generation „Silber“ gibt\, die aktiv und selbstbewusst ist wie nie zuvor. Kulturpaten begleiten sie auf Wunsch zu Veranstaltungen und engagieren sich damit für mehr kulturelle Teilhabe. ” (Klaus Söllner\, Landrat) \nKostenlos zum Kulturpaten/zur Kulturpatin ausbilden lassen\nEin zentraler Baustein des Projekt es\, die ehrenamtlich engagierten Bürgerinnen und Bürger im Rahmen einer Schulung auszubilden. Der mehrtägige Online Kurs vermittelt unter anderen Wissen über das Krankheitsbild Demenz\, alterssensible Veranstaltungen und die Organisation von Kulturbesuchen. Die Teilnehmerinnen und Teilnehmer werden nach dem Kurs zertifiziert. In der Weiterbildung (5 x 3 UE im November 21) referieren Gerontolog*innen und Fachkräfte aus der Praxis der Seniorenarbeit.  Alle Kursteilnehmer*innen erhalten Kursunterlagen. Die Teilnahme ist kostenfrei.\nTechnische Voraussetzungen: Smartphone\, Tablet oder PC. Den Zugangslink zum Kurs versenden wir rechtzeitig vor Kursbeginn. \nDer Online Kurs findet an 5 Tagen im November (9.11.\, 11.11.\, 16.11.\, 18.11. und 23.11.21) um 16-18.30 Uhr statt. Am 1.12.2021\, ab 14 Uhr erfolgt die Zertifikatsübergabe vor Ort in den Museen im Kulmbacher Mönchshof. \nSeien Sie von Anfang bei diesem herausragenden Kooperationsprojekt dabei. \nErkundigen Sie sich hier über Inhalte & Termine und melden Sie sich für die Weiterbildung an.\n\n\n\n    Termine\, Inhalte & Anmeldung für die Weiterbildung
URL:https://www.alterngestalten.de/event/infonuernberg-2-2/
LOCATION:Digital in ZOOM\, Deutschland
CATEGORIES:ALLE PROJEKTE,KUNST & KULTUR
ATTACH;FMTTYPE=image/png:https://www.alterngestalten.de/wp-content/uploads/2021/09/Website.png
ORGANIZER;CN="Demografie Kompetenzzentrum Oberfranken":MAILTO:info@demografie-oberfranken.de
END:VEVENT
BEGIN:VEVENT
DTSTART;TZID=Europe/Berlin:20211202T160000
DTEND;TZID=Europe/Berlin:20211202T183000
DTSTAMP:20260424T210831
CREATED:20210908T082608Z
LAST-MODIFIED:20211114T112021Z
UID:1497-1638460800-1638469800@www.alterngestalten.de
SUMMARY:Kinofilm: Die Vergesslichkeit der Eichhörnchen und Filmgespräch mit Nina Gremme\, Eva Adorf und Angelika Thiel
DESCRIPTION:Die Kinoveranstaltung mit anschließendem Filmgespräch ist Teil einer Filmbildungsreihe\, für engagierte Menschen\, die sich für Lebensgeschichten\, Demenz und neue Ausblicke für das Alter interessieren. \nZum Film:\nUm Geld für ihre Familie daheim in der Ukraine zu verdienen\, kommt Marija nach Deutschland. In seiner alten Villa soll sie sich rund um die Uhr um den an Demenz erkrankten Curt kümmern. Landet aber im zwischenmenschlichen Minenfeld einer deutschen Familie – deren fragile Dynamik sie nun\, ganz unfreiwillig\, gehörig durcheinander bringt. Curts Tochter\, die in den letzten Jahren für ihn gesorgt hat\, fühlt sich von ihrem Vater nicht wertgeschätzt\, ihr Kontrollwahn hält sie aber davon ab loszulassen. Curt wiederum beginnt\, Marija für seine früh verstorbene Frau zu halten\, und wähnt sich zunehmend in längst vergangenen Zeiten. \n“Die Vergesslichkeit der Eichhörnchen” ist ein gefühlvolles Familiendrama mit hintergründigem Humor. Auf unterhaltsame Weise ist hier nicht immer alles wie es scheint\, nicht einmal die eigenen Vorurteile. Wer wir sind und wer wir waren ist eben nicht immer auf den ersten Blick erkennbar. \nSpielfilm\, Deutschland 2021\, Drehbuch und Regie: Nadine Heinze und Marc Dietschreit\, Darsteller: Emilia Schüle\, Günther Maria Halmer\, Fabian Hinrichs\, Anna Stieblich u.a.\, Laufzeit: 109 Minuten \nFür das anschließende Filmgespräch freuen wir uns Frau Nina Gremme und Frau Eva Adorf von der Fachstelle Demenz & Pflege Mittelfranken und die Koordinatorin für Freiwilligenmanagement des Seniorenamtes Nürnberg\, Frau Angelika Thiel begrüßen zu dürfen. \nKostenfreier Einritt. Die Veranstaltung findet unter Beachtung der 2G -Regel und mit begrenzter Besucherzahl statt.\nEine Anmeldung zu der Veranstaltung ist notwendig.\nNach der Anmeldung erhalten Sie kostenfreie Tickets zugesandt. \nNeben der Online-Anmeldung ist auch eine Anmeldung bei Curatorium Altern gestalten möglich:\nTelefon: 0 91 52 – 92 88 400\nMail: info@alterngestalten.de \nEin Kooperationsprojekt im Rahmen des Kompetenz- und Netzwerkprogramm „Warmstart ins aktive Alter“\, Stabsstelle Bürgerschaftliches Engagement &  Seniorenamt Stadt Nürnberg\, Curatorium Altern gestalten und ZAB. Gefördert durch die Deutsche Stiftung für Engagement und Ehrenamt (DSEE). \n\n\n\nKostenfreies Engagement Kinoticket anfordern
URL:https://www.alterngestalten.de/event/filmbildungsreihe3/
LOCATION:Casablanca Kino Nürnberg\, Brosamer Straße 12\, Nürnberg\, 90459\, Deutschland
CATEGORIES:ALLE PROJEKTE,ARBEIT & EHRENAMT,MEDIEN & FILM
ATTACH;FMTTYPE=image/jpeg:https://www.alterngestalten.de/wp-content/uploads/2021/09/13_Marija_und_Curt_Copyright_Zieglerfilm_Baden-Baden_Ivan_Maly-scaled.jpg
ORGANIZER;CN="Curatorium Altern gestalten":MAILTO:info@alterngestalten.de
END:VEVENT
BEGIN:VEVENT
DTSTART;TZID=Europe/Berlin:20211210T160000
DTEND;TZID=Europe/Berlin:20211210T183000
DTSTAMP:20260424T210831
CREATED:20210808T080016Z
LAST-MODIFIED:20210808T080016Z
UID:1630-1639152000-1639161000@www.alterngestalten.de
SUMMARY:Konstituierende Sitzung des bundesweiten FILM Beirat 60plus
DESCRIPTION:Unsere Film- und Medienvielfalt ist ein ganz besonderes Gut. Vieles ist ok. Aber manches könnte besser sein. Wie zum Beispiel die Darstellung von uns älteren Menschen im Film oder auch das Programm in den Medien. \nIn acht tollen Workshops im Oktober haben wir uns in unterschiedlicher Weise mit dem Altersbild in Film und Fernsehen auseinander gesetzt und über mehr Mitwirkung diskutiert. \nWir freuen uns sehr\, dass es jetzt mit dem bundesweiten FILM Beirat 60plus losgehen kann. Hierzu laden wir am 10.12.2021 um 16:00 Uhr zur konstituierenden Sitzung herzlich ein. \nSeien Sie von Anfang an mit dabei. Aus der Teilnahme an dem 1. Treffen und auch weiteren Treffen entstehen für Sie keinerlei Verpflichtungen.\nWir freuen uns auf den gemeinsamen Austausch und auf den Beginn des neuen Engagements im FILM Beirat 60plus! \nSitzungsleitung:  DAGMAR WAGNER M.A. ist Dokumentarfilmerin\, Biografin & Gerontologin i.A.\, Regisseurin des Films „Ü100“ und Dozentin. Mehr Infos bei www.aelterwerden.net \nInfo & Anmeldung
URL:https://www.alterngestalten.de/event/filmbeirat1-2/
LOCATION:Digital in ZOOM\, Deutschland
CATEGORIES:MEDIEN & FILM
ATTACH;FMTTYPE=image/jpeg:https://www.alterngestalten.de/wp-content/uploads/2021/08/Bild-Beirat.jpg
ORGANIZER;CN="SilberFILM by Curatorium Altern gestalten":MAILTO:kontakt@silberfilm.info
END:VEVENT
END:VCALENDAR