BEGIN:VCALENDAR
VERSION:2.0
PRODID:-//alterngestalten.de - ECPv6.8.3//NONSGML v1.0//EN
CALSCALE:GREGORIAN
METHOD:PUBLISH
X-WR-CALNAME:alterngestalten.de
X-ORIGINAL-URL:https://www.alterngestalten.de
X-WR-CALDESC:Veranstaltungen für alterngestalten.de
REFRESH-INTERVAL;VALUE=DURATION:PT1H
X-Robots-Tag:noindex
X-PUBLISHED-TTL:PT1H
BEGIN:VTIMEZONE
TZID:Europe/Berlin
BEGIN:DAYLIGHT
TZOFFSETFROM:+0100
TZOFFSETTO:+0200
TZNAME:CEST
DTSTART:20260329T010000
END:DAYLIGHT
BEGIN:STANDARD
TZOFFSETFROM:+0200
TZOFFSETTO:+0100
TZNAME:CET
DTSTART:20261025T010000
END:STANDARD
END:VTIMEZONE
BEGIN:VEVENT
DTSTART;TZID=Europe/Berlin:20260424T143000
DTEND;TZID=Europe/Berlin:20260424T163000
DTSTAMP:20260424T010416
CREATED:20260103T090016Z
LAST-MODIFIED:20260105T001854Z
UID:11618-1777041000-1777048200@www.alterngestalten.de
SUMMARY:SilberFILM Hollfeld: Der Rosengarten der Madame Vernet
DESCRIPTION:Tauchen Sie ein in eine Welt voller Farben und Düfte\, die Sie mit ihrem Charme und Witz begeistern wird – ein filmisches Erlebnis voller kleiner Wunder!\n\n\n\n\n\n\n\n\n\nZum Filminhalt: Eve\, eine leidenschaftliche Rosenzüchterin\, steht kurz vor dem Ruin. Ihre Gärtnerei im Burgund droht der Konkurrenz zu erliegen – bis drei unkonventionelle neue Mitarbeiter auftauchen. Gemeinsam wagen sie einen riskanten Plan\, um eine außergewöhnliche Rose zu kreieren und Eves Lebenstraum zu retten. \n„Der Rosengarten von Madame Vernet“ ist eine bezaubernde Geschichte über Mut\, Freundschaft und den Glauben an das Unmögliche.  \nFrankreich\, 2021\, Komödie\, 96 Minuten\nRegie: Pierre Pinaud\nDarstellende: Catherine Frot\, Melan Omerta\, Olivia Côte\, Fatsah Bouyahmed\, u.a.\nOriginaltitel: La Fine fleur \nDas Kintopp Hollfeld ist barrierefrei\nBegleitungen von Menschen mit Assistenzbedarf haben freien Eintritt.\nBezahlung erfolgt direkt an der Kinokasse (7 Euro) \nDas Kinobistro öffnet bereits um 13.00 Uhr. Genug Zeit zum Ankommen\, für ein Getränk und einen Kinoplausch. \n\n\n\n\n\n\n\n\n\n\n\n\n\n\n\n\n\nDie SILBERFILM Programmreihe möchte möglichst viele Menschen erreichen. Ob alt\, älter\, jung\, mit und ohne Einschränkungen. Kino ist ein Ort\, der Horizonte öffnet und generationsverbindende Erlebnisse schafft.\nKinotickets reservierenSilberFILM Hollfeld Programmheft 2026Kintopp Hollfeld\nTheresienstraße 8\, 96142 Hollfeld\n09274 / 9676\nhttps://kintopp-online.de/\n\nwww.silberfilm.info/hollfeld \ngefördert durch:
URL:https://www.alterngestalten.de/event/sf-hollfeld-4-2026/
LOCATION:Kintopp Hollfeld\, Theresienstrasse 8\, Hollfeld\, 96142
CATEGORIES:MEDIEN & FILM
ATTACH;FMTTYPE=image/jpeg:https://www.alterngestalten.de/wp-content/uploads/2025/01/madamevernet1.jpg
ORGANIZER;CN="SilberFILM by Curatorium Altern gestalten":MAILTO:kontakt@silberfilm.info
END:VEVENT
BEGIN:VEVENT
DTSTART;TZID=Europe/Berlin:20260424T143000
DTEND;TZID=Europe/Berlin:20260424T170000
DTSTAMP:20260424T010416
CREATED:20260408T000008Z
LAST-MODIFIED:20260420T000041Z
UID:12106-1777041000-1777050000@www.alterngestalten.de
SUMMARY:SilberFILM: Auftaktveranstaltung in Weissenburg
DESCRIPTION:Filmbeschreibung: Brummelkopf Bernd freut sich auf ein ruhiges Wochenende am See mit seinem Bruder Peter und seinem besten Freund Klaus. Als Peter jedoch Murat\, ein unangefochtener Frauenheld\, mitnehmen will\, gerät die erhoffte Harmonie ins Wanken. Bernd kann den Mann\, der Klaus‘ Tochter das Herz gebrochen hat\, partout nicht ausstehen! Erst als Klaus ihm erzählt\, dass er Murat eine ordentliche Lektion erteilen will\, gibt dieser nach. Doch die gute Stimmung will sich einfach nicht einstellen. In der Hütte angekommen\, geht Bernd erstmal trotzig angeln – Fische können ja nicht reden…. Dann trifft Bernd Klaus versehentlich mit einer Badeschaukel am Kopf\, woraufhin dieser ohnmächtig im See landet. Ohne zu zögern springt Murat hinterher. Für sein beherztes Eingreifen ist Bernd ihm dankbar und endlich bereit\, sich auch mit der ungewollten Reisebegleitung auf die freie Zeit einzulassen\, bis… ja bis Klaus am nächsten Morgen aufwacht und seinen Hund Rudi vermisst. Blöd nur\, dass Rudi schon vor zwei Jahren gestorben ist. Um Klaus zu schonen\, begeben sie sich gemeinsam mit der schönen Sophie auf die Suche nach dem geliebten Vierbeiner. Während Murat dabei ist sein Herz zu verlieren\, geraten die Freunde immer tiefer in ihr eigenes Lügennetz. \n“Nicht schon wieder Rudi” ist ein ganz besonderer Film. Sein spezieller Humor und der gelassene Erzählton ermöglichen einen besonderen\, einen erfrischenden Zugang zum Thema. Beeindruckend\, was dieser Film\, in dem nicht einmal das Wort „Demenz“ fällt\, in Bildern erzählt. \nWillkommen bei SilberFILM im Kino-Center Weissenburg! \nZur Auftaktveranstaltung von SilberFILM lädt die Stadt Weissenburg und VHS Weissenburg Interessierte herzlich ein!  \nMit Grußworten ab 14.30 Uhr von \n\nMaria Schneller\, 2. Bürgermeisterin\nDr.med. Peter Jatzwauk\, Seniorenbeirat – 1. Vorsitzender\nUrsula Amler\, Alzheimer Gesellschaft Weißenburg und Umgebung e.V.\nSabine L. Distler\, Curatorium Altern gestalten\n\nNach dem Film erwartet Sie ein Interview mit Oona-Devi Liebich  und eine Publikumsdiskussion.  \n\n\n\nMit Klick auf das Bild zu Ihrem FreiticketPartner von:  Gefördert durch:
URL:https://www.alterngestalten.de/event/silberfilm_weissenburg/
LOCATION:Kino Center Weissenburg\, Nördliche Ringstrasse 18\, Weißenburg\, 91781
CATEGORIES:ALLE PROJEKTE,KUNST & KULTUR
ATTACH;FMTTYPE=image/jpeg:https://www.alterngestalten.de/wp-content/uploads/2022/09/NSWR_CrewUnitedCover.jpg
END:VEVENT
END:VCALENDAR