BEGIN:VCALENDAR
VERSION:2.0
PRODID:-//alterngestalten.de - ECPv6.8.3//NONSGML v1.0//EN
CALSCALE:GREGORIAN
METHOD:PUBLISH
X-ORIGINAL-URL:https://www.alterngestalten.de
X-WR-CALDESC:Veranstaltungen für alterngestalten.de
REFRESH-INTERVAL;VALUE=DURATION:PT1H
X-Robots-Tag:noindex
X-PUBLISHED-TTL:PT1H
BEGIN:VTIMEZONE
TZID:Europe/Berlin
BEGIN:DAYLIGHT
TZOFFSETFROM:+0100
TZOFFSETTO:+0200
TZNAME:CEST
DTSTART:20250330T010000
END:DAYLIGHT
BEGIN:STANDARD
TZOFFSETFROM:+0200
TZOFFSETTO:+0100
TZNAME:CET
DTSTART:20251026T010000
END:STANDARD
END:VTIMEZONE
BEGIN:VEVENT
DTSTART;TZID=Europe/Berlin:20251022T150000
DTEND;TZID=Europe/Berlin:20251022T170000
DTSTAMP:20260421T075504
CREATED:20250103T090016Z
LAST-MODIFIED:20250604T171746Z
UID:9047-1761145200-1761152400@www.alterngestalten.de
SUMMARY:SilberFILM München: Es sind die kleinen Dinge
DESCRIPTION:SilberFILM heißt Sie willkommen im Rio Filmpalast. Ein Film voller Wärme und Gemeinschaftsgefühl – eine hinreißende Hommage an die kleinen Dinge\, die Großes bewirken! \n\n\n\n\n\n\n\n\n\nZum Filminhalt: Alice\, Lehrerin und Bürgermeisterin eines kleinen Dorfes in der Bretagne\, hat alle Hände voll zu tun. Doch als der störrische Émile beschließt\, mit 65 Jahren noch Lesen und Schreiben zu lernen\, und sich in ihre Klasse setzt\, wird ihre Geduld auf eine harte Probe gestellt. Dann droht auch noch die Schließung ihrer Schule – und damit das Ende des Dorflebens. Doch Alice und die Dorfbewohner geben nicht auf. Mit Kreativität und Zusammenhalt nehmen sie den Kampf gegen die Bürokratie auf. Eine Geschichte eines Dorfes\, das mit vereinter Kraft gegen das Vergessen kämpft. \n\n\n\n\n\n\n\n\n\n\n\nKomödie\, 2023\, 90 Minuten\, Frankreich\nRegie: Mélanie Auffret\nMitwirkende: Michel Blanc\, Julia Piaton\, Lionel Abelanski\, Marie Bunel u. a. \n\n\n\n\n\n\n\n\n\n\n\n\n\n\n\n\n\n\n\n\nKostenfreier Eintritt. Eine Anmeldung zum Filmnachmittag ist notwendig. Sichern Sie sich gleich hier Ihr(e) Silberticket(s). \n\n\n\n\n\n\n\n\n\n\n\n\n\n\n\n\n\n\nReservierungen und Informationen zu den Veranstaltungen bei Curatorium Altern gestalten\, Initiative SilberFILM (siehe rechts). Fordern Sie gerne auch gedruckte Programmhefte an. \n\n\n\n\n\n\n\n\n\n\n\n\n\n\n\n\n\n\n\n\n\n\n\n\n\n\nWo? Im Rio Filmpalast www.riofilmpalast.de\, Rosenheimer Straße 46\, München \nDie SILBERFILM Programmreihe möchte möglichst viele Menschen erreichen. Ob alt\, älter\, jung\, mit und ohne Einschränkungen. Kino ist ein Ort\, der Horizonte öffnet und generationsverbindende Erlebnisse schafft.\nFreitickets buchenCuratorium Altern gestalten / Initiative SilberFILM  \nTel: 0160 – 909 49 663\nE-Mail: dialog@alterngestalten.de\nSilberFILM München Website \ngefördert durch:
URL:https://www.alterngestalten.de/event/kleinendinge/
LOCATION:Rio Filmpalast München\, Rosenheimer Straße 46\, München\, Bayern\, 81669\, Deutschland
CATEGORIES:MEDIEN & FILM
ATTACH;FMTTYPE=image/jpeg:https://www.alterngestalten.de/wp-content/uploads/2025/01/LPV_©StephanieBranchu_1899-scaled-1.jpg
ORGANIZER;CN="SilberFILM by Curatorium Altern gestalten":MAILTO:kontakt@silberfilm.info
END:VEVENT
BEGIN:VEVENT
DTSTART;TZID=Europe/Berlin:20251022T173000
DTEND;TZID=Europe/Berlin:20251022T210000
DTSTAMP:20260421T075504
CREATED:20250903T082608Z
LAST-MODIFIED:20250904T002103Z
UID:11456-1761154200-1761166800@www.alterngestalten.de
SUMMARY:Social Design Days und Design Jam
DESCRIPTION:Am 22. & 23. Oktober wird’s kreativ: Beim Design Jam der Social Design Days entwickeln Teilnehmende gemeinsam mit urban lab und bayern design Lösungen für Herausforderungen des demografischen Wandels – direkt aus der Community. \nUnsere eingereichte Challenge: \nEntwerft mit uns neue Möglichkeiten\, wie ältere Menschen ihre Erfahrung und Potenziale einbringen können! Entwickelt mit uns Ideen für Engagement\, Lernen und Teilhabe\, die inspirieren und wirklich genutzt werden!\nWir freuen uns\, diese Herausforderung mitzugestalten und neue Methoden des Social Design kennenzulernen\, die auch im Alltag Wirkung zeigen. Die Ergebnisse werden am 24. Oktober bei den Talks in der IHK Nürnberg präsentiert. Alle Perspektiven zählen – je mehr Erfahrungen geteilt werden\, desto besser die Lösungen. \nWas sind die Social Design Days?\n\n\nMit den Social Design Days Nürnberg hat Bayern Design 2023 ein neues Festival ins Leben gerufen: Drei Tage mit Workshops\, interaktiven Angeboten und hochkarätig besetzten Talks – für alle. Denn darum geht es auch beim Social Design: Wenn wir alle unsere Fähigkeiten und Talente einbringen\, können wir auch gesellschaftliche Herausforderungen angehen und unsere Welt ein wenig besser machen. \nZu den Social Design Days gehört auch unser interaktiver Workshop („Design Jam“). Dafür suchen wir jährlich per Ausschreibung neue Herausforderungen und Themen („Challenges“)\, die wir im Sinne der Cross Innovation gemeinsam angehen wollen. Das Konzept richtet sich nicht nur an Designer:innen und Fachleute\, sondern an alle\, die Lust haben sich einzubringen. \n\n\nMehr Infos Digitale Anmeldung
URL:https://www.alterngestalten.de/event/designjam/
LOCATION:Bayern Design\, Luitpoldstraße 3\, Nürnberg\, 90402
CATEGORIES:ALLE PROJEKTE
ATTACH;FMTTYPE=image/jpeg:https://www.alterngestalten.de/wp-content/uploads/2023/06/SDD_1080x600px_250818_Jam.jpg
END:VEVENT
END:VCALENDAR