BEGIN:VCALENDAR
VERSION:2.0
PRODID:-//alterngestalten.de - ECPv6.8.3//NONSGML v1.0//EN
CALSCALE:GREGORIAN
METHOD:PUBLISH
X-WR-CALNAME:alterngestalten.de
X-ORIGINAL-URL:https://www.alterngestalten.de
X-WR-CALDESC:Veranstaltungen für alterngestalten.de
REFRESH-INTERVAL;VALUE=DURATION:PT1H
X-Robots-Tag:noindex
X-PUBLISHED-TTL:PT1H
BEGIN:VTIMEZONE
TZID:Europe/Berlin
BEGIN:DAYLIGHT
TZOFFSETFROM:+0100
TZOFFSETTO:+0200
TZNAME:CEST
DTSTART:20220327T010000
END:DAYLIGHT
BEGIN:STANDARD
TZOFFSETFROM:+0200
TZOFFSETTO:+0100
TZNAME:CET
DTSTART:20221030T010000
END:STANDARD
END:VTIMEZONE
BEGIN:VEVENT
DTSTART;TZID=Europe/Berlin:20221002T160000
DTEND;TZID=Europe/Berlin:20221002T170000
DTSTAMP:20260425T155149
CREATED:20210908T082608Z
LAST-MODIFIED:20220908T182550Z
UID:2814-1664726400-1664730000@www.alterngestalten.de
SUMMARY:Spätzchen\, 109 ist doch kein Alter! Lesung mit Bestsellerautorin Anja Fritzsche
DESCRIPTION:Die „Lange Nacht der Demokratie“ in Nürnberg am 2. Oktober 2022 wird richtig groß begangen! Auf dem Gewerbemuseumsplatz\, im Bildungszentrum und im Cinecitta’ gibt es von 15 bis 1 Uhr zahlreiche Aktivitäten\, die belegen wie viel Spaß Demokratie machen kann und die die enge Verbindung von Engagement und Demokratie aufzeigen. \nDie Lesung “Spätzchen\, 109 ist doch kein Alter” wird zeigen\, dass Älterwerden Spaß macht.\n\n\n\n\n\nWer hat schon eine Großmutter von über 100 Jahren? Anja Fritzsche hat gleich zwei: Oma Maria ist 108 und liebt Facebook und das Internet\, Oma Mia ist 101 und liebt schnelle Autos und Motorräder – beide sind phänomenal und halten die Familie ständig auf Trab. Außerdem zeigen sie\, wie herzerfrischend und heiter das Leben auch im hohen Alter sein kann\, zumindest wenn man eine Portion Lebensfreude mitbringt.  Enkelin Anja erzählt mit viel Humor und umwerfendem Charme vom lustigen Alltag mit den beiden – und verrät nebenbei noch Oma Marias beste Kochrezepte. \nDie Münchner Bestsellerautorin Anja Fritzsche erzählt in ihrer Lesung aus dem Buch „Spätzchen\, 109 ist   doch  kein Alter“ (erschienen Juni 2022) amüsante Anekdoten aus dem Generationenleben und Gedanken zu den Chancen beim Älterwerden. Moderiert von Sabine L. Distler\, Curatorium Altern gestalten.\n\nDie kostenfreie Lesung ist ein Programmpunkt in der Langen Nacht der Demokratie am 2.10.2022 von 16-17 Uhr\, die am Gewerbemuseumsplatz am Bildungszentrum Nürnberg stattfindet.  \n  \n  \n\n\n\nZur Anmeldung
URL:https://www.alterngestalten.de/event/lesung/
LOCATION:Bildungszentrum\, Gewerbemuseumsplatz 1\, Nürnberg\, 90403
CATEGORIES:ALLE PROJEKTE,ARBEIT & EHRENAMT,WISSENSCHAFT & GENERATIONEN
ATTACH;FMTTYPE=image/jpeg:https://www.alterngestalten.de/wp-content/uploads/2022/09/fittosize_180_0_592fd1d553216a24b65160c3737b8611_titelbild_demokratie.jpg
ORGANIZER;CN="Curatorium Altern gestalten":MAILTO:info@alterngestalten.de
END:VEVENT
END:VCALENDAR