BEGIN:VCALENDAR
VERSION:2.0
PRODID:-//alterngestalten.de - ECPv6.8.3//NONSGML v1.0//EN
CALSCALE:GREGORIAN
METHOD:PUBLISH
X-WR-CALNAME:alterngestalten.de
X-ORIGINAL-URL:https://www.alterngestalten.de
X-WR-CALDESC:Veranstaltungen für alterngestalten.de
REFRESH-INTERVAL;VALUE=DURATION:PT1H
X-Robots-Tag:noindex
X-PUBLISHED-TTL:PT1H
BEGIN:VTIMEZONE
TZID:Europe/Berlin
BEGIN:DAYLIGHT
TZOFFSETFROM:+0100
TZOFFSETTO:+0200
TZNAME:CEST
DTSTART:20220327T010000
END:DAYLIGHT
BEGIN:STANDARD
TZOFFSETFROM:+0200
TZOFFSETTO:+0100
TZNAME:CET
DTSTART:20221030T010000
END:STANDARD
END:VTIMEZONE
BEGIN:VEVENT
DTSTART;TZID=Europe/Berlin:20220722T100000
DTEND;TZID=Europe/Berlin:20220722T140000
DTSTAMP:20260424T135219
CREATED:20220410T000008Z
LAST-MODIFIED:20220410T000008Z
UID:2120-1658484000-1658498400@www.alterngestalten.de
SUMMARY:Nürnberger Engagementtag Nr.10
DESCRIPTION:Engagementtag Nr.10- Barrieren abbauen in der Freiwilligenarbeit \nDie Kooperationspartner: Stadt Nürnberg\, Zentrum Aktiver Bürger und Curatorium Altern gestalten haben 3 interessante Workshops für Sie zusammengestellt. Sie können den gesamten Tag (10-14 Uhr) oder einzelne Workshops buchen. Wir freuen uns auf Ihren Besuch vor Ort im KLARA\, dem neuen Zentrum für Beratung & Engagement in Nürnberg oder als digitaler Gast! \nProgramm: \nWorkshop 1- 10-11 Uhr \nEngagement von Menschen mit psychischen Beeinträchtigungen – so kann es gelingen! \nReferentin: Anne Wölfel\, Sozialpädagogin B.A.\nKlinik für Psychiatrie und Psychotherapie\, Klinikum Nürnberg Nord \nFür Menschen mit psychischen Beeinträchtigungen kann ein ehrenamtliches Engagement ein wichtiger Schritt auf dem Weg zu mehr Selbständigkeit und Akzeptanz und zu besserer Lebens-qualität sein. Im Engagement werden sie nicht als Hilfesuchende sondern als wertvolle Hilfe wahrgenommen. Sie bringen ihre Stärken und Erfahrungen ein\, knüpfen soziale Kontakte und erleben Sinn und Anerkennung. Wie kann diese Win-Win-Situation gelingen? \n************************************************************************* \nWorkshop 2- 11.30 – 12.30 Uhr \n Sags einfach – Einfache Sprache als Chance für Ihre Organisation \nReferentin: Dr. Beate Wittich\, Freiwilligenkoordinatorin -Zentrum Aktiver Bürger \nDie derzeitigen Strukturen verweigern einer großen Anzahl von Menschen\, die Schwierigkeiten beim Lesen\, Schreiben und Verstehen haben\, den Zugang zu Informationen. Die Gründe\, warum Menschen Lese-\, Schreib- und Verständnisprobleme haben\, sind dabei sehr verschieden. Im Workshop geben wir einen ersten Überblick wie mit einfachen Regeln die Inhalte und Angebote Ihrer Organisation besser verstanden werden. \n*********************************************************************** \nWorkshop 3 – 13-14 Uhr \nÜ65 – Geragogische Aspekte für Weiterbildung & Engagement im Alter \nReferentIn: Sabine L. Distler\, Dipl. Psy.gerontologin univ. & Georg Weigl\, Gerontologe M.Sc.\, Curatorium Altern gestalten \nEhrenamt im Alter ist eine hervorragende Aufgabe. Nicht nur die Gesellschaft profitiert vom Erfahrungswissen Älterer\, auch die Personen selbst erfahren hohen Nutzen: das subjektive Wohlbefinden wird gesteigert\, und der objektive Gesundheitszustand verbessert sich. Um das Engagement und Lernen von Älteren zu erleichtern\, setzt förderliche Zugangs- und Beteiligungschancen voraus. Wir geben Ihnen Tipps für eine stark wachsende Engagementgruppe. \n************************************************************************ \nDie Veranstaltung ist kostenfrei und hybrid. Getränke in den Networking Pausen stehen zur Verfügung. 20 Plätze sind vor Ort im KLARA\, Zentrum für Engagement & Beratung\, Klaragasse 3\, 90402 Nürnberg. Sie können sich für die gesamte Veranstaltung und für die einzelnen Workshops vor Ort oder digital anmelden. \nHier nochmal die Anmeldeoptionen im Überblick –> Anmeldung oder per Mail: KLARA@stadt.nuernberg.de \nEine Kooperationsveranstaltung der Stadt Nürnberg\, Bürgerschaftliches Engagement\, Zentrum Aktiver Bürger und Curatorium Altern gestalten \nHier gehts zum ProgrammAnmeldung im KLARA oder zur Onlineteilnahme
URL:https://www.alterngestalten.de/event/engagementtagnr10-2/
LOCATION:Cafeteria Heilig Geist\, Spitalgasse 22\, Nürnberg\, 90403
CATEGORIES:ALLE PROJEKTE,ARBEIT & EHRENAMT
ATTACH;FMTTYPE=image/jpeg:https://www.alterngestalten.de/wp-content/uploads/2021/08/logo-Warmstart-03.jpg
END:VEVENT
END:VCALENDAR