BEGIN:VCALENDAR
VERSION:2.0
PRODID:-//alterngestalten.de - ECPv6.8.3//NONSGML v1.0//EN
CALSCALE:GREGORIAN
METHOD:PUBLISH
X-WR-CALNAME:alterngestalten.de
X-ORIGINAL-URL:https://www.alterngestalten.de
X-WR-CALDESC:Veranstaltungen für alterngestalten.de
REFRESH-INTERVAL;VALUE=DURATION:PT1H
X-Robots-Tag:noindex
X-PUBLISHED-TTL:PT1H
BEGIN:VTIMEZONE
TZID:Europe/Berlin
BEGIN:DAYLIGHT
TZOFFSETFROM:+0100
TZOFFSETTO:+0200
TZNAME:CEST
DTSTART:20220327T010000
END:DAYLIGHT
BEGIN:STANDARD
TZOFFSETFROM:+0200
TZOFFSETTO:+0100
TZNAME:CET
DTSTART:20221030T010000
END:STANDARD
END:VTIMEZONE
BEGIN:VEVENT
DTSTART;VALUE=DATE:20220307
DTEND;VALUE=DATE:20220403
DTSTAMP:20260424T105015
CREATED:20210908T082608Z
LAST-MODIFIED:20220126T142416Z
UID:1507-1646611200-1648943999@www.alterngestalten.de
SUMMARY:Weiterbildung für ehrenamtliche Kulturpat:innen in Nürnberg und Umgebung
DESCRIPTION:Gesucht werden Kulturpatinnen und -paten für Nürnberg und Umgebung \nCuratorium Altern gestalten startet mit dem erfolgreichen Projekt „Kulturpaten & Kulturgäste“ in eine dritte Runde. Auf Grund der vemehrten Nachfrage von Senioren nach Begleitungen zu Kultur- und Alltagsveranstaltungen\, werden im März 2022 weitere ehrenamtliche Kulturpatinnen und Kulturpaten kostenfrei weitergebildet. Wir suchen Bürgerinnen und Bürger jeden Alters\, die ihre Freizeitgestaltung mit einem Ehrenamt verbinden und sich dem Kulturnetzwerk von anderen Engagierten anschließen möchten. \n“Kulturpaten und Kulturgäste sind feste Tandems für viele gemeinsame Kulturerlebnisse. In der Weiterbildung werden Sie gut vorbereitet\, um sich selbst sicher zu fühlen\, Selbstvertrauen zu gewinnen und nicht zuletzt auch Spaß und Freude bei der Ausübung eines Ehrenamtes zu haben.” (Georg Weigl\, Altern gestalten) \nDie genauen Termine im März stehen noch nicht fest. Wer mehr über die Weiterbildung erfahren möchte\, kann sich in einer von drei unverbindlichen Online-Informationsveranstaltungen  vorab darüber informieren und bei der Terminfindung mitsprechen: \n\nFreitag\, 28.1.22\, 11:00 Uhr bis 11:45 Uhr \nMontag\, 7.2.2022\, 18:00 Uhr bis 18.45 Uhr \nMittwoch\, 23.2.2022\, 16:00 Uhr bis 16:45 Uhr\n\nIn der Weiterbildung (5 x 3 UE im März 2022) referieren Gerontolog*innen und Fachkräfte aus der Praxis der Seniorenarbeit. Die Teilnehmerzahl ist auf 16 Personen begrenzt.  Alle Kursteilnehmer*innen erhalten Kursunterlagen. Die Teilnahme ist kostenfrei.\nTechnische Voraussetzungen: Smartphone\, Tablet oder PC. Bei Fragen stehen wir gerne im Vorfeld telefonisch zur Verfügung: 09152-92 88 400. Den Zugangslink zum Kurs und den Kursplan versenden wir rechtzeitig vor Kursbeginn. \nEin Kooperationsprojekt im Rahmen des Kompetenz- und Netzwerkprogramm “Warmstart ins aktive Alter”\, Stabsstelle Bürgerschaftliches Engagement &  Seniorenamt Stadt Nürnberg\, Curatorium Altern gestalten und ZAB.  Gefördert durch die Deutsche Stiftung für Engagement und Ehrenamt (DSEE). \n\n\n\n    Interessensbekundung für den Onlinekurs
URL:https://www.alterngestalten.de/event/kulturpatennuernberg-3/
LOCATION:Digital in ZOOM\, Deutschland
CATEGORIES:ALLE PROJEKTE,ARBEIT & EHRENAMT,KUNST & KULTUR
ATTACH;FMTTYPE=image/png:https://www.alterngestalten.de/wp-content/uploads/2021/09/1-3.png
ORGANIZER;CN="Curatorium Altern gestalten":MAILTO:info@alterngestalten.de
END:VEVENT
BEGIN:VEVENT
DTSTART;TZID=Europe/Berlin:20220331T160000
DTEND;TZID=Europe/Berlin:20220331T183000
DTSTAMP:20260424T105015
CREATED:20210808T080016Z
LAST-MODIFIED:20220212T184153Z
UID:1683-1648742400-1648751400@www.alterngestalten.de
SUMMARY:FILM & Älterwerden: Altersbilder in den Medien
DESCRIPTION:Die Abbildung älterer Menschen in den Medien bestimmt in starkem Maße unsere gesellschaftlichen und persönlichen Altersbilder. Wie werden ältere Menschen in den Medien dargestellt? Eine Diskussion über die Überschreitung ethischer Grenzen\, wie und ob diese überhaupt festzulegen sind\, und ob Möglichkeiten einer offiziellen Kritik oder gar Rüge bei bestimmten Darstellungen von Altersbildern überhaupt sinnvoll sind. \nDie Workshopleiterin ist Dagmar Wagner – eine echte Expertin in Sachen Film & Alter. Sie ist Kommunikationswissenschaftlerin\, Dokumentarfilmerin\, Biografin & angehende Gerontologin. Die Dozentin und Regisseurin des erfolgreichen Films „Ü100“  gibt folgendes Versprechen: \n\nLassen Sie sich anstecken\, in die spannenden Themen rund um die Filmwelt und dem Älterwerden mit mir einzutauchen. Ich kann Ihnen versprechen: Humor und Spaß kommen nicht zu kurz! \n\nErfahren Sie mehr über Dagmar Wagner.  \nWer kann teilnehmen? Eingeladen sind Interessierte und engagierte Bürger*innen 60plus aus dem gesamten Bundesgebiet. \nWas erwartet Sie? Theoretischer Impulsvortrag\, Medieneinsatz (Kurzfilm\, Ausschnitte\, etc.)\, Kleingruppenarbeit\, offene Diskussion. \nWie ist der zeitliche Ablauf? Die 3-stündigen Workshops finden werktags digital (ZOOM) von 16.00 -18.30 Uhr statt. Im Anschluss der Workshops von 18.30 – 19.00 Uhr besteht die Möglichkeit des Austauschs und der Vernetzung. \nDie virtuellen Plätze sind begrenzt. Melden Sie sich gleich zum kostenlosen Workshop an:AnmeldungDie Bildungsreihe FILM & Älterwerden wird
URL:https://www.alterngestalten.de/event/filmworkshop2/
LOCATION:Digital in ZOOM\, Deutschland
CATEGORIES:ALLE PROJEKTE,MEDIEN & FILM
ATTACH;FMTTYPE=image/png:https://www.alterngestalten.de/wp-content/uploads/2022/02/Film2.png
ORGANIZER;CN="Curatorium Altern gestalten":MAILTO:info@alterngestalten.de
END:VEVENT
END:VCALENDAR