BEGIN:VCALENDAR
VERSION:2.0
PRODID:-//alterngestalten.de - ECPv6.8.3//NONSGML v1.0//EN
CALSCALE:GREGORIAN
METHOD:PUBLISH
X-WR-CALNAME:alterngestalten.de
X-ORIGINAL-URL:https://www.alterngestalten.de
X-WR-CALDESC:Veranstaltungen für alterngestalten.de
REFRESH-INTERVAL;VALUE=DURATION:PT1H
X-Robots-Tag:noindex
X-PUBLISHED-TTL:PT1H
BEGIN:VTIMEZONE
TZID:Europe/Berlin
BEGIN:DAYLIGHT
TZOFFSETFROM:+0100
TZOFFSETTO:+0200
TZNAME:CEST
DTSTART:20210328T010000
END:DAYLIGHT
BEGIN:STANDARD
TZOFFSETFROM:+0200
TZOFFSETTO:+0100
TZNAME:CET
DTSTART:20211031T010000
END:STANDARD
END:VTIMEZONE
BEGIN:VEVENT
DTSTART;VALUE=DATE:20211109
DTEND;VALUE=DATE:20211202
DTSTAMP:20260425T160651
CREATED:20210908T082608Z
LAST-MODIFIED:20211029T000849Z
UID:1476-1636416000-1638403199@www.alterngestalten.de
SUMMARY:Weiterbildung für ehrenamtliche Kulturpat:innen in Kulmbach und Umgebung
DESCRIPTION:KulturpatInnen für Kulmbach und Umgebung \nDas Demografie Kompetenzzentrum Oberfranken (DemKo)\, der Landkreis Kulmbach (Koordinierungszentrum Bürgerschaftliches Engagement- KoBE) und Curatorium Altern gestalten startet ein generationenverbindendes Kulturnetzwerk  in Oberfranken. Das neue Projekt GenussKultur – Kulinarische Erinnerungen entdecken wird pilothaft für Oberfranken vorangehen. Ein Engagement für Bürgerinnen und Bürger jeden Alters\, die ihre Freizeitgestaltung mit einem Ehrenamt verbinden möchten. \n“Wir werden immer älter: Das ist erfreulich! Und es ist wunderbar\, dass es eine Generation „Silber“ gibt\, die aktiv und selbstbewusst ist wie nie zuvor. Kulturpaten begleiten sie auf Wunsch zu Veranstaltungen und engagieren sich damit für mehr kulturelle Teilhabe. ” (Klaus Söllner\, Landrat) \nKostenlos zum Kulturpaten/zur Kulturpatin ausbilden lassen\nEin zentraler Baustein des Projekt es\, die ehrenamtlich engagierten Bürgerinnen und Bürger im Rahmen einer Schulung auszubilden. Der mehrtägige Online Kurs vermittelt unter anderen Wissen über das Krankheitsbild Demenz\, alterssensible Veranstaltungen und die Organisation von Kulturbesuchen. Die Teilnehmerinnen und Teilnehmer werden nach dem Kurs zertifiziert. In der Weiterbildung (5 x 3 UE im November 21) referieren Gerontolog*innen und Fachkräfte aus der Praxis der Seniorenarbeit.  Alle Kursteilnehmer*innen erhalten Kursunterlagen. Die Teilnahme ist kostenfrei.\nTechnische Voraussetzungen: Smartphone\, Tablet oder PC. Den Zugangslink zum Kurs versenden wir rechtzeitig vor Kursbeginn. \nDer Online Kurs findet an 5 Tagen im November (9.11.\, 11.11.\, 16.11.\, 18.11. und 23.11.21) um 16-18.30 Uhr statt. Am 1.12.2021\, ab 14 Uhr erfolgt die Zertifikatsübergabe vor Ort in den Museen im Kulmbacher Mönchshof. \nSeien Sie von Anfang bei diesem herausragenden Kooperationsprojekt dabei. \nErkundigen Sie sich hier über Inhalte & Termine und melden Sie sich für die Weiterbildung an.\n\n\n\n    Termine\, Inhalte & Anmeldung für die Weiterbildung
URL:https://www.alterngestalten.de/event/infonuernberg-2-2/
LOCATION:Digital in ZOOM\, Deutschland
CATEGORIES:ALLE PROJEKTE,KUNST & KULTUR
ATTACH;FMTTYPE=image/png:https://www.alterngestalten.de/wp-content/uploads/2021/09/Website.png
ORGANIZER;CN="Demografie Kompetenzzentrum Oberfranken":MAILTO:info@demografie-oberfranken.de
END:VEVENT
BEGIN:VEVENT
DTSTART;VALUE=DATE:20211112
DTEND;VALUE=DATE:20211127
DTSTAMP:20260425T160651
CREATED:20210908T082608Z
LAST-MODIFIED:20210908T082608Z
UID:1591-1636675200-1637971199@www.alterngestalten.de
SUMMARY:Weiterbildung für ehrenamtliche Kulturpat:innen in Nürnberg und Umgebung
DESCRIPTION:Gesucht werden 16 KulturpatInnen für Nürnberg und Umgebung \nCuratorium Altern gestalten startet mit dem erfolgreichen Projekt „Kulturpaten & Kulturgäste“ in eine zweite Runde. Auf Grund der hohen Nachfrage von Senioren nach Begleitungen zu Kultur- und Alltagsveranstaltungen\, werden im November 2021 weitere ehrenamtliche Kulturpatinnen und Kulturpaten kostenfrei weitergebildet. Im Vorfeld finden hierzu Informationsveranstaltungen statt. Es werden Bürgerinnen und Bürger jeden Alters gesucht\, die ihre Freizeitgestaltung mit einem Ehrenamt verbinden möchten. \n“Kulturpaten und Kulturgäste sind feste Tandems für viele gemeinsame Kulturerlebnisse. In der Weiterbildung werden Sie gut vorbereitet\, um sich selbst sicher zu fühlen\, Selbstvertrauen zu gewinnen und nicht zuletzt auch Spaß und Freude bei der Ausübung eines Ehrenamtes zu haben.” (Georg Weigl\, Altern gestalten) \nWer mehr über die Weiterbildung im November erfahren möchte\, kann sich in einer von drei unverbindlichen Online-Informationsveranstaltungen  vorab darüber informieren: \n\nFreitag\, 29.10.21\, 16:00 Uhr bis 16:45 Uhr \nDienstag\, 02.11.2021\, 18:30 Uhr bis 19:15 Uhr \nMontag\, 08.11.21\, 17:00 Uhr bis 17:45 Uhr\n\nIn der Weiterbildung (5 x 3 UE im November 21) referieren Gerontolog*innen und Fachkräfte aus der Praxis der Seniorenarbeit. Die Teilnehmerzahl ist auf 16 Personen begrenzt.  Alle Kursteilnehmer*innen erhalten Kursunterlagen. Die Teilnahme ist kostenfrei.\nTechnische Voraussetzungen: Smartphone\, Tablet oder PC. Bei Fragen stehen wir gerne im Vorfeld telefonisch zur Verfügung: 09152-92 88 400. Den Zugangslink zum Kurs und den Kursplan versenden wir rechtzeitig vor Kursbeginn. \nEin Kooperationsprojekt im Rahmen des Kompetenz- und Netzwerkprogramm “Warmstart ins aktive Alter”\, Stabsstelle Bürgerschaftliches Engagement &  Seniorenamt Stadt Nürnberg\, Curatorium Altern gestalten und ZAB. Gefördert durch die Deutsche Stiftung für Engagement und Ehrenamt (DSEE). \nErkundigen Sie sich hier über Inhalte & Termine und melden Sie sich für die Weiterbildung an. \n\n\n\n   Termine\, Inhalte & Anmeldung zur Weiterbildung
URL:https://www.alterngestalten.de/event/kulturpatennuernberg-2-2/
LOCATION:Digital in ZOOM\, Deutschland
CATEGORIES:ALLE PROJEKTE,ARBEIT & EHRENAMT,KUNST & KULTUR
ATTACH;FMTTYPE=image/jpeg:https://www.alterngestalten.de/wp-content/uploads/2021/09/Silberfilm_21-09-23_67A8686-scaled.jpg
ORGANIZER;CN="Curatorium Altern gestalten":MAILTO:info@alterngestalten.de
END:VEVENT
END:VCALENDAR