BEGIN:VCALENDAR
VERSION:2.0
PRODID:-//alterngestalten.de - ECPv6.8.3//NONSGML v1.0//EN
CALSCALE:GREGORIAN
METHOD:PUBLISH
X-WR-CALNAME:alterngestalten.de
X-ORIGINAL-URL:https://www.alterngestalten.de
X-WR-CALDESC:Veranstaltungen für alterngestalten.de
REFRESH-INTERVAL;VALUE=DURATION:PT1H
X-Robots-Tag:noindex
X-PUBLISHED-TTL:PT1H
BEGIN:VTIMEZONE
TZID:Europe/Berlin
BEGIN:DAYLIGHT
TZOFFSETFROM:+0100
TZOFFSETTO:+0200
TZNAME:CEST
DTSTART:20210328T010000
END:DAYLIGHT
BEGIN:STANDARD
TZOFFSETFROM:+0200
TZOFFSETTO:+0100
TZNAME:CET
DTSTART:20211031T010000
END:STANDARD
END:VTIMEZONE
BEGIN:VEVENT
DTSTART;TZID=Europe/Berlin:20211108T170000
DTEND;TZID=Europe/Berlin:20211108T174500
DTSTAMP:20260425T160720
CREATED:20210908T082608Z
LAST-MODIFIED:20210908T082608Z
UID:1480-1636390800-1636393500@www.alterngestalten.de
SUMMARY:Kulturpate / Kulturpatin werden in Nürnberg und in der Region
DESCRIPTION:Infoveranstaltung Online\nDie 45-minütige Informationsveranstaltung ist für Bürger*innen\, die sich für eine ehrenamtliche Tätigkeit als Kulturpate/Kulturpatin in Nürnberg und Umgebung interessieren. Neben ersten Grundinformationen zum Ehrenamt stellen wir den Ablauf und die Inhalte der im November 2021 geplanten Online Schulung “zur Kulturpatin/ zum Kulturpaten” vor.\nSie haben die Möglichkeit\, individuelle Fragen einzubringen. Die Teilnahme an der Veranstaltung ist kostenfrei und unverbindlich. \nDie Veranstaltung findet online per ZOOM statt. Technische Voraussetzungen: Smartphone\, Tablet oder PC. Auch per Telefon ist eine Teilnahme möglich. Den Link zur Veranstaltung erhalten Sie nach der Buchung. \n\nLernen Sie dieses neue Engagement und andere Kulturpatinnen und -paten kennen. Helfen Sie künftig mit\, dass der Besuch von Kulturveranstaltungen in Nürnberg und der Region auch im höheren  Alter normal und möglich wird.\n\nMelden Sie gleich hier zur digitalen Infoveranstaltung an. Wir freuen uns auf Sie! \nIhr Georg Weigl (Curatorium Altern gestalten) \n\n\n\n   zur Infoveranstaltung anmelden
URL:https://www.alterngestalten.de/event/infonuernberg-2-2-2/
LOCATION:Digital in ZOOM\, Deutschland
CATEGORIES:ALLE PROJEKTE,KUNST & KULTUR
ATTACH;FMTTYPE=image/png:https://www.alterngestalten.de/wp-content/uploads/2021/09/21_infoveranstaltung-2.png
ORGANIZER;CN="Curatorium Altern gestalten":MAILTO:info@alterngestalten.de
END:VEVENT
BEGIN:VEVENT
DTSTART;TZID=Europe/Berlin:20211108T180000
DTEND;TZID=Europe/Berlin:20211108T184500
DTSTAMP:20260425T160720
CREATED:20210908T082608Z
LAST-MODIFIED:20210908T082608Z
UID:1908-1636394400-1636397100@www.alterngestalten.de
SUMMARY:Kulturpate werden in Kulmbach und Umgebung
DESCRIPTION:Infoveranstaltung Online\nDie 45-minütige Informationsveranstaltung ist für Bürger*innen\, die sich für eine ehrenamtliche Tätigkeit als Kulturpate/Kulturpatin in Kulmbach und Umgebung interessieren. Neben ersten Grundinformationen zum Ehrenamt stellen wir den Ablauf und die Inhalte der im November 2021 geplanten Online Schulung “zur Kulturpatin/ zum Kulturpaten” vor.\nSie haben die Möglichkeit\, individuelle Fragen einzubringen. Die Teilnahme an der Veranstaltung ist kostenfrei und unverbindlich. \nDie Veranstaltung findet online per ZOOM statt. Technische Voraussetzungen: Smartphone\, Tablet oder PC. Auch per Telefon ist eine Teilnahme möglich. Den Link zur Veranstaltung erhalten Sie nach der Buchung. \nBei Fragen steht Ihnen gerne im Vorfeld Frau Söllner (Landkreis Kulmbach\, Bürgerschaftliches Engagement) telefonisch zur Verfügung: 09221-707-150 und informieren Sie sich auf der Homepage www.landkreis-kulmbach.de/engagiert. \n\nLernen Sie dieses neue Engagement und das Projektteam kennen. Helfen Sie künftig mit\, dass der Besuch von Kulturveranstaltungen in Oberfranken auch im höheren Alter normal und möglich wird.\n\nWir freuen uns auf Sie! \nSandra Wolf (Demografie Kompetenzzentrum Oberfranken)\nHeike Söllner (Landratsamt Kulmbach)\nGeorg Weigl (Curatorium Altern gestalten) \n\n\n\n    Für die Infoveranstaltung anmeldenFlyer: Kulturpaten in Kulmbach und UmgebungMehr dazu: Demografie OberfrankenMehr dazu: Landratsamt Kulmbach
URL:https://www.alterngestalten.de/event/infokulmbach-2-2-3/
LOCATION:Digital in ZOOM\, Deutschland
CATEGORIES:ALLE PROJEKTE,KUNST & KULTUR
ATTACH;FMTTYPE=image/png:https://www.alterngestalten.de/wp-content/uploads/2021/09/Website.png
ORGANIZER;CN="Demografie Kompetenzzentrum Oberfranken":MAILTO:info@demografie-oberfranken.de
END:VEVENT
END:VCALENDAR